BEGIN:VCALENDAR
VERSION:2.0
PRODID:-//Shelly Beach Golf Club - ECPv6.15.18//NONSGML v1.0//EN
CALSCALE:GREGORIAN
METHOD:PUBLISH
X-ORIGINAL-URL:https://www.shellybeachgolfclub.com.au
X-WR-CALDESC:Events for Shelly Beach Golf Club
REFRESH-INTERVAL;VALUE=DURATION:PT1H
X-Robots-Tag:noindex
X-PUBLISHED-TTL:PT1H
BEGIN:VTIMEZONE
TZID:Australia/Sydney
BEGIN:STANDARD
TZOFFSETFROM:+1100
TZOFFSETTO:+1000
TZNAME:AEST
DTSTART:20230401T160000
END:STANDARD
BEGIN:DAYLIGHT
TZOFFSETFROM:+1000
TZOFFSETTO:+1100
TZNAME:AEDT
DTSTART:20230930T160000
END:DAYLIGHT
BEGIN:STANDARD
TZOFFSETFROM:+1100
TZOFFSETTO:+1000
TZNAME:AEST
DTSTART:20240406T160000
END:STANDARD
BEGIN:DAYLIGHT
TZOFFSETFROM:+1000
TZOFFSETTO:+1100
TZNAME:AEDT
DTSTART:20241005T160000
END:DAYLIGHT
BEGIN:STANDARD
TZOFFSETFROM:+1100
TZOFFSETTO:+1000
TZNAME:AEST
DTSTART:20250405T160000
END:STANDARD
BEGIN:DAYLIGHT
TZOFFSETFROM:+1000
TZOFFSETTO:+1100
TZNAME:AEDT
DTSTART:20251004T160000
END:DAYLIGHT
END:VTIMEZONE
BEGIN:VEVENT
DTSTART;TZID=Australia/Sydney:20240601T060000
DTEND;TZID=Australia/Sydney:20240601T060000
DTSTAMP:20260421T014215
CREATED:20230609T023647Z
LAST-MODIFIED:20230609T023655Z
UID:40346-1717221600-1717221600@www.shellybeachgolfclub.com.au
SUMMARY:Men & Women Individual Stableford plus Men/Medley 2BBB
DESCRIPTION:
URL:https://www.shellybeachgolfclub.com.au/golf-program/men-women-individual-stableford-plus-men-medley-2bbb-4/
LOCATION:SBGC
CATEGORIES:Mens / Mixed Club Events
END:VEVENT
BEGIN:VEVENT
DTSTART;TZID=Australia/Sydney:20240601T060000
DTEND;TZID=Australia/Sydney:20240601T060000
DTSTAMP:20260421T014215
CREATED:20230609T023723Z
LAST-MODIFIED:20230609T023733Z
UID:40348-1717221600-1717221600@www.shellybeachgolfclub.com.au
SUMMARY:Women's Monthly Goblet & Medal
DESCRIPTION:(Red Tees)
URL:https://www.shellybeachgolfclub.com.au/golf-program/womens-monthly-goblet-medal-15/
LOCATION:SBGC
CATEGORIES:Ladies Events
END:VEVENT
BEGIN:VEVENT
DTSTART;TZID=Australia/Sydney:20240602T060000
DTEND;TZID=Australia/Sydney:20240602T060000
DTSTAMP:20260421T014215
CREATED:20230609T023857Z
LAST-MODIFIED:20230609T023908Z
UID:40350-1717308000-1717308000@www.shellybeachgolfclub.com.au
SUMMARY:Men's Monthly Medal. Individual Stroke. 3 Grades
DESCRIPTION:
URL:https://www.shellybeachgolfclub.com.au/golf-program/mens-monthly-medal-individual-stroke-3-grades-2/
LOCATION:SBGC
CATEGORIES:Mens / Mixed Club Events
END:VEVENT
BEGIN:VEVENT
DTSTART;TZID=Australia/Sydney:20240602T060000
DTEND;TZID=Australia/Sydney:20240602T060000
DTSTAMP:20260421T014215
CREATED:20230609T023935Z
LAST-MODIFIED:20230609T023944Z
UID:40352-1717308000-1717308000@www.shellybeachgolfclub.com.au
SUMMARY:R.J. NICOL SALVER
DESCRIPTION:
URL:https://www.shellybeachgolfclub.com.au/golf-program/r-j-nicol-salver-2/
LOCATION:SBGC
CATEGORIES:Mens / Mixed Club Events
END:VEVENT
BEGIN:VEVENT
DTSTART;TZID=Australia/Sydney:20240602T060000
DTEND;TZID=Australia/Sydney:20240602T060000
DTSTAMP:20260421T014215
CREATED:20230609T024007Z
LAST-MODIFIED:20230609T024015Z
UID:40354-1717308000-1717308000@www.shellybeachgolfclub.com.au
SUMMARY:Women's Individual Stableford
DESCRIPTION:
URL:https://www.shellybeachgolfclub.com.au/golf-program/womens-individual-stableford-22/
LOCATION:SBGC
CATEGORIES:Ladies Events
END:VEVENT
BEGIN:VEVENT
DTSTART;TZID=Australia/Sydney:20240603T060000
DTEND;TZID=Australia/Sydney:20240603T060000
DTSTAMP:20260421T014215
CREATED:20230609T024048Z
LAST-MODIFIED:20230609T024057Z
UID:40356-1717394400-1717394400@www.shellybeachgolfclub.com.au
SUMMARY:Mad Monday Medley Individual Stableford
DESCRIPTION:
URL:https://www.shellybeachgolfclub.com.au/golf-program/mad-monday-medley-individual-stableford-7/
LOCATION:SBGC
CATEGORIES:Mens / Mixed Club Events
END:VEVENT
BEGIN:VEVENT
DTSTART;TZID=Australia/Sydney:20240603T060000
DTEND;TZID=Australia/Sydney:20240603T060000
DTSTAMP:20260421T014215
CREATED:20240314T040136Z
LAST-MODIFIED:20240314T040150Z
UID:51279-1717394400-1717394400@www.shellybeachgolfclub.com.au
SUMMARY:CCWGA Pennants at Toukley
DESCRIPTION:
URL:https://www.shellybeachgolfclub.com.au/golf-program/ccwga-pennants-at-toukley/
CATEGORIES:Ladies Events
END:VEVENT
BEGIN:VEVENT
DTSTART;TZID=Australia/Sydney:20240604T060000
DTEND;TZID=Australia/Sydney:20240604T060000
DTSTAMP:20260421T014215
CREATED:20230609T024131Z
LAST-MODIFIED:20230609T024139Z
UID:40358-1717480800-1717480800@www.shellybeachgolfclub.com.au
SUMMARY:Medley Individual Stableford 4 Grades plus Medley 2BBB
DESCRIPTION:
URL:https://www.shellybeachgolfclub.com.au/golf-program/medley-individual-stableford-4-grades-plus-medley-2bbb-33/
LOCATION:SBGC
CATEGORIES:Mens / Mixed Club Events
END:VEVENT
BEGIN:VEVENT
DTSTART;TZID=Australia/Sydney:20240605T060000
DTEND;TZID=Australia/Sydney:20240605T060000
DTSTAMP:20260421T014215
CREATED:20230609T025805Z
LAST-MODIFIED:20230609T025819Z
UID:40360-1717567200-1717567200@www.shellybeachgolfclub.com.au
SUMMARY:Golf NSW Medal No 5. Golf NSW Goodwill Plate
DESCRIPTION:(Red Tees)
URL:https://www.shellybeachgolfclub.com.au/golf-program/golf-nsw-medal-no-5-golf-nsw-goodwill-plate-2/
LOCATION:SBGC
CATEGORIES:Ladies Events
END:VEVENT
BEGIN:VEVENT
DTSTART;TZID=Australia/Sydney:20240606T060000
DTEND;TZID=Australia/Sydney:20240606T060000
DTSTAMP:20260421T014215
CREATED:20230609T025848Z
LAST-MODIFIED:20230609T025857Z
UID:40368-1717653600-1717653600@www.shellybeachgolfclub.com.au
SUMMARY:Individual Stableford 4 Grades plus 2B Aggregate
DESCRIPTION:
URL:https://www.shellybeachgolfclub.com.au/golf-program/individual-stableford-4-grades-plus-2b-aggregate-12/
LOCATION:SBGC
CATEGORIES:Mens / Mixed Club Events
END:VEVENT
BEGIN:VEVENT
DTSTART;TZID=Australia/Sydney:20240607T060000
DTEND;TZID=Australia/Sydney:20240607T060000
DTSTAMP:20260421T014215
CREATED:20230609T025947Z
LAST-MODIFIED:20230609T025957Z
UID:40371-1717740000-1717740000@www.shellybeachgolfclub.com.au
SUMMARY:Men's & Women's Individual Stableford
DESCRIPTION:
URL:https://www.shellybeachgolfclub.com.au/golf-program/mens-womens-individual-stableford-57/
LOCATION:SBGC
CATEGORIES:Mens / Mixed Club Events
END:VEVENT
BEGIN:VEVENT
DTSTART;TZID=Australia/Sydney:20240607T110000
DTEND;TZID=Australia/Sydney:20240607T110000
DTSTAMP:20260421T014215
CREATED:20230609T030023Z
LAST-MODIFIED:20230609T030032Z
UID:40373-1717758000-1717758000@www.shellybeachgolfclub.com.au
SUMMARY:Chook Run
DESCRIPTION:
URL:https://www.shellybeachgolfclub.com.au/golf-program/chook-run-63/
LOCATION:SBGC
CATEGORIES:Mens / Mixed Club Events
END:VEVENT
BEGIN:VEVENT
DTSTART;TZID=Australia/Sydney:20240608T060000
DTEND;TZID=Australia/Sydney:20240608T060000
DTSTAMP:20260421T014215
CREATED:20230609T030058Z
LAST-MODIFIED:20230609T030106Z
UID:40375-1717826400-1717826400@www.shellybeachgolfclub.com.au
SUMMARY:Individual Stableford Men & Women's plus Men/Medley 2B Aggregate
DESCRIPTION:
URL:https://www.shellybeachgolfclub.com.au/golf-program/individual-stableford-men-womens-plus-men-medley-2b-aggregate-18/
LOCATION:SBGC
CATEGORIES:Mens / Mixed Club Events
END:VEVENT
BEGIN:VEVENT
DTSTART;TZID=Australia/Sydney:20240608T060000
DTEND;TZID=Australia/Sydney:20240608T060000
DTSTAMP:20260421T014215
CREATED:20230609T030138Z
LAST-MODIFIED:20230609T030147Z
UID:40377-1717826400-1717826400@www.shellybeachgolfclub.com.au
SUMMARY:Junior Trophy
DESCRIPTION:
URL:https://www.shellybeachgolfclub.com.au/golf-program/junior-trophy-16/
LOCATION:SBGC
CATEGORIES:Cadet / Junior Events
END:VEVENT
BEGIN:VEVENT
DTSTART;TZID=Australia/Sydney:20240609T060000
DTEND;TZID=Australia/Sydney:20240609T060000
DTSTAMP:20260421T014215
CREATED:20230609T030216Z
LAST-MODIFIED:20230609T030223Z
UID:40379-1717912800-1717912800@www.shellybeachgolfclub.com.au
SUMMARY:Medley Individual Stableford plus Medley 2BBB + 2BBB Scratch
DESCRIPTION:
URL:https://www.shellybeachgolfclub.com.au/golf-program/medley-individual-stableford-plus-medley-2bbb-2bbb-scratch-16/
LOCATION:SBGC
CATEGORIES:Mens / Mixed Club Events
END:VEVENT
BEGIN:VEVENT
DTSTART;TZID=Australia/Sydney:20240610T060000
DTEND;TZID=Australia/Sydney:20240610T060000
DTSTAMP:20260421T014215
CREATED:20230609T030251Z
LAST-MODIFIED:20230609T030259Z
UID:40381-1717999200-1717999200@www.shellybeachgolfclub.com.au
SUMMARY:Mad Monday Medley Individual Stableford
DESCRIPTION:
URL:https://www.shellybeachgolfclub.com.au/golf-program/mad-monday-medley-individual-stableford-8/
LOCATION:SBGC
CATEGORIES:Mens / Mixed Club Events
END:VEVENT
BEGIN:VEVENT
DTSTART;TZID=Australia/Sydney:20240611T060000
DTEND;TZID=Australia/Sydney:20240611T060000
DTSTAMP:20260421T014215
CREATED:20230609T030324Z
LAST-MODIFIED:20230609T030332Z
UID:40383-1718085600-1718085600@www.shellybeachgolfclub.com.au
SUMMARY:Medley Individual Stableford 4 Grades plus Medley 2B Split 6's\, 1st 6 holes: 2BBB\, 2nd 6 holes: 2B Aggregate & 3rd 6 holes: 2B Multiplier
DESCRIPTION:
URL:https://www.shellybeachgolfclub.com.au/golf-program/medley-individual-stableford-4-grades-plus-medley-2b-split-6s-1st-6-holes-2bbb-2nd-6-holes-2b-aggregate-3rd-6-holes-2b-multiplier-5/
LOCATION:SBGC
CATEGORIES:Mens / Mixed Club Events
END:VEVENT
BEGIN:VEVENT
DTSTART;TZID=Australia/Sydney:20240612T060000
DTEND;TZID=Australia/Sydney:20240612T060000
DTSTAMP:20260421T014215
CREATED:20230609T030415Z
LAST-MODIFIED:20230609T030459Z
UID:40385-1718172000-1718172000@www.shellybeachgolfclub.com.au
SUMMARY:Individual Stableford. District Brooch No 5
DESCRIPTION:(Pink Tees)
URL:https://www.shellybeachgolfclub.com.au/golf-program/individual-stableford-district-brooch-no-5-2/
LOCATION:SBGC
CATEGORIES:Ladies Events
END:VEVENT
BEGIN:VEVENT
DTSTART;TZID=Australia/Sydney:20240612T060000
DTEND;TZID=Australia/Sydney:20240612T060000
DTSTAMP:20260421T014215
CREATED:20230609T030435Z
LAST-MODIFIED:20230609T030444Z
UID:40387-1718172000-1718172000@www.shellybeachgolfclub.com.au
SUMMARY:Qualifying for District Charity Day
DESCRIPTION:
URL:https://www.shellybeachgolfclub.com.au/golf-program/qualifying-for-district-charity-day-2/
LOCATION:SBGC
CATEGORIES:Ladies Events
END:VEVENT
BEGIN:VEVENT
DTSTART;TZID=Australia/Sydney:20240613T060000
DTEND;TZID=Australia/Sydney:20240613T060000
DTSTAMP:20260421T014215
CREATED:20230609T030524Z
LAST-MODIFIED:20230609T030535Z
UID:40389-1718258400-1718258400@www.shellybeachgolfclub.com.au
SUMMARY:Individual Stableford 4 Grades plus 2BBB
DESCRIPTION:
URL:https://www.shellybeachgolfclub.com.au/golf-program/individual-stableford-4-grades-plus-2bbb-26/
LOCATION:SBGC
CATEGORIES:Mens / Mixed Club Events
END:VEVENT
BEGIN:VEVENT
DTSTART;TZID=Australia/Sydney:20240614T060000
DTEND;TZID=Australia/Sydney:20240614T060000
DTSTAMP:20260421T014215
CREATED:20230609T030607Z
LAST-MODIFIED:20230609T030616Z
UID:40391-1718344800-1718344800@www.shellybeachgolfclub.com.au
SUMMARY:Men's & Women's Individual Stableford
DESCRIPTION:
URL:https://www.shellybeachgolfclub.com.au/golf-program/mens-womens-individual-stableford-58/
LOCATION:SBGC
CATEGORIES:Mens / Mixed Club Events
END:VEVENT
BEGIN:VEVENT
DTSTART;TZID=Australia/Sydney:20240614T110000
DTEND;TZID=Australia/Sydney:20240614T110000
DTSTAMP:20260421T014215
CREATED:20230609T030934Z
LAST-MODIFIED:20230609T030942Z
UID:40393-1718362800-1718362800@www.shellybeachgolfclub.com.au
SUMMARY:Chook Run
DESCRIPTION:
URL:https://www.shellybeachgolfclub.com.au/golf-program/chook-run-64/
LOCATION:SBGC
CATEGORIES:Mens / Mixed Club Events
END:VEVENT
BEGIN:VEVENT
DTSTART;TZID=Australia/Sydney:20240615T060000
DTEND;TZID=Australia/Sydney:20240615T060000
DTSTAMP:20260421T014215
CREATED:20230609T031237Z
LAST-MODIFIED:20230609T031258Z
UID:40395-1718431200-1718431200@www.shellybeachgolfclub.com.au
SUMMARY:Individual Stableford Men & Women's plus Men/Medley 2B Multiplier
DESCRIPTION:
URL:https://www.shellybeachgolfclub.com.au/golf-program/individual-stableford-men-womens-plus-men-medley-2b-multiplier-7/
LOCATION:SBGC
CATEGORIES:Mens / Mixed Club Events
END:VEVENT
BEGIN:VEVENT
DTSTART;TZID=Australia/Sydney:20240616T060000
DTEND;TZID=Australia/Sydney:20240616T060000
DTSTAMP:20260421T014215
CREATED:20230609T031336Z
LAST-MODIFIED:20230609T031419Z
UID:40397-1718517600-1718517600@www.shellybeachgolfclub.com.au
SUMMARY:Medley Individual Stableford plus Medley 2B Aggregate
DESCRIPTION:
URL:https://www.shellybeachgolfclub.com.au/golf-program/medley-individual-stableford-plus-medley-2b-aggregate-9/
LOCATION:SBGC
CATEGORIES:Mens / Mixed Club Events
END:VEVENT
BEGIN:VEVENT
DTSTART;TZID=Australia/Sydney:20240617T060000
DTEND;TZID=Australia/Sydney:20240617T060000
DTSTAMP:20260421T014215
CREATED:20230609T032026Z
LAST-MODIFIED:20230609T032034Z
UID:40401-1718604000-1718604000@www.shellybeachgolfclub.com.au
SUMMARY:Mad Monday Medley Individual Stableford
DESCRIPTION:
URL:https://www.shellybeachgolfclub.com.au/golf-program/mad-monday-medley-individual-stableford-9/
LOCATION:SBGC
CATEGORIES:Mens / Mixed Club Events
END:VEVENT
BEGIN:VEVENT
DTSTART;TZID=Australia/Sydney:20240617T060000
DTEND;TZID=Australia/Sydney:20240617T060000
DTSTAMP:20260421T014215
CREATED:20240314T035651Z
LAST-MODIFIED:20240314T035717Z
UID:51275-1718604000-1718604000@www.shellybeachgolfclub.com.au
SUMMARY:CCWGA Pennants at Gosford
DESCRIPTION:
URL:https://www.shellybeachgolfclub.com.au/golf-program/ccwga-pennants-at-gosford/
CATEGORIES:Ladies Events
END:VEVENT
BEGIN:VEVENT
DTSTART;TZID=Australia/Sydney:20240618T060000
DTEND;TZID=Australia/Sydney:20240618T060000
DTSTAMP:20260421T014215
CREATED:20230609T032111Z
LAST-MODIFIED:20230609T032119Z
UID:40404-1718690400-1718690400@www.shellybeachgolfclub.com.au
SUMMARY:Medley Individual Stableford 4 Grades plus Medley 2BBB
DESCRIPTION:
URL:https://www.shellybeachgolfclub.com.au/golf-program/medley-individual-stableford-4-grades-plus-medley-2bbb-34/
LOCATION:SBGC
CATEGORIES:Mens / Mixed Club Events
END:VEVENT
BEGIN:VEVENT
DTSTART;TZID=Australia/Sydney:20240619T060000
DTEND;TZID=Australia/Sydney:20240619T060000
DTSTAMP:20260421T014215
CREATED:20230609T021907Z
LAST-MODIFIED:20240517T012416Z
UID:40314-1718776800-1718776800@www.shellybeachgolfclub.com.au
SUMMARY:Foursomes Championships
DESCRIPTION:27 holes (Red Tees)\nDiv 1 ( Daily 0 – 26) 10th tee.\nDiv 2 (Daily 27 +) 1st tee
URL:https://www.shellybeachgolfclub.com.au/golf-program/foursomes-championships-2/
LOCATION:SBGC
CATEGORIES:Ladies Events
END:VEVENT
BEGIN:VEVENT
DTSTART;TZID=Australia/Sydney:20240620T060000
DTEND;TZID=Australia/Sydney:20240620T060000
DTSTAMP:20260421T014215
CREATED:20230609T032433Z
LAST-MODIFIED:20230609T032441Z
UID:40410-1718863200-1718863200@www.shellybeachgolfclub.com.au
SUMMARY:Individual Stableford. Monthly Mug. 4 Grades 1st\, 2nd\, 3rd & 4th Nett plus Overall Scratch
DESCRIPTION:
URL:https://www.shellybeachgolfclub.com.au/golf-program/individual-stableford-monthly-mug-4-grades-1st-2nd-3rd-4th-nett-plus-overall-scratch-16/
LOCATION:SBGC
CATEGORIES:Mens / Mixed Club Events
END:VEVENT
BEGIN:VEVENT
DTSTART;TZID=Australia/Sydney:20240621T060000
DTEND;TZID=Australia/Sydney:20240621T060000
DTSTAMP:20260421T014215
CREATED:20230609T032800Z
LAST-MODIFIED:20230609T032826Z
UID:40412-1718949600-1718949600@www.shellybeachgolfclub.com.au
SUMMARY:Men's & Women's Individual Stableford
DESCRIPTION:
URL:https://www.shellybeachgolfclub.com.au/golf-program/mens-womens-individual-stableford-59/
LOCATION:SBGC
CATEGORIES:Mens / Mixed Club Events
END:VEVENT
END:VCALENDAR