BEGIN:VCALENDAR
VERSION:2.0
PRODID:-//Shelly Beach Golf Club - ECPv6.15.18//NONSGML v1.0//EN
CALSCALE:GREGORIAN
METHOD:PUBLISH
X-ORIGINAL-URL:https://www.shellybeachgolfclub.com.au
X-WR-CALDESC:Events for Shelly Beach Golf Club
REFRESH-INTERVAL;VALUE=DURATION:PT1H
X-Robots-Tag:noindex
X-PUBLISHED-TTL:PT1H
BEGIN:VTIMEZONE
TZID:Australia/Sydney
BEGIN:STANDARD
TZOFFSETFROM:+1100
TZOFFSETTO:+1000
TZNAME:AEST
DTSTART:20230401T160000
END:STANDARD
BEGIN:DAYLIGHT
TZOFFSETFROM:+1000
TZOFFSETTO:+1100
TZNAME:AEDT
DTSTART:20230930T160000
END:DAYLIGHT
BEGIN:STANDARD
TZOFFSETFROM:+1100
TZOFFSETTO:+1000
TZNAME:AEST
DTSTART:20240406T160000
END:STANDARD
BEGIN:DAYLIGHT
TZOFFSETFROM:+1000
TZOFFSETTO:+1100
TZNAME:AEDT
DTSTART:20241005T160000
END:DAYLIGHT
BEGIN:STANDARD
TZOFFSETFROM:+1100
TZOFFSETTO:+1000
TZNAME:AEST
DTSTART:20250405T160000
END:STANDARD
BEGIN:DAYLIGHT
TZOFFSETFROM:+1000
TZOFFSETTO:+1100
TZNAME:AEDT
DTSTART:20251004T160000
END:DAYLIGHT
END:VTIMEZONE
BEGIN:VEVENT
DTSTART;TZID=Australia/Sydney:20240401T060000
DTEND;TZID=Australia/Sydney:20240401T060000
DTSTAMP:20260421T051506
CREATED:20230324T055336Z
LAST-MODIFIED:20230418T071158Z
UID:37565-1711951200-1711951200@www.shellybeachgolfclub.com.au
SUMMARY:Mad Monday Men’s & Women’s Individual Stableford
DESCRIPTION:Easter Monday
URL:https://www.shellybeachgolfclub.com.au/golf-program/mad-monday-mens-womens-individual-stableford-44/
LOCATION:SBGC
CATEGORIES:Mens / Mixed Club Events
END:VEVENT
BEGIN:VEVENT
DTSTART;TZID=Australia/Sydney:20240402T060000
DTEND;TZID=Australia/Sydney:20240402T060000
DTSTAMP:20260421T051506
CREATED:20230324T055405Z
LAST-MODIFIED:20230324T055415Z
UID:37567-1712037600-1712037600@www.shellybeachgolfclub.com.au
SUMMARY:Medley Individual Stableford 4 Grades plus Medley 2BBB
DESCRIPTION:
URL:https://www.shellybeachgolfclub.com.au/golf-program/medley-individual-stableford-4-grades-plus-medley-2bbb-28/
LOCATION:SBGC
CATEGORIES:Mens / Mixed Club Events
END:VEVENT
BEGIN:VEVENT
DTSTART;TZID=Australia/Sydney:20240403T060000
DTEND;TZID=Australia/Sydney:20240403T060000
DTSTAMP:20260421T051506
CREATED:20230324T055439Z
LAST-MODIFIED:20230609T045314Z
UID:37569-1712124000-1712124000@www.shellybeachgolfclub.com.au
SUMMARY:Golf NSW Medal No 3. WVGA Country Championships
DESCRIPTION:(Red Tees)
URL:https://www.shellybeachgolfclub.com.au/golf-program/golf-nsw-medal-no-3-wvga-country-championships-2/
LOCATION:SBGC
CATEGORIES:Ladies Events
END:VEVENT
BEGIN:VEVENT
DTSTART;TZID=Australia/Sydney:20240404T060000
DTEND;TZID=Australia/Sydney:20240404T060000
DTSTAMP:20260421T051506
CREATED:20230324T055506Z
LAST-MODIFIED:20230324T055514Z
UID:37571-1712210400-1712210400@www.shellybeachgolfclub.com.au
SUMMARY:Individual Stableford 4 Grades plus 2B Aggregate
DESCRIPTION:
URL:https://www.shellybeachgolfclub.com.au/golf-program/individual-stableford-4-grades-plus-2b-aggregate-11/
LOCATION:SBGC
CATEGORIES:Mens / Mixed Club Events
END:VEVENT
BEGIN:VEVENT
DTSTART;TZID=Australia/Sydney:20240405T060000
DTEND;TZID=Australia/Sydney:20240405T060000
DTSTAMP:20260421T051506
CREATED:20230324T055540Z
LAST-MODIFIED:20230324T055548Z
UID:37573-1712296800-1712296800@www.shellybeachgolfclub.com.au
SUMMARY:Men's & Women's Individual Stableford
DESCRIPTION:
URL:https://www.shellybeachgolfclub.com.au/golf-program/mens-womens-individual-stableford-53/
LOCATION:SBGC
CATEGORIES:Mens / Mixed Club Events
END:VEVENT
BEGIN:VEVENT
DTSTART;TZID=Australia/Sydney:20240405T110000
DTEND;TZID=Australia/Sydney:20240405T110000
DTSTAMP:20260421T051506
CREATED:20230324T055609Z
LAST-MODIFIED:20230324T055616Z
UID:37575-1712314800-1712314800@www.shellybeachgolfclub.com.au
SUMMARY:Chook Run
DESCRIPTION:
URL:https://www.shellybeachgolfclub.com.au/golf-program/chook-run-55/
LOCATION:SBGC
CATEGORIES:Mens / Mixed Club Events
END:VEVENT
BEGIN:VEVENT
DTSTART;TZID=Australia/Sydney:20240406T060000
DTEND;TZID=Australia/Sydney:20240406T060000
DTSTAMP:20260421T051506
CREATED:20230324T055709Z
LAST-MODIFIED:20230324T055739Z
UID:37577-1712383200-1712383200@www.shellybeachgolfclub.com.au
SUMMARY:Individual Stableford Men & Women's plus Men/Medley 2BBB
DESCRIPTION:
URL:https://www.shellybeachgolfclub.com.au/golf-program/individual-stableford-men-womens-plus-men-medley-2bbb-27/
LOCATION:SBGC
CATEGORIES:Mens / Mixed Club Events
END:VEVENT
BEGIN:VEVENT
DTSTART;TZID=Australia/Sydney:20240406T060000
DTEND;TZID=Australia/Sydney:20240406T060000
DTSTAMP:20260421T051506
CREATED:20230324T055803Z
LAST-MODIFIED:20230324T055812Z
UID:37579-1712383200-1712383200@www.shellybeachgolfclub.com.au
SUMMARY:Women's Monthly Goblet & Medal
DESCRIPTION:(Red Tees)
URL:https://www.shellybeachgolfclub.com.au/golf-program/womens-monthly-goblet-medal-13/
LOCATION:SBGC
CATEGORIES:Ladies Events
END:VEVENT
BEGIN:VEVENT
DTSTART;TZID=Australia/Sydney:20240407T060000
DTEND;TZID=Australia/Sydney:20240407T060000
DTSTAMP:20260421T051506
CREATED:20230324T055857Z
LAST-MODIFIED:20230324T055904Z
UID:37581-1712469600-1712469600@www.shellybeachgolfclub.com.au
SUMMARY:Individual Stroke. Men's Monthly Medal. 3 Grades
DESCRIPTION:Daylight Savings Ends
URL:https://www.shellybeachgolfclub.com.au/golf-program/individual-stroke-mens-monthly-medal-3-grades-11/
LOCATION:SBGC
CATEGORIES:Mens / Mixed Club Events
END:VEVENT
BEGIN:VEVENT
DTSTART;TZID=Australia/Sydney:20240407T060000
DTEND;TZID=Australia/Sydney:20240407T060000
DTSTAMP:20260421T051506
CREATED:20230324T055941Z
LAST-MODIFIED:20230324T055949Z
UID:37583-1712469600-1712469600@www.shellybeachgolfclub.com.au
SUMMARY:Women's Individual Stableford
DESCRIPTION:(Red Tees)
URL:https://www.shellybeachgolfclub.com.au/golf-program/womens-individual-stableford-18/
LOCATION:SBGC
CATEGORIES:Ladies Events
END:VEVENT
BEGIN:VEVENT
DTSTART;TZID=Australia/Sydney:20240408T060000
DTEND;TZID=Australia/Sydney:20240408T060000
DTSTAMP:20260421T051506
CREATED:20230324T060029Z
LAST-MODIFIED:20230418T071215Z
UID:37586-1712556000-1712556000@www.shellybeachgolfclub.com.au
SUMMARY:Mad Monday Men’s & Women’s Individual Stableford
DESCRIPTION:
URL:https://www.shellybeachgolfclub.com.au/golf-program/mad-monday-mens-womens-individual-stableford-45/
LOCATION:SBGC
CATEGORIES:Mens / Mixed Club Events
END:VEVENT
BEGIN:VEVENT
DTSTART;TZID=Australia/Sydney:20240409T060000
DTEND;TZID=Australia/Sydney:20240409T060000
DTSTAMP:20260421T051506
CREATED:20230324T060111Z
LAST-MODIFIED:20230324T060119Z
UID:37588-1712642400-1712642400@www.shellybeachgolfclub.com.au
SUMMARY:Medley Individual Stableford 4 Grades plus Medkey 2B Split 6's\, 1st 6 holes: 2BBB\, 2nd 6 holes: 2B Aggregate & 3rd 6 holes: 2B Multiplier
DESCRIPTION:
URL:https://www.shellybeachgolfclub.com.au/golf-program/medley-individual-stableford-4-grades-plus-medkey-2b-split-6s-1st-6-holes-2bbb-2nd-6-holes-2b-aggregate-3rd-6-holes-2b-multiplier-2/
LOCATION:SBGC
CATEGORIES:Mens / Mixed Club Events
END:VEVENT
BEGIN:VEVENT
DTSTART;TZID=Australia/Sydney:20240410T060000
DTEND;TZID=Australia/Sydney:20240410T060000
DTSTAMP:20260421T051506
CREATED:20230324T060146Z
LAST-MODIFIED:20230324T060242Z
UID:37590-1712728800-1712728800@www.shellybeachgolfclub.com.au
SUMMARY:Individual Stableford. District Brooch No 3
DESCRIPTION:(Pink Tees)
URL:https://www.shellybeachgolfclub.com.au/golf-program/individual-stableford-district-brooch-no-3-2/
LOCATION:SBGC
CATEGORIES:Ladies Events
END:VEVENT
BEGIN:VEVENT
DTSTART;TZID=Australia/Sydney:20240410T060000
DTEND;TZID=Australia/Sydney:20240410T060000
DTSTAMP:20260421T051506
CREATED:20230324T060216Z
LAST-MODIFIED:20230324T060222Z
UID:37592-1712728800-1712728800@www.shellybeachgolfclub.com.au
SUMMARY:Open Charity Day @ Everglades
DESCRIPTION:
URL:https://www.shellybeachgolfclub.com.au/golf-program/open-charity-day-everglades/
LOCATION:SBGC
CATEGORIES:Ladies Events
END:VEVENT
BEGIN:VEVENT
DTSTART;TZID=Australia/Sydney:20240410T060000
DTEND;TZID=Australia/Sydney:20240410T060000
DTSTAMP:20260421T051506
CREATED:20240313T044611Z
LAST-MODIFIED:20240313T044629Z
UID:51230-1712728800-1712728800@www.shellybeachgolfclub.com.au
SUMMARY:Entries open for Drawn Event - Wednesday 8th May
DESCRIPTION:
URL:https://www.shellybeachgolfclub.com.au/golf-program/entries-open-for-drawn-event-wednesday-8th-may/
CATEGORIES:Ladies Events
END:VEVENT
BEGIN:VEVENT
DTSTART;TZID=Australia/Sydney:20240411T060000
DTEND;TZID=Australia/Sydney:20240411T060000
DTSTAMP:20260421T051506
CREATED:20230324T060320Z
LAST-MODIFIED:20230324T060328Z
UID:37594-1712815200-1712815200@www.shellybeachgolfclub.com.au
SUMMARY:Individual Stableford 4 Grades plus 2BBB
DESCRIPTION:
URL:https://www.shellybeachgolfclub.com.au/golf-program/individual-stableford-4-grades-plus-2bbb-23/
LOCATION:SBGC
CATEGORIES:Mens / Mixed Club Events
END:VEVENT
BEGIN:VEVENT
DTSTART;TZID=Australia/Sydney:20240412T060000
DTEND;TZID=Australia/Sydney:20240412T060000
DTSTAMP:20260421T051506
CREATED:20230324T060346Z
LAST-MODIFIED:20230324T060359Z
UID:37596-1712901600-1712901600@www.shellybeachgolfclub.com.au
SUMMARY:Men's & Women's Individual Stableford
DESCRIPTION:
URL:https://www.shellybeachgolfclub.com.au/golf-program/mens-womens-individual-stableford-54/
LOCATION:SBGC
CATEGORIES:Mens / Mixed Club Events
END:VEVENT
BEGIN:VEVENT
DTSTART;TZID=Australia/Sydney:20240412T110000
DTEND;TZID=Australia/Sydney:20240412T110000
DTSTAMP:20260421T051506
CREATED:20230324T060424Z
LAST-MODIFIED:20230324T060431Z
UID:37598-1712919600-1712919600@www.shellybeachgolfclub.com.au
SUMMARY:Chook Run
DESCRIPTION:
URL:https://www.shellybeachgolfclub.com.au/golf-program/chook-run-56/
LOCATION:SBGC
CATEGORIES:Mens / Mixed Club Events
END:VEVENT
BEGIN:VEVENT
DTSTART;TZID=Australia/Sydney:20240413T060000
DTEND;TZID=Australia/Sydney:20240413T060000
DTSTAMP:20260421T051506
CREATED:20230324T060453Z
LAST-MODIFIED:20230324T060526Z
UID:37600-1712988000-1712988000@www.shellybeachgolfclub.com.au
SUMMARY:Individual Stableford Men & Women's plus Men/Medley 2BBB
DESCRIPTION:
URL:https://www.shellybeachgolfclub.com.au/golf-program/individual-stableford-men-womens-plus-men-medley-2bbb-28/
LOCATION:SBGC
CATEGORIES:Mens / Mixed Club Events
END:VEVENT
BEGIN:VEVENT
DTSTART;TZID=Australia/Sydney:20240413T060000
DTEND;TZID=Australia/Sydney:20240413T060000
DTSTAMP:20260421T051506
CREATED:20230324T060550Z
LAST-MODIFIED:20230324T060558Z
UID:37602-1712988000-1712988000@www.shellybeachgolfclub.com.au
SUMMARY:Junior Trophy
DESCRIPTION:
URL:https://www.shellybeachgolfclub.com.au/golf-program/junior-trophy-14/
LOCATION:SBGC
CATEGORIES:Cadet / Junior Events
END:VEVENT
BEGIN:VEVENT
DTSTART;TZID=Australia/Sydney:20240414T060000
DTEND;TZID=Australia/Sydney:20240414T060000
DTSTAMP:20260421T051506
CREATED:20230324T060800Z
LAST-MODIFIED:20230324T060810Z
UID:37604-1713074400-1713074400@www.shellybeachgolfclub.com.au
SUMMARY:Medley Individual Stableford plus Medley 2BBB + 2BBB Scratch
DESCRIPTION:
URL:https://www.shellybeachgolfclub.com.au/golf-program/medley-individual-stableford-plus-medley-2bbb-2bbb-scratch-14/
LOCATION:SBGC
CATEGORIES:Mens / Mixed Club Events
END:VEVENT
BEGIN:VEVENT
DTSTART;TZID=Australia/Sydney:20240415T060000
DTEND;TZID=Australia/Sydney:20240415T060000
DTSTAMP:20260421T051506
CREATED:20230324T060853Z
LAST-MODIFIED:20230418T072524Z
UID:37606-1713160800-1713160800@www.shellybeachgolfclub.com.au
SUMMARY:Mad Monday Men’s & Women’s Individual Stableford
DESCRIPTION:
URL:https://www.shellybeachgolfclub.com.au/golf-program/mad-monday-mens-womens-individual-stableford-46/
LOCATION:SBGC
CATEGORIES:Mens / Mixed Club Events
END:VEVENT
BEGIN:VEVENT
DTSTART;TZID=Australia/Sydney:20240415T100000
DTEND;TZID=Australia/Sydney:20240415T100000
DTSTAMP:20260421T051506
CREATED:20230324T060930Z
LAST-MODIFIED:20230324T060938Z
UID:37608-1713175200-1713175200@www.shellybeachgolfclub.com.au
SUMMARY:Cadet Holiday Clinic
DESCRIPTION:
URL:https://www.shellybeachgolfclub.com.au/golf-program/cadet-holiday-clinic/
LOCATION:SBGC
CATEGORIES:Cadet / Junior Events
END:VEVENT
BEGIN:VEVENT
DTSTART;TZID=Australia/Sydney:20240416T060000
DTEND;TZID=Australia/Sydney:20240416T060000
DTSTAMP:20260421T051506
CREATED:20230324T061001Z
LAST-MODIFIED:20230324T061010Z
UID:37610-1713247200-1713247200@www.shellybeachgolfclub.com.au
SUMMARY:Medley Individual Stableford 4 Grades plus Medley 2BBB
DESCRIPTION:
URL:https://www.shellybeachgolfclub.com.au/golf-program/medley-individual-stableford-4-grades-plus-medley-2bbb-29/
LOCATION:SBGC
CATEGORIES:Mens / Mixed Club Events
END:VEVENT
BEGIN:VEVENT
DTSTART;TZID=Australia/Sydney:20240416T100000
DTEND;TZID=Australia/Sydney:20240416T100000
DTSTAMP:20260421T051506
CREATED:20230324T061031Z
LAST-MODIFIED:20230324T061044Z
UID:37612-1713261600-1713261600@www.shellybeachgolfclub.com.au
SUMMARY:Cadet Holiday Clinic
DESCRIPTION:
URL:https://www.shellybeachgolfclub.com.au/golf-program/cadet-holiday-clinic-2/
LOCATION:SBGC
CATEGORIES:Cadet / Junior Events
END:VEVENT
BEGIN:VEVENT
DTSTART;TZID=Australia/Sydney:20240417T060000
DTEND;TZID=Australia/Sydney:20240417T060000
DTSTAMP:20260421T051506
CREATED:20230324T061123Z
LAST-MODIFIED:20230324T061137Z
UID:37614-1713333600-1713333600@www.shellybeachgolfclub.com.au
SUMMARY:Women's Individual Par
DESCRIPTION:(Pink Tees)
URL:https://www.shellybeachgolfclub.com.au/golf-program/womens-individual-par-2/
LOCATION:SBGC
CATEGORIES:Ladies Events
END:VEVENT
BEGIN:VEVENT
DTSTART;TZID=Australia/Sydney:20240417T100000
DTEND;TZID=Australia/Sydney:20240417T100000
DTSTAMP:20260421T051506
CREATED:20230324T061204Z
LAST-MODIFIED:20230324T061211Z
UID:37616-1713348000-1713348000@www.shellybeachgolfclub.com.au
SUMMARY:Cadet Holiday Clinic
DESCRIPTION:
URL:https://www.shellybeachgolfclub.com.au/golf-program/cadet-holiday-clinic-3/
LOCATION:SBGC
CATEGORIES:Cadet / Junior Events
END:VEVENT
BEGIN:VEVENT
DTSTART;TZID=Australia/Sydney:20240418T060000
DTEND;TZID=Australia/Sydney:20240418T060000
DTSTAMP:20260421T051506
CREATED:20230324T061234Z
LAST-MODIFIED:20230324T061242Z
UID:37618-1713420000-1713420000@www.shellybeachgolfclub.com.au
SUMMARY:Individual Stableford. Monthly Mug. 4 Grades 1st\, 2nd\, 3rd & 4th Nett plus Overall Scratch
DESCRIPTION:
URL:https://www.shellybeachgolfclub.com.au/golf-program/individual-stableford-monthly-mug-4-grades-1st-2nd-3rd-4th-nett-plus-overall-scratch-14/
LOCATION:SBGC
CATEGORIES:Mens / Mixed Club Events
END:VEVENT
BEGIN:VEVENT
DTSTART;TZID=Australia/Sydney:20240419T060000
DTEND;TZID=Australia/Sydney:20240419T060000
DTSTAMP:20260421T051506
CREATED:20230324T061305Z
LAST-MODIFIED:20230324T061312Z
UID:37620-1713506400-1713506400@www.shellybeachgolfclub.com.au
SUMMARY:Men's & Women's Individual Stableford
DESCRIPTION:
URL:https://www.shellybeachgolfclub.com.au/golf-program/mens-womens-individual-stableford-55/
LOCATION:SBGC
CATEGORIES:Mens / Mixed Club Events
END:VEVENT
BEGIN:VEVENT
DTSTART;TZID=Australia/Sydney:20240419T060000
DTEND;TZID=Australia/Sydney:20240419T060000
DTSTAMP:20260421T051506
CREATED:20230324T061427Z
LAST-MODIFIED:20230324T061433Z
UID:37624-1713506400-1713506400@www.shellybeachgolfclub.com.au
SUMMARY:Mixed Foursomes Championships\, entries close
DESCRIPTION:
URL:https://www.shellybeachgolfclub.com.au/golf-program/mixed-foursomes-championships-entries-close/
LOCATION:SBGC
CATEGORIES:Extra / District Events
END:VEVENT
END:VCALENDAR