BEGIN:VCALENDAR
VERSION:2.0
PRODID:-//Shelly Beach Golf Club - ECPv6.15.18//NONSGML v1.0//EN
CALSCALE:GREGORIAN
METHOD:PUBLISH
X-WR-CALNAME:Shelly Beach Golf Club
X-ORIGINAL-URL:https://www.shellybeachgolfclub.com.au
X-WR-CALDESC:Events for Shelly Beach Golf Club
REFRESH-INTERVAL;VALUE=DURATION:PT1H
X-Robots-Tag:noindex
X-PUBLISHED-TTL:PT1H
BEGIN:VTIMEZONE
TZID:Australia/Sydney
BEGIN:STANDARD
TZOFFSETFROM:+1100
TZOFFSETTO:+1000
TZNAME:AEST
DTSTART:20230401T160000
END:STANDARD
BEGIN:DAYLIGHT
TZOFFSETFROM:+1000
TZOFFSETTO:+1100
TZNAME:AEDT
DTSTART:20230930T160000
END:DAYLIGHT
BEGIN:STANDARD
TZOFFSETFROM:+1100
TZOFFSETTO:+1000
TZNAME:AEST
DTSTART:20240406T160000
END:STANDARD
BEGIN:DAYLIGHT
TZOFFSETFROM:+1000
TZOFFSETTO:+1100
TZNAME:AEDT
DTSTART:20241005T160000
END:DAYLIGHT
BEGIN:STANDARD
TZOFFSETFROM:+1100
TZOFFSETTO:+1000
TZNAME:AEST
DTSTART:20250405T160000
END:STANDARD
BEGIN:DAYLIGHT
TZOFFSETFROM:+1000
TZOFFSETTO:+1100
TZNAME:AEDT
DTSTART:20251004T160000
END:DAYLIGHT
END:VTIMEZONE
BEGIN:VEVENT
DTSTART;TZID=Australia/Sydney:20240201T060000
DTEND;TZID=Australia/Sydney:20240201T060000
DTSTAMP:20260421T083009
CREATED:20230324T011941Z
LAST-MODIFIED:20230324T012058Z
UID:37395-1706767200-1706767200@www.shellybeachgolfclub.com.au
SUMMARY:Individual Stableford 4 Grades plus 2B Aggregate
DESCRIPTION:
URL:https://www.shellybeachgolfclub.com.au/golf-program/individual-stableford-4-grades-plus-2b-aggregate-9/
LOCATION:SBGC
CATEGORIES:Mens / Mixed Club Events
END:VEVENT
BEGIN:VEVENT
DTSTART;TZID=Australia/Sydney:20240202T060000
DTEND;TZID=Australia/Sydney:20240202T060000
DTSTAMP:20260421T083009
CREATED:20230324T012124Z
LAST-MODIFIED:20230324T012134Z
UID:37397-1706853600-1706853600@www.shellybeachgolfclub.com.au
SUMMARY:Men's & Women's Individual Stableford
DESCRIPTION:
URL:https://www.shellybeachgolfclub.com.au/golf-program/mens-womens-individual-stableford-45/
LOCATION:SBGC
CATEGORIES:Mens / Mixed Club Events
END:VEVENT
BEGIN:VEVENT
DTSTART;TZID=Australia/Sydney:20240202T110000
DTEND;TZID=Australia/Sydney:20240202T110000
DTSTAMP:20260421T083009
CREATED:20230324T012203Z
LAST-MODIFIED:20230324T012245Z
UID:37399-1706871600-1706871600@www.shellybeachgolfclub.com.au
SUMMARY:Chook Run
DESCRIPTION:
URL:https://www.shellybeachgolfclub.com.au/golf-program/chook-run-46/
LOCATION:SBGC
CATEGORIES:Mens / Mixed Club Events
END:VEVENT
BEGIN:VEVENT
DTSTART;TZID=Australia/Sydney:20240203T060000
DTEND;TZID=Australia/Sydney:20240203T060000
DTSTAMP:20260421T083009
CREATED:20230324T012319Z
LAST-MODIFIED:20230324T012330Z
UID:37401-1706940000-1706940000@www.shellybeachgolfclub.com.au
SUMMARY:Individual Stableford Men & Women's plus Men/Medley 2BBB
DESCRIPTION:
URL:https://www.shellybeachgolfclub.com.au/golf-program/individual-stableford-men-womens-plus-men-medley-2bbb-21/
LOCATION:SBGC
CATEGORIES:Mens / Mixed Club Events
END:VEVENT
BEGIN:VEVENT
DTSTART;TZID=Australia/Sydney:20240203T060000
DTEND;TZID=Australia/Sydney:20240203T060000
DTSTAMP:20260421T083009
CREATED:20230324T012407Z
LAST-MODIFIED:20230324T012415Z
UID:37403-1706940000-1706940000@www.shellybeachgolfclub.com.au
SUMMARY:Women's Monthly Goblet & Medal
DESCRIPTION:(Red Tees)
URL:https://www.shellybeachgolfclub.com.au/golf-program/womens-monthly-goblet-medal-11/
LOCATION:SBGC
CATEGORIES:Ladies Events
END:VEVENT
BEGIN:VEVENT
DTSTART;TZID=Australia/Sydney:20240204T060000
DTEND;TZID=Australia/Sydney:20240204T060000
DTSTAMP:20260421T083009
CREATED:20230324T012622Z
LAST-MODIFIED:20230324T012630Z
UID:37405-1707026400-1707026400@www.shellybeachgolfclub.com.au
SUMMARY:Individual Stroke. Men's Monthly Medal. 3 Grades
DESCRIPTION:
URL:https://www.shellybeachgolfclub.com.au/golf-program/individual-stroke-mens-monthly-medal-3-grades-9/
LOCATION:SBGC
CATEGORIES:Mens / Mixed Club Events
END:VEVENT
BEGIN:VEVENT
DTSTART;TZID=Australia/Sydney:20240204T060000
DTEND;TZID=Australia/Sydney:20240204T060000
DTSTAMP:20260421T083009
CREATED:20230324T012705Z
LAST-MODIFIED:20230324T012715Z
UID:37407-1707026400-1707026400@www.shellybeachgolfclub.com.au
SUMMARY:Women's Individual Stableford
DESCRIPTION:(Red Tees)
URL:https://www.shellybeachgolfclub.com.au/golf-program/womens-individual-stableford-16/
LOCATION:SBGC
CATEGORIES:Ladies Events
END:VEVENT
BEGIN:VEVENT
DTSTART;TZID=Australia/Sydney:20240205T060000
DTEND;TZID=Australia/Sydney:20240205T060000
DTSTAMP:20260421T083009
CREATED:20230324T012804Z
LAST-MODIFIED:20230418T063748Z
UID:37409-1707112800-1707112800@www.shellybeachgolfclub.com.au
SUMMARY:Mad Monday Men’s & Women’s Individual Stableford
DESCRIPTION:
URL:https://www.shellybeachgolfclub.com.au/golf-program/mad-monday-mens-womens-individual-stableford-37/
LOCATION:SBGC
CATEGORIES:Mens / Mixed Club Events
END:VEVENT
BEGIN:VEVENT
DTSTART;TZID=Australia/Sydney:20240205T060000
DTEND;TZID=Australia/Sydney:20240205T060000
DTSTAMP:20260421T083009
CREATED:20230324T012839Z
LAST-MODIFIED:20230324T012849Z
UID:37411-1707112800-1707112800@www.shellybeachgolfclub.com.au
SUMMARY:Women's Eclectic commences
DESCRIPTION:
URL:https://www.shellybeachgolfclub.com.au/golf-program/womens-eclectic-commences/
LOCATION:SBGC
CATEGORIES:Ladies Events
END:VEVENT
BEGIN:VEVENT
DTSTART;TZID=Australia/Sydney:20240206T060000
DTEND;TZID=Australia/Sydney:20240206T060000
DTSTAMP:20260421T083009
CREATED:20230324T013447Z
LAST-MODIFIED:20230324T013454Z
UID:37413-1707199200-1707199200@www.shellybeachgolfclub.com.au
SUMMARY:Medley Individual Stableford 4 Grades plus Medley 2BBB
DESCRIPTION:
URL:https://www.shellybeachgolfclub.com.au/golf-program/medley-individual-stableford-4-grades-plus-medley-2bbb-24/
LOCATION:SBGC
CATEGORIES:Mens / Mixed Club Events
END:VEVENT
BEGIN:VEVENT
DTSTART;TZID=Australia/Sydney:20240207T073000
DTEND;TZID=Australia/Sydney:20240207T073000
DTSTAMP:20260421T083009
CREATED:20230324T013559Z
LAST-MODIFIED:20230324T013609Z
UID:37415-1707291000-1707291000@www.shellybeachgolfclub.com.au
SUMMARY:Women's Opening Day
DESCRIPTION:4 Person Dropout Ambrose.\n3 tee shots per player.\n7:30 for 8:00am Shotgun start.\nNO VISITORS.\n(Pink Tees).
URL:https://www.shellybeachgolfclub.com.au/golf-program/womens-opening-day/
LOCATION:SBGC
CATEGORIES:Ladies Events
END:VEVENT
BEGIN:VEVENT
DTSTART;TZID=Australia/Sydney:20240208T060000
DTEND;TZID=Australia/Sydney:20240208T060000
DTSTAMP:20260421T083009
CREATED:20230324T013644Z
LAST-MODIFIED:20230324T013652Z
UID:37417-1707372000-1707372000@www.shellybeachgolfclub.com.au
SUMMARY:Individual Stableford 4 Grades plus 2BBB
DESCRIPTION:
URL:https://www.shellybeachgolfclub.com.au/golf-program/individual-stableford-4-grades-plus-2bbb-20/
LOCATION:SBGC
CATEGORIES:Mens / Mixed Club Events
END:VEVENT
BEGIN:VEVENT
DTSTART;TZID=Australia/Sydney:20240209T060000
DTEND;TZID=Australia/Sydney:20240209T060000
DTSTAMP:20260421T083009
CREATED:20230324T013715Z
LAST-MODIFIED:20230324T013726Z
UID:37419-1707458400-1707458400@www.shellybeachgolfclub.com.au
SUMMARY:Men's & Women's Individual Stableford
DESCRIPTION:
URL:https://www.shellybeachgolfclub.com.au/golf-program/mens-womens-individual-stableford-46/
LOCATION:SBGC
CATEGORIES:Mens / Mixed Club Events
END:VEVENT
BEGIN:VEVENT
DTSTART;TZID=Australia/Sydney:20240209T110000
DTEND;TZID=Australia/Sydney:20240209T110000
DTSTAMP:20260421T083009
CREATED:20230324T013755Z
LAST-MODIFIED:20230324T013806Z
UID:37421-1707476400-1707476400@www.shellybeachgolfclub.com.au
SUMMARY:Chook Run
DESCRIPTION:
URL:https://www.shellybeachgolfclub.com.au/golf-program/chook-run-47/
LOCATION:SBGC
CATEGORIES:Mens / Mixed Club Events
END:VEVENT
BEGIN:VEVENT
DTSTART;TZID=Australia/Sydney:20240210T060000
DTEND;TZID=Australia/Sydney:20240210T060000
DTSTAMP:20260421T083009
CREATED:20230324T014349Z
LAST-MODIFIED:20230324T014358Z
UID:37423-1707544800-1707544800@www.shellybeachgolfclub.com.au
SUMMARY:Individual Stableford Men & Women's plus Men/Medley 2BBB
DESCRIPTION:
URL:https://www.shellybeachgolfclub.com.au/golf-program/individual-stableford-men-womens-plus-men-medley-2bbb-22/
LOCATION:SBGC
CATEGORIES:Mens / Mixed Club Events
END:VEVENT
BEGIN:VEVENT
DTSTART;TZID=Australia/Sydney:20240211T060000
DTEND;TZID=Australia/Sydney:20240211T060000
DTSTAMP:20260421T083009
CREATED:20230324T014432Z
LAST-MODIFIED:20230324T014440Z
UID:37425-1707631200-1707631200@www.shellybeachgolfclub.com.au
SUMMARY:Medley Individual Stableford plus Medley 2BBB + 2BBB Scratch
DESCRIPTION:
URL:https://www.shellybeachgolfclub.com.au/golf-program/medley-individual-stableford-plus-medley-2bbb-2bbb-scratch-12/
LOCATION:SBGC
CATEGORIES:Mens / Mixed Club Events
END:VEVENT
BEGIN:VEVENT
DTSTART;TZID=Australia/Sydney:20240211T060000
DTEND;TZID=Australia/Sydney:20240211T060000
DTSTAMP:20260421T083009
CREATED:20230324T014508Z
LAST-MODIFIED:20230324T014516Z
UID:37427-1707631200-1707631200@www.shellybeachgolfclub.com.au
SUMMARY:Junior Trophy
DESCRIPTION:
URL:https://www.shellybeachgolfclub.com.au/golf-program/junior-trophy-12/
LOCATION:SBGC
CATEGORIES:Cadet / Junior Events
END:VEVENT
BEGIN:VEVENT
DTSTART;TZID=Australia/Sydney:20240212T060000
DTEND;TZID=Australia/Sydney:20240212T060000
DTSTAMP:20260421T083009
CREATED:20230324T021324Z
LAST-MODIFIED:20230418T064044Z
UID:37429-1707717600-1707717600@www.shellybeachgolfclub.com.au
SUMMARY:Mad Monday Men’s & Women’s Individual Stableford
DESCRIPTION:
URL:https://www.shellybeachgolfclub.com.au/golf-program/mad-monday-mens-womens-individual-stableford-38/
LOCATION:SBGC
CATEGORIES:Mens / Mixed Club Events
END:VEVENT
BEGIN:VEVENT
DTSTART;TZID=Australia/Sydney:20240213T060000
DTEND;TZID=Australia/Sydney:20240213T060000
DTSTAMP:20260421T083009
CREATED:20230324T021415Z
LAST-MODIFIED:20230324T021423Z
UID:37431-1707804000-1707804000@www.shellybeachgolfclub.com.au
SUMMARY:Medley Individual Stableford 4 Grades plus Medley 2B Split 6's\, 1st 6 holes: 2BBB\, 2nd 6 holes: 2B Aggregate & 3rd 6 holes: 2B Multiplier
DESCRIPTION:
URL:https://www.shellybeachgolfclub.com.au/golf-program/medley-individual-stableford-4-grades-plus-medley-2b-split-6s-1st-6-holes-2bbb-2nd-6-holes-2b-aggregate-3rd-6-holes-2b-multiplier-4/
LOCATION:SBGC
CATEGORIES:Mens / Mixed Club Events
END:VEVENT
BEGIN:VEVENT
DTSTART;TZID=Australia/Sydney:20240214T060000
DTEND;TZID=Australia/Sydney:20240214T060000
DTSTAMP:20260421T083009
CREATED:20230324T021500Z
LAST-MODIFIED:20240202T033532Z
UID:37433-1707890400-1707890400@www.shellybeachgolfclub.com.au
SUMMARY:Golf NSW Medal No 1.
DESCRIPTION:(Red Tees)\nEclectic commences.
URL:https://www.shellybeachgolfclub.com.au/golf-program/golf-nsw-medal-no-1-qualifying-for-singles-knockout/
LOCATION:SBGC
CATEGORIES:Ladies Events
END:VEVENT
BEGIN:VEVENT
DTSTART;TZID=Australia/Sydney:20240215T060000
DTEND;TZID=Australia/Sydney:20240215T060000
DTSTAMP:20260421T083009
CREATED:20230324T021538Z
LAST-MODIFIED:20230324T021548Z
UID:37435-1707976800-1707976800@www.shellybeachgolfclub.com.au
SUMMARY:Individual Stableford 4 Grades plus 2B Aggregate
DESCRIPTION:
URL:https://www.shellybeachgolfclub.com.au/golf-program/individual-stableford-4-grades-plus-2b-aggregate-10/
LOCATION:SBGC
CATEGORIES:Mens / Mixed Club Events
END:VEVENT
BEGIN:VEVENT
DTSTART;TZID=Australia/Sydney:20240216T060000
DTEND;TZID=Australia/Sydney:20240216T060000
DTSTAMP:20260421T083009
CREATED:20230324T021614Z
LAST-MODIFIED:20230324T021629Z
UID:37437-1708063200-1708063200@www.shellybeachgolfclub.com.au
SUMMARY:Men's & Women's Individual Stableford
DESCRIPTION:
URL:https://www.shellybeachgolfclub.com.au/golf-program/mens-womens-individual-stableford-47/
LOCATION:SBGC
CATEGORIES:Mens / Mixed Club Events
END:VEVENT
BEGIN:VEVENT
DTSTART;TZID=Australia/Sydney:20240216T110000
DTEND;TZID=Australia/Sydney:20240216T110000
DTSTAMP:20260421T083009
CREATED:20230324T021716Z
LAST-MODIFIED:20230324T021724Z
UID:37439-1708081200-1708081200@www.shellybeachgolfclub.com.au
SUMMARY:Chook Run
DESCRIPTION:
URL:https://www.shellybeachgolfclub.com.au/golf-program/chook-run-48/
LOCATION:SBGC
CATEGORIES:Mens / Mixed Club Events
END:VEVENT
BEGIN:VEVENT
DTSTART;TZID=Australia/Sydney:20240217T060000
DTEND;TZID=Australia/Sydney:20240217T060000
DTSTAMP:20260421T083009
CREATED:20230324T021755Z
LAST-MODIFIED:20230324T021804Z
UID:37441-1708149600-1708149600@www.shellybeachgolfclub.com.au
SUMMARY:Individual Stableford Men & Women's plus Men/Medley 2BBB
DESCRIPTION:
URL:https://www.shellybeachgolfclub.com.au/golf-program/individual-stableford-men-womens-plus-men-medley-2bbb-23/
LOCATION:SBGC
CATEGORIES:Mens / Mixed Club Events
END:VEVENT
BEGIN:VEVENT
DTSTART;TZID=Australia/Sydney:20240218T060000
DTEND;TZID=Australia/Sydney:20240218T060000
DTSTAMP:20260421T083009
CREATED:20230324T021837Z
LAST-MODIFIED:20230324T021845Z
UID:37443-1708236000-1708236000@www.shellybeachgolfclub.com.au
SUMMARY:Medley Individual Stableford plus Medley 2B Aggregate
DESCRIPTION:
URL:https://www.shellybeachgolfclub.com.au/golf-program/medley-individual-stableford-plus-medley-2b-aggregate-8/
LOCATION:SBGC
CATEGORIES:Mens / Mixed Club Events
END:VEVENT
BEGIN:VEVENT
DTSTART;TZID=Australia/Sydney:20240219T060000
DTEND;TZID=Australia/Sydney:20240219T060000
DTSTAMP:20260421T083009
CREATED:20230324T021925Z
LAST-MODIFIED:20230418T064109Z
UID:37445-1708322400-1708322400@www.shellybeachgolfclub.com.au
SUMMARY:Mad Monday Men’s & Women’s Individual Stableford
DESCRIPTION:
URL:https://www.shellybeachgolfclub.com.au/golf-program/mad-monday-mens-womens-individual-stableford-39/
LOCATION:SBGC
CATEGORIES:Mens / Mixed Club Events
END:VEVENT
BEGIN:VEVENT
DTSTART;TZID=Australia/Sydney:20240220T060000
DTEND;TZID=Australia/Sydney:20240220T060000
DTSTAMP:20260421T083009
CREATED:20230324T035403Z
LAST-MODIFIED:20230324T035420Z
UID:37447-1708408800-1708408800@www.shellybeachgolfclub.com.au
SUMMARY:Medley Individual Stableford 4 Grades plus Medley 2BBB
DESCRIPTION:
URL:https://www.shellybeachgolfclub.com.au/golf-program/medley-individual-stableford-4-grades-plus-medley-2bbb-25/
LOCATION:SBGC
CATEGORIES:Mens / Mixed Club Events
END:VEVENT
BEGIN:VEVENT
DTSTART;TZID=Australia/Sydney:20240221T060000
DTEND;TZID=Australia/Sydney:20240221T060000
DTSTAMP:20260421T083009
CREATED:20230324T035757Z
LAST-MODIFIED:20230324T035806Z
UID:37449-1708495200-1708495200@www.shellybeachgolfclub.com.au
SUMMARY:Individual Stableford. District Brooch No 1
DESCRIPTION:(Pink Tees)
URL:https://www.shellybeachgolfclub.com.au/golf-program/individual-stableford-district-brooch-no-1/
LOCATION:SBGC
CATEGORIES:Ladies Events
END:VEVENT
BEGIN:VEVENT
DTSTART;TZID=Australia/Sydney:20240222T060000
DTEND;TZID=Australia/Sydney:20240222T060000
DTSTAMP:20260421T083009
CREATED:20230324T040144Z
LAST-MODIFIED:20230324T040156Z
UID:37451-1708581600-1708581600@www.shellybeachgolfclub.com.au
SUMMARY:Individual Stableford. Monthly Mug. 4 Grades 1st\, 2nd\, 3rd & 4th Nett plus Overall Scratch
DESCRIPTION:
URL:https://www.shellybeachgolfclub.com.au/golf-program/individual-stableford-monthly-mug-4-grades-1st-2nd-3rd-4th-nett-plus-overall-scratch-12/
LOCATION:SBGC
CATEGORIES:Mens / Mixed Club Events
END:VEVENT
BEGIN:VEVENT
DTSTART;TZID=Australia/Sydney:20240223T060000
DTEND;TZID=Australia/Sydney:20240223T060000
DTSTAMP:20260421T083009
CREATED:20230324T040230Z
LAST-MODIFIED:20230324T040238Z
UID:37453-1708668000-1708668000@www.shellybeachgolfclub.com.au
SUMMARY:Men's & Women's Individual Stableford
DESCRIPTION:
URL:https://www.shellybeachgolfclub.com.au/golf-program/mens-womens-individual-stableford-48/
LOCATION:SBGC
CATEGORIES:Mens / Mixed Club Events
END:VEVENT
END:VCALENDAR