BEGIN:VCALENDAR
VERSION:2.0
PRODID:-//Shelly Beach Golf Club - ECPv6.15.18//NONSGML v1.0//EN
CALSCALE:GREGORIAN
METHOD:PUBLISH
X-ORIGINAL-URL:https://www.shellybeachgolfclub.com.au
X-WR-CALDESC:Events for Shelly Beach Golf Club
REFRESH-INTERVAL;VALUE=DURATION:PT1H
X-Robots-Tag:noindex
X-PUBLISHED-TTL:PT1H
BEGIN:VTIMEZONE
TZID:Australia/Sydney
BEGIN:STANDARD
TZOFFSETFROM:+1100
TZOFFSETTO:+1000
TZNAME:AEST
DTSTART:20230401T160000
END:STANDARD
BEGIN:DAYLIGHT
TZOFFSETFROM:+1000
TZOFFSETTO:+1100
TZNAME:AEDT
DTSTART:20230930T160000
END:DAYLIGHT
BEGIN:STANDARD
TZOFFSETFROM:+1100
TZOFFSETTO:+1000
TZNAME:AEST
DTSTART:20240406T160000
END:STANDARD
BEGIN:DAYLIGHT
TZOFFSETFROM:+1000
TZOFFSETTO:+1100
TZNAME:AEDT
DTSTART:20241005T160000
END:DAYLIGHT
BEGIN:STANDARD
TZOFFSETFROM:+1100
TZOFFSETTO:+1000
TZNAME:AEST
DTSTART:20250405T160000
END:STANDARD
BEGIN:DAYLIGHT
TZOFFSETFROM:+1000
TZOFFSETTO:+1100
TZNAME:AEDT
DTSTART:20251004T160000
END:DAYLIGHT
END:VTIMEZONE
BEGIN:VEVENT
DTSTART;TZID=Australia/Sydney:20240101T060000
DTEND;TZID=Australia/Sydney:20240101T060000
DTSTAMP:20260421T101538
CREATED:20230309T055332Z
LAST-MODIFIED:20230418T063513Z
UID:37259-1704088800-1704088800@www.shellybeachgolfclub.com.au
SUMMARY:Mad Monday Men’s & Women’s Individual Stableford
DESCRIPTION:
URL:https://www.shellybeachgolfclub.com.au/golf-program/mad-monday-mens-womens-individual-stableford-32/
LOCATION:SBGC
CATEGORIES:Mens / Mixed Club Events
END:VEVENT
BEGIN:VEVENT
DTSTART;TZID=Australia/Sydney:20240102T060000
DTEND;TZID=Australia/Sydney:20240102T060000
DTSTAMP:20260421T101538
CREATED:20230310T000409Z
LAST-MODIFIED:20230310T000418Z
UID:37261-1704175200-1704175200@www.shellybeachgolfclub.com.au
SUMMARY:Medley Individual Stableford 4 Grades plus Medley 2B Aggregate
DESCRIPTION:
URL:https://www.shellybeachgolfclub.com.au/golf-program/medley-individual-stableford-4-grades-plus-medley-2b-aggregate-11/
LOCATION:SBGC
CATEGORIES:Mens / Mixed Club Events
END:VEVENT
BEGIN:VEVENT
DTSTART;TZID=Australia/Sydney:20240103T060000
DTEND;TZID=Australia/Sydney:20240103T060000
DTSTAMP:20260421T101538
CREATED:20230310T000448Z
LAST-MODIFIED:20230310T000458Z
UID:37263-1704261600-1704261600@www.shellybeachgolfclub.com.au
SUMMARY:Women’s Summer Competition
DESCRIPTION:(Pink Tees)
URL:https://www.shellybeachgolfclub.com.au/golf-program/womens-summer-competition-4/
LOCATION:SBGC
CATEGORIES:Ladies Events
END:VEVENT
BEGIN:VEVENT
DTSTART;TZID=Australia/Sydney:20240104T060000
DTEND;TZID=Australia/Sydney:20240104T060000
DTSTAMP:20260421T101538
CREATED:20230310T000521Z
LAST-MODIFIED:20230310T000530Z
UID:37265-1704348000-1704348000@www.shellybeachgolfclub.com.au
SUMMARY:Individual Stableford 4 Grades plus 2BBB
DESCRIPTION:
URL:https://www.shellybeachgolfclub.com.au/golf-program/individual-stableford-4-grades-plus-2bbb-18/
LOCATION:SBGC
CATEGORIES:Mens / Mixed Club Events
END:VEVENT
BEGIN:VEVENT
DTSTART;TZID=Australia/Sydney:20240105T060000
DTEND;TZID=Australia/Sydney:20240105T060000
DTSTAMP:20260421T101538
CREATED:20230310T000556Z
LAST-MODIFIED:20230310T000605Z
UID:37267-1704434400-1704434400@www.shellybeachgolfclub.com.au
SUMMARY:Men’s & Women’s Individual Stableford
DESCRIPTION:
URL:https://www.shellybeachgolfclub.com.au/golf-program/mens-womens-individual-stableford-20/
LOCATION:SBGC
CATEGORIES:Mens / Mixed Club Events
END:VEVENT
BEGIN:VEVENT
DTSTART;TZID=Australia/Sydney:20240105T110000
DTEND;TZID=Australia/Sydney:20240105T110000
DTSTAMP:20260421T101538
CREATED:20230310T000634Z
LAST-MODIFIED:20230310T000648Z
UID:37269-1704452400-1704452400@www.shellybeachgolfclub.com.au
SUMMARY:Chook Run
DESCRIPTION:
URL:https://www.shellybeachgolfclub.com.au/golf-program/chook-run-43/
LOCATION:SBGC
CATEGORIES:Mens / Mixed Club Events
END:VEVENT
BEGIN:VEVENT
DTSTART;TZID=Australia/Sydney:20240106T060000
DTEND;TZID=Australia/Sydney:20240106T060000
DTSTAMP:20260421T101538
CREATED:20230310T000715Z
LAST-MODIFIED:20230310T000722Z
UID:37271-1704520800-1704520800@www.shellybeachgolfclub.com.au
SUMMARY:Individual Stableford Men & Women’s plus Medley 2B Aggregate
DESCRIPTION:
URL:https://www.shellybeachgolfclub.com.au/golf-program/individual-stableford-men-womens-plus-medley-2b-aggregate/
LOCATION:SBGC
CATEGORIES:Mens / Mixed Club Events
END:VEVENT
BEGIN:VEVENT
DTSTART;TZID=Australia/Sydney:20240106T060000
DTEND;TZID=Australia/Sydney:20240106T060000
DTSTAMP:20260421T101538
CREATED:20230310T000751Z
LAST-MODIFIED:20230310T000758Z
UID:37273-1704520800-1704520800@www.shellybeachgolfclub.com.au
SUMMARY:Women’s Monthly Goblet & Medal
DESCRIPTION:(Red Tees)
URL:https://www.shellybeachgolfclub.com.au/golf-program/womens-monthly-goblet-medal-10/
LOCATION:SBGC
CATEGORIES:Ladies Events
END:VEVENT
BEGIN:VEVENT
DTSTART;TZID=Australia/Sydney:20240107T060000
DTEND;TZID=Australia/Sydney:20240107T060000
DTSTAMP:20260421T101538
CREATED:20230310T000822Z
LAST-MODIFIED:20230310T000830Z
UID:37275-1704607200-1704607200@www.shellybeachgolfclub.com.au
SUMMARY:Individual Stroke. Men’s Monthly Medal. 3 Grades
DESCRIPTION:
URL:https://www.shellybeachgolfclub.com.au/golf-program/individual-stroke-mens-monthly-medal-3-grades-8/
LOCATION:SBGC
CATEGORIES:Mens / Mixed Club Events
END:VEVENT
BEGIN:VEVENT
DTSTART;TZID=Australia/Sydney:20240107T060000
DTEND;TZID=Australia/Sydney:20240107T060000
DTSTAMP:20260421T101538
CREATED:20230310T000853Z
LAST-MODIFIED:20230310T000901Z
UID:37277-1704607200-1704607200@www.shellybeachgolfclub.com.au
SUMMARY:Women’s Individual Stableford
DESCRIPTION:
URL:https://www.shellybeachgolfclub.com.au/golf-program/womens-individual-stableford-15/
LOCATION:SBGC
CATEGORIES:Ladies Events
END:VEVENT
BEGIN:VEVENT
DTSTART;TZID=Australia/Sydney:20240108T060000
DTEND;TZID=Australia/Sydney:20240108T060000
DTSTAMP:20260421T101538
CREATED:20230310T000945Z
LAST-MODIFIED:20230418T063534Z
UID:37279-1704693600-1704693600@www.shellybeachgolfclub.com.au
SUMMARY:Mad Monday Men’s & Women’s Individual Stableford
DESCRIPTION:
URL:https://www.shellybeachgolfclub.com.au/golf-program/mad-monday-mens-womens-individual-stableford-33/
LOCATION:SBGC
CATEGORIES:Mens / Mixed Club Events
END:VEVENT
BEGIN:VEVENT
DTSTART;TZID=Australia/Sydney:20240109T060000
DTEND;TZID=Australia/Sydney:20240109T060000
DTSTAMP:20260421T101538
CREATED:20230310T001041Z
LAST-MODIFIED:20230310T001054Z
UID:37281-1704780000-1704780000@www.shellybeachgolfclub.com.au
SUMMARY:Medley Individual Stableford 4 Grades plus Medley 2BBB
DESCRIPTION:
URL:https://www.shellybeachgolfclub.com.au/golf-program/medley-individual-stableford-4-grades-plus-medley-2bbb-22/
LOCATION:SBGC
CATEGORIES:Mens / Mixed Club Events
END:VEVENT
BEGIN:VEVENT
DTSTART;TZID=Australia/Sydney:20240110T060000
DTEND;TZID=Australia/Sydney:20240110T060000
DTSTAMP:20260421T101538
CREATED:20230310T001128Z
LAST-MODIFIED:20230310T001135Z
UID:37283-1704866400-1704866400@www.shellybeachgolfclub.com.au
SUMMARY:Women’s Summer Competition
DESCRIPTION:(Pink Tees)
URL:https://www.shellybeachgolfclub.com.au/golf-program/womens-summer-competition-5/
LOCATION:SBGC
CATEGORIES:Ladies Events
END:VEVENT
BEGIN:VEVENT
DTSTART;TZID=Australia/Sydney:20240111T060000
DTEND;TZID=Australia/Sydney:20240111T060000
DTSTAMP:20260421T101538
CREATED:20230310T001215Z
LAST-MODIFIED:20230310T001226Z
UID:37285-1704952800-1704952800@www.shellybeachgolfclub.com.au
SUMMARY:Individual Stableford 4 Grades plus 2B Multiplier
DESCRIPTION:
URL:https://www.shellybeachgolfclub.com.au/golf-program/individual-stableford-4-grades-plus-2b-multiplier-5/
LOCATION:SBGC
CATEGORIES:Mens / Mixed Club Events
END:VEVENT
BEGIN:VEVENT
DTSTART;TZID=Australia/Sydney:20240112T060000
DTEND;TZID=Australia/Sydney:20240112T060000
DTSTAMP:20260421T101538
CREATED:20230310T001333Z
LAST-MODIFIED:20230310T001357Z
UID:37287-1705039200-1705039200@www.shellybeachgolfclub.com.au
SUMMARY:Men’s & Women’s Individual Stableford
DESCRIPTION:
URL:https://www.shellybeachgolfclub.com.au/golf-program/mens-womens-individual-stableford-43/
LOCATION:SBGC
CATEGORIES:Mens / Mixed Club Events
END:VEVENT
BEGIN:VEVENT
DTSTART;TZID=Australia/Sydney:20240112T110000
DTEND;TZID=Australia/Sydney:20240112T110000
DTSTAMP:20260421T101538
CREATED:20230310T001604Z
LAST-MODIFIED:20230310T001616Z
UID:37289-1705057200-1705057200@www.shellybeachgolfclub.com.au
SUMMARY:Chook Run
DESCRIPTION:
URL:https://www.shellybeachgolfclub.com.au/golf-program/chook-run-44/
LOCATION:SBGC
CATEGORIES:Mens / Mixed Club Events
END:VEVENT
BEGIN:VEVENT
DTSTART;TZID=Australia/Sydney:20240113T060000
DTEND;TZID=Australia/Sydney:20240113T060000
DTSTAMP:20260421T101538
CREATED:20230310T001659Z
LAST-MODIFIED:20230310T001706Z
UID:37291-1705125600-1705125600@www.shellybeachgolfclub.com.au
SUMMARY:Individual Stableford Men & Women’s plus Men/Medley 2B Multiplier
DESCRIPTION:
URL:https://www.shellybeachgolfclub.com.au/golf-program/individual-stableford-men-womens-plus-men-medley-2b-multiplier-6/
LOCATION:SBGC
CATEGORIES:Mens / Mixed Club Events
END:VEVENT
BEGIN:VEVENT
DTSTART;TZID=Australia/Sydney:20240113T060000
DTEND;TZID=Australia/Sydney:20240113T060000
DTSTAMP:20260421T101538
CREATED:20230310T001732Z
LAST-MODIFIED:20230310T001741Z
UID:37293-1705125600-1705125600@www.shellybeachgolfclub.com.au
SUMMARY:Junior Trophy
DESCRIPTION:
URL:https://www.shellybeachgolfclub.com.au/golf-program/junior-trophy/
LOCATION:SBGC
CATEGORIES:Cadet / Junior Events
END:VEVENT
BEGIN:VEVENT
DTSTART;TZID=Australia/Sydney:20240114T060000
DTEND;TZID=Australia/Sydney:20240114T060000
DTSTAMP:20260421T101538
CREATED:20230310T002048Z
LAST-MODIFIED:20230310T002104Z
UID:37295-1705212000-1705212000@www.shellybeachgolfclub.com.au
SUMMARY:Medley Individual Stableford plus Medley 2BBB + 2BBB Scratch
DESCRIPTION:
URL:https://www.shellybeachgolfclub.com.au/golf-program/medley-individual-stableford-plus-medley-2bbb-2bbb-scratch-11/
LOCATION:SBGC
CATEGORIES:Mens / Mixed Club Events
END:VEVENT
BEGIN:VEVENT
DTSTART;TZID=Australia/Sydney:20240115T060000
DTEND;TZID=Australia/Sydney:20240115T060000
DTSTAMP:20260421T101538
CREATED:20230310T002145Z
LAST-MODIFIED:20230418T063610Z
UID:37297-1705298400-1705298400@www.shellybeachgolfclub.com.au
SUMMARY:Mad Monday Men’s & Women’s Individual Stableford
DESCRIPTION:
URL:https://www.shellybeachgolfclub.com.au/golf-program/mad-monday-mens-womens-individual-stableford-34/
LOCATION:SBGC
CATEGORIES:Mens / Mixed Club Events
END:VEVENT
BEGIN:VEVENT
DTSTART;TZID=Australia/Sydney:20240116T060000
DTEND;TZID=Australia/Sydney:20240116T060000
DTSTAMP:20260421T101538
CREATED:20230310T002242Z
LAST-MODIFIED:20230310T002252Z
UID:37299-1705384800-1705384800@www.shellybeachgolfclub.com.au
SUMMARY:Medley Individual Stableford 4 Grades plus Medley 2B Aggregate
DESCRIPTION:
URL:https://www.shellybeachgolfclub.com.au/golf-program/medley-individual-stableford-4-grades-plus-medley-2b-aggregate-12/
LOCATION:SBGC
CATEGORIES:Mens / Mixed Club Events
END:VEVENT
BEGIN:VEVENT
DTSTART;TZID=Australia/Sydney:20240117T060000
DTEND;TZID=Australia/Sydney:20240117T060000
DTSTAMP:20260421T101538
CREATED:20230310T002333Z
LAST-MODIFIED:20230310T002342Z
UID:37301-1705471200-1705471200@www.shellybeachgolfclub.com.au
SUMMARY:Women’s Summer Competition
DESCRIPTION:(Pink Tees)
URL:https://www.shellybeachgolfclub.com.au/golf-program/womens-summer-competition-6/
LOCATION:SBGC
CATEGORIES:Ladies Events
END:VEVENT
BEGIN:VEVENT
DTSTART;TZID=Australia/Sydney:20240118T060000
DTEND;TZID=Australia/Sydney:20240118T060000
DTSTAMP:20260421T101538
CREATED:20230310T002422Z
LAST-MODIFIED:20230310T002430Z
UID:37303-1705557600-1705557600@www.shellybeachgolfclub.com.au
SUMMARY:Individual Stableford 4 Grades plus 2BBB
DESCRIPTION:
URL:https://www.shellybeachgolfclub.com.au/golf-program/individual-stableford-4-grades-plus-2bbb-19/
LOCATION:SBGC
CATEGORIES:Mens / Mixed Club Events
END:VEVENT
BEGIN:VEVENT
DTSTART;TZID=Australia/Sydney:20240119T060000
DTEND;TZID=Australia/Sydney:20240119T060000
DTSTAMP:20260421T101538
CREATED:20230310T002458Z
LAST-MODIFIED:20230310T002510Z
UID:37305-1705644000-1705644000@www.shellybeachgolfclub.com.au
SUMMARY:Men’s & Women’s Individual Stableford
DESCRIPTION:
URL:https://www.shellybeachgolfclub.com.au/golf-program/mens-womens-individual-stableford-44/
LOCATION:SBGC
CATEGORIES:Mens / Mixed Club Events
END:VEVENT
BEGIN:VEVENT
DTSTART;TZID=Australia/Sydney:20240119T060000
DTEND;TZID=Australia/Sydney:20240119T060000
DTSTAMP:20260421T101538
CREATED:20230310T002637Z
LAST-MODIFIED:20230310T002645Z
UID:37309-1705644000-1705644000@www.shellybeachgolfclub.com.au
SUMMARY:Choose Your TEE Day
DESCRIPTION:
URL:https://www.shellybeachgolfclub.com.au/golf-program/choose-your-tee-day-13/
LOCATION:SBGC
CATEGORIES:Mens / Mixed Club Events
END:VEVENT
BEGIN:VEVENT
DTSTART;TZID=Australia/Sydney:20240119T110000
DTEND;TZID=Australia/Sydney:20240119T110000
DTSTAMP:20260421T101538
CREATED:20230310T002605Z
LAST-MODIFIED:20230310T002613Z
UID:37307-1705662000-1705662000@www.shellybeachgolfclub.com.au
SUMMARY:Chook Run
DESCRIPTION:
URL:https://www.shellybeachgolfclub.com.au/golf-program/chook-run-45/
LOCATION:SBGC
CATEGORIES:Mens / Mixed Club Events
END:VEVENT
BEGIN:VEVENT
DTSTART;TZID=Australia/Sydney:20240120T060000
DTEND;TZID=Australia/Sydney:20240120T060000
DTSTAMP:20260421T101538
CREATED:20230310T002714Z
LAST-MODIFIED:20230310T002726Z
UID:37311-1705730400-1705730400@www.shellybeachgolfclub.com.au
SUMMARY:Individual Stableford Men & Women’s plus Men/Medley 2B Split 6’s\, 1st 6 holes: 2BBB\, 2nd 6 holes: 2B Aggregate & 3rd 6 holes: 2B Multiplier
DESCRIPTION:
URL:https://www.shellybeachgolfclub.com.au/golf-program/individual-stableford-men-womens-plus-men-medley-2b-split-6s-1st-6-holes-2bbb-2nd-6-holes-2b-aggregate-3rd-6-holes-2b-multiplier-2/
LOCATION:SBGC
CATEGORIES:Mens / Mixed Club Events
END:VEVENT
BEGIN:VEVENT
DTSTART;TZID=Australia/Sydney:20240121T060000
DTEND;TZID=Australia/Sydney:20240121T060000
DTSTAMP:20260421T101538
CREATED:20230310T002755Z
LAST-MODIFIED:20230310T002804Z
UID:37313-1705816800-1705816800@www.shellybeachgolfclub.com.au
SUMMARY:Medley Individual Stableford plus Medley 2BBB Aggregate
DESCRIPTION:
URL:https://www.shellybeachgolfclub.com.au/golf-program/medley-individual-stableford-plus-medley-2bbb-aggregate/
LOCATION:SBGC
CATEGORIES:Mens / Mixed Club Events
END:VEVENT
BEGIN:VEVENT
DTSTART;TZID=Australia/Sydney:20240122T060000
DTEND;TZID=Australia/Sydney:20240122T060000
DTSTAMP:20260421T101538
CREATED:20230310T002840Z
LAST-MODIFIED:20230418T063631Z
UID:37315-1705903200-1705903200@www.shellybeachgolfclub.com.au
SUMMARY:Mad Monday Men’s & Women’s Individual Stableford
DESCRIPTION:
URL:https://www.shellybeachgolfclub.com.au/golf-program/mad-monday-mens-womens-individual-stableford-35/
LOCATION:SBGC
CATEGORIES:Mens / Mixed Club Events
END:VEVENT
BEGIN:VEVENT
DTSTART;TZID=Australia/Sydney:20240123T060000
DTEND;TZID=Australia/Sydney:20240123T060000
DTSTAMP:20260421T101538
CREATED:20230310T002911Z
LAST-MODIFIED:20230310T002917Z
UID:37317-1705989600-1705989600@www.shellybeachgolfclub.com.au
SUMMARY:Medley Individual Stableford 4 Grades plus Medley 2BBB
DESCRIPTION:
URL:https://www.shellybeachgolfclub.com.au/golf-program/medley-individual-stableford-4-grades-plus-medley-2bbb-23/
LOCATION:SBGC
CATEGORIES:Mens / Mixed Club Events
END:VEVENT
END:VCALENDAR