BEGIN:VCALENDAR
VERSION:2.0
PRODID:-//Shelly Beach Golf Club - ECPv6.15.18//NONSGML v1.0//EN
CALSCALE:GREGORIAN
METHOD:PUBLISH
X-WR-CALNAME:Shelly Beach Golf Club
X-ORIGINAL-URL:https://www.shellybeachgolfclub.com.au
X-WR-CALDESC:Events for Shelly Beach Golf Club
REFRESH-INTERVAL;VALUE=DURATION:PT1H
X-Robots-Tag:noindex
X-PUBLISHED-TTL:PT1H
BEGIN:VTIMEZONE
TZID:Australia/Sydney
BEGIN:STANDARD
TZOFFSETFROM:+1100
TZOFFSETTO:+1000
TZNAME:AEST
DTSTART:20220402T160000
END:STANDARD
BEGIN:DAYLIGHT
TZOFFSETFROM:+1000
TZOFFSETTO:+1100
TZNAME:AEDT
DTSTART:20221001T160000
END:DAYLIGHT
BEGIN:STANDARD
TZOFFSETFROM:+1100
TZOFFSETTO:+1000
TZNAME:AEST
DTSTART:20230401T160000
END:STANDARD
BEGIN:DAYLIGHT
TZOFFSETFROM:+1000
TZOFFSETTO:+1100
TZNAME:AEDT
DTSTART:20230930T160000
END:DAYLIGHT
BEGIN:STANDARD
TZOFFSETFROM:+1100
TZOFFSETTO:+1000
TZNAME:AEST
DTSTART:20240406T160000
END:STANDARD
BEGIN:DAYLIGHT
TZOFFSETFROM:+1000
TZOFFSETTO:+1100
TZNAME:AEDT
DTSTART:20241005T160000
END:DAYLIGHT
END:VTIMEZONE
BEGIN:VEVENT
DTSTART;TZID=Australia/Sydney:20231101T060000
DTEND;TZID=Australia/Sydney:20231101T060000
DTSTAMP:20260421T140116
CREATED:20230303T033156Z
LAST-MODIFIED:20230303T033203Z
UID:37043-1698818400-1698818400@www.shellybeachgolfclub.com.au
SUMMARY:Individual Stableford
DESCRIPTION:(Red Tees)
URL:https://www.shellybeachgolfclub.com.au/golf-program/individual-stableford-6/
LOCATION:SBGC
CATEGORIES:Ladies Events
END:VEVENT
BEGIN:VEVENT
DTSTART;TZID=Australia/Sydney:20231101T060000
DTEND;TZID=Australia/Sydney:20231101T060000
DTSTAMP:20260421T140116
CREATED:20230303T033228Z
LAST-MODIFIED:20230303T033259Z
UID:37045-1698818400-1698818400@www.shellybeachgolfclub.com.au
SUMMARY:Gold Medal Playoff in conjunction
DESCRIPTION:
URL:https://www.shellybeachgolfclub.com.au/golf-program/gold-medal-playoff-in-conjunction/
LOCATION:SBGC
CATEGORIES:Ladies Events
END:VEVENT
BEGIN:VEVENT
DTSTART;TZID=Australia/Sydney:20231101T060000
DTEND;TZID=Australia/Sydney:20231101T060000
DTSTAMP:20260421T140116
CREATED:20230303T033326Z
LAST-MODIFIED:20230303T033333Z
UID:37047-1698818400-1698818400@www.shellybeachgolfclub.com.au
SUMMARY:Final qualifying for Top Gal Shootout and Wildcard Draw
DESCRIPTION:
URL:https://www.shellybeachgolfclub.com.au/golf-program/final-qualifying-for-top-gal-shootout-and-wildcard-draw/
LOCATION:SBGC
CATEGORIES:Ladies Events
END:VEVENT
BEGIN:VEVENT
DTSTART;TZID=Australia/Sydney:20231102T060000
DTEND;TZID=Australia/Sydney:20231102T060000
DTSTAMP:20260421T140116
CREATED:20230303T033455Z
LAST-MODIFIED:20230308T044544Z
UID:37051-1698904800-1698904800@www.shellybeachgolfclub.com.au
SUMMARY:Final qualifying round for Top Gun Shootout
DESCRIPTION:
URL:https://www.shellybeachgolfclub.com.au/golf-program/final-qualifying-round-for-top-gun-shootout/
LOCATION:SBGC
CATEGORIES:Extra / District Events
END:VEVENT
BEGIN:VEVENT
DTSTART;TZID=Australia/Sydney:20231102T060000
DTEND;TZID=Australia/Sydney:20231102T060000
DTSTAMP:20260421T140116
CREATED:20230303T033418Z
LAST-MODIFIED:20230303T033425Z
UID:37049-1698904800-1698904800@www.shellybeachgolfclub.com.au
SUMMARY:Individual Stableford 4 Grades plus 2BBB
DESCRIPTION:
URL:https://www.shellybeachgolfclub.com.au/golf-program/individual-stableford-4-grades-plus-2bbb-15/
LOCATION:SBGC
CATEGORIES:Mens / Mixed Club Events
END:VEVENT
BEGIN:VEVENT
DTSTART;TZID=Australia/Sydney:20231103T060000
DTEND;TZID=Australia/Sydney:20231103T060000
DTSTAMP:20260421T140116
CREATED:20230303T033551Z
LAST-MODIFIED:20230303T033601Z
UID:37053-1698991200-1698991200@www.shellybeachgolfclub.com.au
SUMMARY:Men’s &Women’s Individual Stableford
DESCRIPTION:
URL:https://www.shellybeachgolfclub.com.au/golf-program/mens-womens-individual-stableford-33/
LOCATION:SBGC
CATEGORIES:Mens / Mixed Club Events
END:VEVENT
BEGIN:VEVENT
DTSTART;TZID=Australia/Sydney:20231103T060000
DTEND;TZID=Australia/Sydney:20231103T060000
DTSTAMP:20260421T140116
CREATED:20230303T033707Z
LAST-MODIFIED:20230303T033716Z
UID:37057-1698991200-1698991200@www.shellybeachgolfclub.com.au
SUMMARY:Nominations open for 2023 CCDGA Pennants Men A\, B & C Grade + Juniors + Metropoloitan Mixed
DESCRIPTION:
URL:https://www.shellybeachgolfclub.com.au/golf-program/nominations-open-for-2023-ccdga-pennants-men-a-b-c-grade-juniors-metropoloitan-mixed/
LOCATION:SBGC
CATEGORIES:Extra / District Events
END:VEVENT
BEGIN:VEVENT
DTSTART;TZID=Australia/Sydney:20231103T060000
DTEND;TZID=Australia/Sydney:20231103T060000
DTSTAMP:20260421T140116
CREATED:20230303T033748Z
LAST-MODIFIED:20230303T033802Z
UID:37059-1698991200-1698991200@www.shellybeachgolfclub.com.au
SUMMARY:Top Gun Shootout Wildcard Draw
DESCRIPTION:
URL:https://www.shellybeachgolfclub.com.au/golf-program/top-gun-shootout-wildcard-draw/
LOCATION:SBGC
CATEGORIES:Extra / District Events
END:VEVENT
BEGIN:VEVENT
DTSTART;TZID=Australia/Sydney:20231103T110000
DTEND;TZID=Australia/Sydney:20231103T110000
DTSTAMP:20260421T140116
CREATED:20230303T033625Z
LAST-MODIFIED:20230303T033632Z
UID:37055-1699009200-1699009200@www.shellybeachgolfclub.com.au
SUMMARY:Chook Run
DESCRIPTION:
URL:https://www.shellybeachgolfclub.com.au/golf-program/chook-run-34/
LOCATION:SBGC
CATEGORIES:Mens / Mixed Club Events
END:VEVENT
BEGIN:VEVENT
DTSTART;TZID=Australia/Sydney:20231104T060000
DTEND;TZID=Australia/Sydney:20231104T060000
DTSTAMP:20260421T140116
CREATED:20230303T033827Z
LAST-MODIFIED:20230303T033836Z
UID:37061-1699077600-1699077600@www.shellybeachgolfclub.com.au
SUMMARY:Individual Stableford Men & Women’s plus Men/Medley 2B Aggregate
DESCRIPTION:
URL:https://www.shellybeachgolfclub.com.au/golf-program/individual-stableford-men-womens-plus-men-medley-2b-aggregate-12/
LOCATION:SBGC
CATEGORIES:Mens / Mixed Club Events
END:VEVENT
BEGIN:VEVENT
DTSTART;TZID=Australia/Sydney:20231104T060000
DTEND;TZID=Australia/Sydney:20231104T060000
DTSTAMP:20260421T140116
CREATED:20230303T033903Z
LAST-MODIFIED:20230303T033911Z
UID:37063-1699077600-1699077600@www.shellybeachgolfclub.com.au
SUMMARY:Women’s Monthly Goblet
DESCRIPTION:(Red Tees)
URL:https://www.shellybeachgolfclub.com.au/golf-program/womens-monthly-goblet/
LOCATION:SBGC
CATEGORIES:Ladies Events
END:VEVENT
BEGIN:VEVENT
DTSTART;TZID=Australia/Sydney:20231105T060000
DTEND;TZID=Australia/Sydney:20231105T060000
DTSTAMP:20260421T140116
CREATED:20230303T033935Z
LAST-MODIFIED:20230303T033948Z
UID:37065-1699164000-1699164000@www.shellybeachgolfclub.com.au
SUMMARY:Individual Stroke. Men’s Monthly Medal. 3 Grades
DESCRIPTION:
URL:https://www.shellybeachgolfclub.com.au/golf-program/individual-stroke-mens-monthly-medal-3-grades-6/
LOCATION:SBGC
CATEGORIES:Mens / Mixed Club Events
END:VEVENT
BEGIN:VEVENT
DTSTART;TZID=Australia/Sydney:20231105T060000
DTEND;TZID=Australia/Sydney:20231105T060000
DTSTAMP:20260421T140116
CREATED:20230303T034011Z
LAST-MODIFIED:20230303T034018Z
UID:37067-1699164000-1699164000@www.shellybeachgolfclub.com.au
SUMMARY:Women’s Individual Stableford
DESCRIPTION:
URL:https://www.shellybeachgolfclub.com.au/golf-program/womens-individual-stableford-11/
LOCATION:SBGC
CATEGORIES:Ladies Events
END:VEVENT
BEGIN:VEVENT
DTSTART;TZID=Australia/Sydney:20231106T060000
DTEND;TZID=Australia/Sydney:20231106T060000
DTSTAMP:20260421T140116
CREATED:20230303T034050Z
LAST-MODIFIED:20230418T063319Z
UID:37069-1699250400-1699250400@www.shellybeachgolfclub.com.au
SUMMARY:Mad Monday Men’s & Women’s Individual Stableford
DESCRIPTION:
URL:https://www.shellybeachgolfclub.com.au/golf-program/mad-monday-mens-womens-individual-stableford-26/
LOCATION:SBGC
CATEGORIES:Mens / Mixed Club Events
END:VEVENT
BEGIN:VEVENT
DTSTART;TZID=Australia/Sydney:20231107T060000
DTEND;TZID=Australia/Sydney:20231107T060000
DTSTAMP:20260421T140116
CREATED:20230303T034129Z
LAST-MODIFIED:20230303T034137Z
UID:37071-1699336800-1699336800@www.shellybeachgolfclub.com.au
SUMMARY:Medley Individual Stableford 4 Grades plus Medley 2B Aggregate
DESCRIPTION:
URL:https://www.shellybeachgolfclub.com.au/golf-program/medley-individual-stableford-4-grades-plus-medley-2b-aggregate-9/
LOCATION:SBGC
CATEGORIES:Mens / Mixed Club Events
END:VEVENT
BEGIN:VEVENT
DTSTART;TZID=Australia/Sydney:20231108T060000
DTEND;TZID=Australia/Sydney:20231108T060000
DTSTAMP:20260421T140116
CREATED:20230303T034237Z
LAST-MODIFIED:20230303T034245Z
UID:37073-1699423200-1699423200@www.shellybeachgolfclub.com.au
SUMMARY:Women’s Invitation Day
DESCRIPTION:4 Person Team Event.\nShotgun Start 7:00 for 8:00am.\n(Each team must have at least one visitor to win a prize).\n(Pink Tees).
URL:https://www.shellybeachgolfclub.com.au/golf-program/womens-invitation-day/
LOCATION:SBGC
CATEGORIES:Ladies Events
END:VEVENT
BEGIN:VEVENT
DTSTART;TZID=Australia/Sydney:20231109T060000
DTEND;TZID=Australia/Sydney:20231109T060000
DTSTAMP:20260421T140116
CREATED:20230303T034306Z
LAST-MODIFIED:20230303T034318Z
UID:37075-1699509600-1699509600@www.shellybeachgolfclub.com.au
SUMMARY:Individual Stableford 4 Grades plus 2B Split 6’s\, 1st 6 holes: 2BBB\, 2nd 6 holes: 2B Aggregate & 3rd 6 holes: 2B Multiplier
DESCRIPTION:
URL:https://www.shellybeachgolfclub.com.au/golf-program/individual-stableford-4-grades-plus-2b-split-6s-1st-6-holes-2bbb-2nd-6-holes-2b-aggregate-3rd-6-holes-2b-multiplier-5/
LOCATION:SBGC
CATEGORIES:Mens / Mixed Club Events
END:VEVENT
BEGIN:VEVENT
DTSTART;TZID=Australia/Sydney:20231110T060000
DTEND;TZID=Australia/Sydney:20231110T060000
DTSTAMP:20260421T140116
CREATED:20230303T034347Z
LAST-MODIFIED:20230303T034354Z
UID:37077-1699596000-1699596000@www.shellybeachgolfclub.com.au
SUMMARY:Men’s & Women’s Individual Stableford
DESCRIPTION:
URL:https://www.shellybeachgolfclub.com.au/golf-program/mens-womens-individual-stableford-34/
LOCATION:SBGC
CATEGORIES:Mens / Mixed Club Events
END:VEVENT
BEGIN:VEVENT
DTSTART;TZID=Australia/Sydney:20231110T110000
DTEND;TZID=Australia/Sydney:20231110T110000
DTSTAMP:20260421T140116
CREATED:20230303T034421Z
LAST-MODIFIED:20230303T034446Z
UID:37079-1699614000-1699614000@www.shellybeachgolfclub.com.au
SUMMARY:Chook Run
DESCRIPTION:
URL:https://www.shellybeachgolfclub.com.au/golf-program/chook-run-35/
LOCATION:SBGC
CATEGORIES:Mens / Mixed Club Events
END:VEVENT
BEGIN:VEVENT
DTSTART;TZID=Australia/Sydney:20231111T060000
DTEND;TZID=Australia/Sydney:20231111T060000
DTSTAMP:20260421T140116
CREATED:20230303T034511Z
LAST-MODIFIED:20230303T034517Z
UID:37081-1699682400-1699682400@www.shellybeachgolfclub.com.au
SUMMARY:Individual Stableford Men & Women’s plus Men/Medley 2BBB
DESCRIPTION:
URL:https://www.shellybeachgolfclub.com.au/golf-program/individual-stableford-men-womens-plus-men-medley-2bbb-16/
LOCATION:SBGC
CATEGORIES:Mens / Mixed Club Events
END:VEVENT
BEGIN:VEVENT
DTSTART;TZID=Australia/Sydney:20231112T060000
DTEND;TZID=Australia/Sydney:20231112T060000
DTSTAMP:20260421T140116
CREATED:20230303T034602Z
LAST-MODIFIED:20230303T034611Z
UID:37083-1699768800-1699768800@www.shellybeachgolfclub.com.au
SUMMARY:Medley Individual Stableford plus Medley 2BBB + 2BBB Scratch
DESCRIPTION:
URL:https://www.shellybeachgolfclub.com.au/golf-program/medley-individual-stableford-plus-medley-2bbb-2bbb-scratch-9/
LOCATION:SBGC
CATEGORIES:Mens / Mixed Club Events
END:VEVENT
BEGIN:VEVENT
DTSTART;TZID=Australia/Sydney:20231112T103000
DTEND;TZID=Australia/Sydney:20231112T103000
DTSTAMP:20260421T140116
CREATED:20230303T034652Z
LAST-MODIFIED:20230616T043626Z
UID:37085-1699785000-1699785000@www.shellybeachgolfclub.com.au
SUMMARY:Young Gun\, Top Gal and Top Gun Shootouts
DESCRIPTION:From the 1st tee
URL:https://www.shellybeachgolfclub.com.au/golf-program/coast-country-insurance-consultants-young-gun-top-gal-and-top-gun-shootouts/
LOCATION:SBGC
CATEGORIES:Extra / District Events
END:VEVENT
BEGIN:VEVENT
DTSTART;TZID=Australia/Sydney:20231113T060000
DTEND;TZID=Australia/Sydney:20231113T060000
DTSTAMP:20260421T140116
CREATED:20230303T034734Z
LAST-MODIFIED:20230418T063336Z
UID:37087-1699855200-1699855200@www.shellybeachgolfclub.com.au
SUMMARY:Mad Monday Men’s & Women’s Individual Stableford
DESCRIPTION:
URL:https://www.shellybeachgolfclub.com.au/golf-program/mad-monday-mens-womens-individual-stableford-27/
LOCATION:SBGC
CATEGORIES:Mens / Mixed Club Events
END:VEVENT
BEGIN:VEVENT
DTSTART;TZID=Australia/Sydney:20231114T060000
DTEND;TZID=Australia/Sydney:20231114T060000
DTSTAMP:20260421T140116
CREATED:20230303T034806Z
LAST-MODIFIED:20230303T034814Z
UID:37089-1699941600-1699941600@www.shellybeachgolfclub.com.au
SUMMARY:Medley Individual Stableford 4 Grades plus Medley 2BBB
DESCRIPTION:
URL:https://www.shellybeachgolfclub.com.au/golf-program/medley-individual-stableford-4-grades-plus-medley-2bbb-19/
LOCATION:SBGC
CATEGORIES:Mens / Mixed Club Events
END:VEVENT
BEGIN:VEVENT
DTSTART;TZID=Australia/Sydney:20231115T060000
DTEND;TZID=Australia/Sydney:20231115T060000
DTSTAMP:20260421T140116
CREATED:20230303T034920Z
LAST-MODIFIED:20230303T034927Z
UID:37091-1700028000-1700028000@www.shellybeachgolfclub.com.au
SUMMARY:Women’s Individual Stableford
DESCRIPTION:(Pink Tees)
URL:https://www.shellybeachgolfclub.com.au/golf-program/womens-individual-stableford-12/
LOCATION:SBGC
CATEGORIES:Ladies Events
END:VEVENT
BEGIN:VEVENT
DTSTART;TZID=Australia/Sydney:20231116T060000
DTEND;TZID=Australia/Sydney:20231116T060000
DTSTAMP:20260421T140116
CREATED:20230303T034959Z
LAST-MODIFIED:20230303T035008Z
UID:37093-1700114400-1700114400@www.shellybeachgolfclub.com.au
SUMMARY:Individual Stableford 4 Grades plus 2BBB
DESCRIPTION:
URL:https://www.shellybeachgolfclub.com.au/golf-program/individual-stableford-4-grades-plus-2bbb-16/
LOCATION:SBGC
CATEGORIES:Mens / Mixed Club Events
END:VEVENT
BEGIN:VEVENT
DTSTART;TZID=Australia/Sydney:20231117T060000
DTEND;TZID=Australia/Sydney:20231117T060000
DTSTAMP:20260421T140116
CREATED:20230303T035029Z
LAST-MODIFIED:20230303T035036Z
UID:37095-1700200800-1700200800@www.shellybeachgolfclub.com.au
SUMMARY:Men’s & Women’s Individual Stableford
DESCRIPTION:
URL:https://www.shellybeachgolfclub.com.au/golf-program/mens-womens-individual-stableford-35/
LOCATION:SBGC
CATEGORIES:Mens / Mixed Club Events
END:VEVENT
BEGIN:VEVENT
DTSTART;TZID=Australia/Sydney:20231117T060000
DTEND;TZID=Australia/Sydney:20231117T060000
DTSTAMP:20260421T140116
CREATED:20230303T035130Z
LAST-MODIFIED:20230303T035138Z
UID:37099-1700200800-1700200800@www.shellybeachgolfclub.com.au
SUMMARY:Men’s Foursomes Championship entries close
DESCRIPTION:
URL:https://www.shellybeachgolfclub.com.au/golf-program/mens-foursomes-championship-entries-close/
LOCATION:SBGC
CATEGORIES:Extra / District Events
END:VEVENT
BEGIN:VEVENT
DTSTART;TZID=Australia/Sydney:20231117T080000
DTEND;TZID=Australia/Sydney:20231117T080000
DTSTAMP:20260421T140116
CREATED:20230329T061030Z
LAST-MODIFIED:20230329T061114Z
UID:37673-1700208000-1700208000@www.shellybeachgolfclub.com.au
SUMMARY:Aboriginal Golf Day
DESCRIPTION:
URL:https://www.shellybeachgolfclub.com.au/golf-program/aboriginal-golf-day/
LOCATION:SBGC
CATEGORIES:Extra / District Events
END:VEVENT
BEGIN:VEVENT
DTSTART;TZID=Australia/Sydney:20231117T130000
DTEND;TZID=Australia/Sydney:20231117T130000
DTSTAMP:20260421T140116
CREATED:20230303T035100Z
LAST-MODIFIED:20230329T061208Z
UID:37097-1700226000-1700226000@www.shellybeachgolfclub.com.au
SUMMARY:Chook Run
DESCRIPTION:
URL:https://www.shellybeachgolfclub.com.au/golf-program/chook-run-36/
LOCATION:SBGC
CATEGORIES:Mens / Mixed Club Events
END:VEVENT
END:VCALENDAR