BEGIN:VCALENDAR
VERSION:2.0
PRODID:-//Shelly Beach Golf Club - ECPv6.15.18//NONSGML v1.0//EN
CALSCALE:GREGORIAN
METHOD:PUBLISH
X-ORIGINAL-URL:https://www.shellybeachgolfclub.com.au
X-WR-CALDESC:Events for Shelly Beach Golf Club
REFRESH-INTERVAL;VALUE=DURATION:PT1H
X-Robots-Tag:noindex
X-PUBLISHED-TTL:PT1H
BEGIN:VTIMEZONE
TZID:Australia/Sydney
BEGIN:STANDARD
TZOFFSETFROM:+1100
TZOFFSETTO:+1000
TZNAME:AEST
DTSTART:20220402T160000
END:STANDARD
BEGIN:DAYLIGHT
TZOFFSETFROM:+1000
TZOFFSETTO:+1100
TZNAME:AEDT
DTSTART:20221001T160000
END:DAYLIGHT
BEGIN:STANDARD
TZOFFSETFROM:+1100
TZOFFSETTO:+1000
TZNAME:AEST
DTSTART:20230401T160000
END:STANDARD
BEGIN:DAYLIGHT
TZOFFSETFROM:+1000
TZOFFSETTO:+1100
TZNAME:AEDT
DTSTART:20230930T160000
END:DAYLIGHT
BEGIN:STANDARD
TZOFFSETFROM:+1100
TZOFFSETTO:+1000
TZNAME:AEST
DTSTART:20240406T160000
END:STANDARD
BEGIN:DAYLIGHT
TZOFFSETFROM:+1000
TZOFFSETTO:+1100
TZNAME:AEDT
DTSTART:20241005T160000
END:DAYLIGHT
END:VTIMEZONE
BEGIN:VEVENT
DTSTART;TZID=Australia/Sydney:20231001T070000
DTEND;TZID=Australia/Sydney:20231001T070000
DTSTAMP:20260421T154700
CREATED:20230303T021508Z
LAST-MODIFIED:20230303T021517Z
UID:36956-1696143600-1696143600@www.shellybeachgolfclub.com.au
SUMMARY:MOANERS GRAND FINAL DAY
DESCRIPTION:Shotgun start
URL:https://www.shellybeachgolfclub.com.au/golf-program/moaners-grand-final-day/
LOCATION:SBGC
CATEGORIES:Extra / District Events
END:VEVENT
BEGIN:VEVENT
DTSTART;TZID=Australia/Sydney:20231001T110000
DTEND;TZID=Australia/Sydney:20231001T110000
DTSTAMP:20260421T154700
CREATED:20230303T025535Z
LAST-MODIFIED:20230303T025545Z
UID:36958-1696158000-1696158000@www.shellybeachgolfclub.com.au
SUMMARY:Individual Medley Stableford plus Medley 2BBB
DESCRIPTION:from the 1st tee
URL:https://www.shellybeachgolfclub.com.au/golf-program/individual-medley-stableford-plus-medley-2bbb/
LOCATION:SBGC
CATEGORIES:Mens / Mixed Club Events
END:VEVENT
BEGIN:VEVENT
DTSTART;TZID=Australia/Sydney:20231002T060000
DTEND;TZID=Australia/Sydney:20231002T060000
DTSTAMP:20260421T154700
CREATED:20230303T025637Z
LAST-MODIFIED:20230418T063144Z
UID:36960-1696226400-1696226400@www.shellybeachgolfclub.com.au
SUMMARY:Mad Monday Men’s & Women’s Individual Stableford
DESCRIPTION:
URL:https://www.shellybeachgolfclub.com.au/golf-program/mad-monday-mens-womens-individual-stableford-21/
LOCATION:SBGC
CATEGORIES:Mens / Mixed Club Events
END:VEVENT
BEGIN:VEVENT
DTSTART;TZID=Australia/Sydney:20231003T060000
DTEND;TZID=Australia/Sydney:20231003T060000
DTSTAMP:20260421T154700
CREATED:20230303T025713Z
LAST-MODIFIED:20230303T025726Z
UID:36962-1696312800-1696312800@www.shellybeachgolfclub.com.au
SUMMARY:Medley Individual Stableford 4 Grades plus Medley 2BBB
DESCRIPTION:
URL:https://www.shellybeachgolfclub.com.au/golf-program/medley-individual-stableford-4-grades-plus-medley-2bbb-16/
LOCATION:SBGC
CATEGORIES:Mens / Mixed Club Events
END:VEVENT
BEGIN:VEVENT
DTSTART;TZID=Australia/Sydney:20231004T060000
DTEND;TZID=Australia/Sydney:20231004T060000
DTSTAMP:20260421T154700
CREATED:20230303T025924Z
LAST-MODIFIED:20230303T025940Z
UID:36964-1696399200-1696399200@www.shellybeachgolfclub.com.au
SUMMARY:Women’s Club Championshsip Round 2 + Seniors Final Round
DESCRIPTION:(Red Tees)
URL:https://www.shellybeachgolfclub.com.au/golf-program/womens-club-championshsip-round-2-seniors-final-round/
LOCATION:SBGC
CATEGORIES:Ladies Events
END:VEVENT
BEGIN:VEVENT
DTSTART;TZID=Australia/Sydney:20231005T060000
DTEND;TZID=Australia/Sydney:20231005T170000
DTSTAMP:20260421T154700
CREATED:20230303T030301Z
LAST-MODIFIED:20230303T030301Z
UID:36966-1696485600-1696525200@www.shellybeachgolfclub.com.au
SUMMARY:Individual Stableford 4 Grades plus 2BBB
DESCRIPTION:
URL:https://www.shellybeachgolfclub.com.au/golf-program/individual-stableford-4-grades-plus-2bbb-13/
LOCATION:SBGC
CATEGORIES:Mens / Mixed Club Events
END:VEVENT
BEGIN:VEVENT
DTSTART;TZID=Australia/Sydney:20231006T060000
DTEND;TZID=Australia/Sydney:20231006T060000
DTSTAMP:20260421T154700
CREATED:20230303T030438Z
LAST-MODIFIED:20230303T030454Z
UID:36968-1696572000-1696572000@www.shellybeachgolfclub.com.au
SUMMARY:Men’s & Women’s Individual Stableford
DESCRIPTION:
URL:https://www.shellybeachgolfclub.com.au/golf-program/mens-womens-individual-stableford-29/
LOCATION:SBGC
CATEGORIES:Mens / Mixed Club Events
END:VEVENT
BEGIN:VEVENT
DTSTART;TZID=Australia/Sydney:20231006T110000
DTEND;TZID=Australia/Sydney:20231006T110000
DTSTAMP:20260421T154700
CREATED:20230303T030529Z
LAST-MODIFIED:20230303T030548Z
UID:36970-1696590000-1696590000@www.shellybeachgolfclub.com.au
SUMMARY:Chook Run
DESCRIPTION:
URL:https://www.shellybeachgolfclub.com.au/golf-program/chook-run-30/
LOCATION:SBGC
CATEGORIES:Mens / Mixed Club Events
END:VEVENT
BEGIN:VEVENT
DTSTART;TZID=Australia/Sydney:20231007T060000
DTEND;TZID=Australia/Sydney:20231007T060000
DTSTAMP:20260421T154700
CREATED:20230303T030752Z
LAST-MODIFIED:20230303T030808Z
UID:36972-1696658400-1696658400@www.shellybeachgolfclub.com.au
SUMMARY:TOOHEYS Club Championships 1st Round
DESCRIPTION:October Monthly Medal.\n3 Grades.
URL:https://www.shellybeachgolfclub.com.au/golf-program/tooheys-club-championships-1st-round/
LOCATION:SBGC
CATEGORIES:Mens / Mixed Club Events
END:VEVENT
BEGIN:VEVENT
DTSTART;TZID=Australia/Sydney:20231008T060000
DTEND;TZID=Australia/Sydney:20231008T060000
DTSTAMP:20260421T154700
CREATED:20230303T030844Z
LAST-MODIFIED:20230303T030855Z
UID:36975-1696744800-1696744800@www.shellybeachgolfclub.com.au
SUMMARY:TOOHEYS Club Championships 2nd Round
DESCRIPTION:(Seeded draw for Saturday 14th posted).
URL:https://www.shellybeachgolfclub.com.au/golf-program/tooheys-club-championships-2nd-round/
LOCATION:SBGC
CATEGORIES:Mens / Mixed Club Events
END:VEVENT
BEGIN:VEVENT
DTSTART;TZID=Australia/Sydney:20231009T060000
DTEND;TZID=Australia/Sydney:20231009T060000
DTSTAMP:20260421T154700
CREATED:20230303T030927Z
LAST-MODIFIED:20230418T063203Z
UID:36977-1696831200-1696831200@www.shellybeachgolfclub.com.au
SUMMARY:Mad Monday Men’s & Women’s Individual Stableford
DESCRIPTION:
URL:https://www.shellybeachgolfclub.com.au/golf-program/mad-monday-mens-womens-individual-stableford-22/
LOCATION:SBGC
CATEGORIES:Mens / Mixed Club Events
END:VEVENT
BEGIN:VEVENT
DTSTART;TZID=Australia/Sydney:20231010T060000
DTEND;TZID=Australia/Sydney:20231010T060000
DTSTAMP:20260421T154700
CREATED:20230303T031005Z
LAST-MODIFIED:20230303T031026Z
UID:36979-1696917600-1696917600@www.shellybeachgolfclub.com.au
SUMMARY:Medley Individual Stableford 4 Grades plus Medley 2B Multiplier
DESCRIPTION:
URL:https://www.shellybeachgolfclub.com.au/golf-program/medley-individual-stableford-4-grades-plus-medley-2b-multiplier-2/
LOCATION:SBGC
CATEGORIES:Mens / Mixed Club Events
END:VEVENT
BEGIN:VEVENT
DTSTART;TZID=Australia/Sydney:20231011T060000
DTEND;TZID=Australia/Sydney:20231011T060000
DTSTAMP:20260421T154700
CREATED:20230303T031112Z
LAST-MODIFIED:20230303T031134Z
UID:36981-1697004000-1697004000@www.shellybeachgolfclub.com.au
SUMMARY:Women’s Club Championships Final Round. Seniors Brooch
DESCRIPTION:(Red Tees)
URL:https://www.shellybeachgolfclub.com.au/golf-program/womens-club-championships-final-round-seniors-brooch/
LOCATION:SBGC
CATEGORIES:Ladies Events
END:VEVENT
BEGIN:VEVENT
DTSTART;TZID=Australia/Sydney:20231012T060000
DTEND;TZID=Australia/Sydney:20231012T060000
DTSTAMP:20260421T154700
CREATED:20230303T031210Z
LAST-MODIFIED:20230303T031218Z
UID:36983-1697090400-1697090400@www.shellybeachgolfclub.com.au
SUMMARY:Individual Stableford 4 Grades plus 2B Aggregate
DESCRIPTION:
URL:https://www.shellybeachgolfclub.com.au/golf-program/individual-stableford-4-grades-plus-2b-aggregate-6/
LOCATION:SBGC
CATEGORIES:Mens / Mixed Club Events
END:VEVENT
BEGIN:VEVENT
DTSTART;TZID=Australia/Sydney:20231013T060000
DTEND;TZID=Australia/Sydney:20231013T060000
DTSTAMP:20260421T154700
CREATED:20230303T032713Z
LAST-MODIFIED:20230329T060855Z
UID:37031-1697176800-1697176800@www.shellybeachgolfclub.com.au
SUMMARY:Choose Your TEE Day
DESCRIPTION:
URL:https://www.shellybeachgolfclub.com.au/golf-program/choose-your-tee-day-10/
LOCATION:SBGC
CATEGORIES:Mens / Mixed Club Events
END:VEVENT
BEGIN:VEVENT
DTSTART;TZID=Australia/Sydney:20231013T060000
DTEND;TZID=Australia/Sydney:20231013T060000
DTSTAMP:20260421T154700
CREATED:20230303T031239Z
LAST-MODIFIED:20230303T031247Z
UID:36985-1697176800-1697176800@www.shellybeachgolfclub.com.au
SUMMARY:Men’s & Women’s Individual Stableford
DESCRIPTION:
URL:https://www.shellybeachgolfclub.com.au/golf-program/mens-womens-individual-stableford-30/
LOCATION:SBGC
CATEGORIES:Mens / Mixed Club Events
END:VEVENT
BEGIN:VEVENT
DTSTART;TZID=Australia/Sydney:20231013T110000
DTEND;TZID=Australia/Sydney:20231013T110000
DTSTAMP:20260421T154700
CREATED:20230303T031307Z
LAST-MODIFIED:20230303T031314Z
UID:36987-1697194800-1697194800@www.shellybeachgolfclub.com.au
SUMMARY:Chook Run
DESCRIPTION:
URL:https://www.shellybeachgolfclub.com.au/golf-program/chook-run-31/
LOCATION:SBGC
CATEGORIES:Mens / Mixed Club Events
END:VEVENT
BEGIN:VEVENT
DTSTART;TZID=Australia/Sydney:20231014T060000
DTEND;TZID=Australia/Sydney:20231014T060000
DTSTAMP:20260421T154700
CREATED:20230303T031426Z
LAST-MODIFIED:20230303T031438Z
UID:36989-1697263200-1697263200@www.shellybeachgolfclub.com.au
SUMMARY:TOOHEYS Club Championships 3rd Round
DESCRIPTION:(Seeded draw for Sunday 15th posted)
URL:https://www.shellybeachgolfclub.com.au/golf-program/tooheys-club-championships-3rd-round/
LOCATION:SBGC
CATEGORIES:Mens / Mixed Club Events
END:VEVENT
BEGIN:VEVENT
DTSTART;TZID=Australia/Sydney:20231014T060000
DTEND;TZID=Australia/Sydney:20231014T060000
DTSTAMP:20260421T154700
CREATED:20230303T031507Z
LAST-MODIFIED:20230303T031518Z
UID:36991-1697263200-1697263200@www.shellybeachgolfclub.com.au
SUMMARY:Women’s Weekend & Junior Girls Club Championships Round 1
DESCRIPTION:(Red Tees)
URL:https://www.shellybeachgolfclub.com.au/golf-program/womens-weekend-junior-girls-club-championships-round-1/
LOCATION:SBGC
CATEGORIES:Ladies Events
END:VEVENT
BEGIN:VEVENT
DTSTART;TZID=Australia/Sydney:20231014T060000
DTEND;TZID=Australia/Sydney:20231014T060000
DTSTAMP:20260421T154700
CREATED:20230303T031553Z
LAST-MODIFIED:20230303T031600Z
UID:36993-1697263200-1697263200@www.shellybeachgolfclub.com.au
SUMMARY:Junior Trophy and Final Qualifying for Young Gun Shootout
DESCRIPTION:
URL:https://www.shellybeachgolfclub.com.au/golf-program/junior-trophy-and-final-qualifying-for-young-gun-shootout/
LOCATION:SBGC
CATEGORIES:Cadet / Junior Events
END:VEVENT
BEGIN:VEVENT
DTSTART;TZID=Australia/Sydney:20231015T060000
DTEND;TZID=Australia/Sydney:20231015T060000
DTSTAMP:20260421T154700
CREATED:20230303T031641Z
LAST-MODIFIED:20230303T031648Z
UID:36995-1697349600-1697349600@www.shellybeachgolfclub.com.au
SUMMARY:TOOHEYS Club Championships Final Round
DESCRIPTION:(Light snacks & presentation for all grades)
URL:https://www.shellybeachgolfclub.com.au/golf-program/tooheys-club-championships-final-round/
LOCATION:SBGC
CATEGORIES:Mens / Mixed Club Events
END:VEVENT
BEGIN:VEVENT
DTSTART;TZID=Australia/Sydney:20231015T060000
DTEND;TZID=Australia/Sydney:20231015T060000
DTSTAMP:20260421T154700
CREATED:20230303T031724Z
LAST-MODIFIED:20230303T031731Z
UID:36997-1697349600-1697349600@www.shellybeachgolfclub.com.au
SUMMARY:Women’s Weekend & Junior Girls Club Championships Round 2
DESCRIPTION:(Red Tees)
URL:https://www.shellybeachgolfclub.com.au/golf-program/womens-weekend-junior-girls-club-championships-round-2/
LOCATION:SBGC
CATEGORIES:Ladies Events
END:VEVENT
BEGIN:VEVENT
DTSTART;TZID=Australia/Sydney:20231015T060000
DTEND;TZID=Australia/Sydney:20231015T060000
DTSTAMP:20260421T154700
CREATED:20230303T031753Z
LAST-MODIFIED:20230303T031802Z
UID:36999-1697349600-1697349600@www.shellybeachgolfclub.com.au
SUMMARY:Betty Bourne Trophy
DESCRIPTION:
URL:https://www.shellybeachgolfclub.com.au/golf-program/betty-bourne-trophy/
LOCATION:SBGC
CATEGORIES:Cadet / Junior Events
END:VEVENT
BEGIN:VEVENT
DTSTART;TZID=Australia/Sydney:20231016T060000
DTEND;TZID=Australia/Sydney:20231016T060000
DTSTAMP:20260421T154700
CREATED:20230303T031828Z
LAST-MODIFIED:20230418T063226Z
UID:37001-1697436000-1697436000@www.shellybeachgolfclub.com.au
SUMMARY:Mad Monday Men’s & Women’s Individual Stableford
DESCRIPTION:
URL:https://www.shellybeachgolfclub.com.au/golf-program/mad-monday-mens-womens-individual-stableford-23/
LOCATION:SBGC
CATEGORIES:Mens / Mixed Club Events
END:VEVENT
BEGIN:VEVENT
DTSTART;TZID=Australia/Sydney:20231017T060000
DTEND;TZID=Australia/Sydney:20231017T060000
DTSTAMP:20260421T154700
CREATED:20230303T031900Z
LAST-MODIFIED:20230303T031915Z
UID:37003-1697522400-1697522400@www.shellybeachgolfclub.com.au
SUMMARY:Medley Individual Stableford 4 Grades plus Medley 2BBB
DESCRIPTION:
URL:https://www.shellybeachgolfclub.com.au/golf-program/medley-individual-stableford-4-grades-plus-medley-2bbb-17/
LOCATION:SBGC
CATEGORIES:Mens / Mixed Club Events
END:VEVENT
BEGIN:VEVENT
DTSTART;TZID=Australia/Sydney:20231018T060000
DTEND;TZID=Australia/Sydney:20231018T060000
DTSTAMP:20260421T154700
CREATED:20230303T031945Z
LAST-MODIFIED:20230303T031953Z
UID:37005-1697608800-1697608800@www.shellybeachgolfclub.com.au
SUMMARY:Women’s Individual Stableford
DESCRIPTION:(Pink tees)
URL:https://www.shellybeachgolfclub.com.au/golf-program/womens-individual-stableford-10/
LOCATION:SBGC
CATEGORIES:Ladies Events
END:VEVENT
BEGIN:VEVENT
DTSTART;TZID=Australia/Sydney:20231019T060000
DTEND;TZID=Australia/Sydney:20231019T060000
DTSTAMP:20260421T154700
CREATED:20230303T032028Z
LAST-MODIFIED:20230303T032036Z
UID:37007-1697695200-1697695200@www.shellybeachgolfclub.com.au
SUMMARY:Individual Stableford 4 Grades plus 2BBB
DESCRIPTION:
URL:https://www.shellybeachgolfclub.com.au/golf-program/individual-stableford-4-grades-plus-2bbb-14/
LOCATION:SBGC
CATEGORIES:Mens / Mixed Club Events
END:VEVENT
BEGIN:VEVENT
DTSTART;TZID=Australia/Sydney:20231020T080000
DTEND;TZID=Australia/Sydney:20231020T080000
DTSTAMP:20260421T154700
CREATED:20230303T032058Z
LAST-MODIFIED:20230329T060622Z
UID:37009-1697788800-1697788800@www.shellybeachgolfclub.com.au
SUMMARY:Northrop Consulting Corporate Golf Day
DESCRIPTION:
URL:https://www.shellybeachgolfclub.com.au/golf-program/mens-womens-individual-stableford-31/
LOCATION:SBGC
CATEGORIES:Extra / District Events
END:VEVENT
BEGIN:VEVENT
DTSTART;TZID=Australia/Sydney:20231020T130000
DTEND;TZID=Australia/Sydney:20231020T130000
DTSTAMP:20260421T154700
CREATED:20230303T032126Z
LAST-MODIFIED:20230329T060706Z
UID:37011-1697806800-1697806800@www.shellybeachgolfclub.com.au
SUMMARY:Chook Run
DESCRIPTION:
URL:https://www.shellybeachgolfclub.com.au/golf-program/chook-run-32/
LOCATION:SBGC
CATEGORIES:Mens / Mixed Club Events
END:VEVENT
BEGIN:VEVENT
DTSTART;TZID=Australia/Sydney:20231021T060000
DTEND;TZID=Australia/Sydney:20231021T060000
DTSTAMP:20260421T154700
CREATED:20230303T032208Z
LAST-MODIFIED:20230303T032216Z
UID:37013-1697868000-1697868000@www.shellybeachgolfclub.com.au
SUMMARY:Individual Stableford Men & Women’s plus Men/Medley 2B Multiplier
DESCRIPTION:
URL:https://www.shellybeachgolfclub.com.au/golf-program/individual-stableford-men-womens-plus-men-medley-2b-multiplier-4/
LOCATION:SBGC
CATEGORIES:Mens / Mixed Club Events
END:VEVENT
END:VCALENDAR