BEGIN:VCALENDAR
VERSION:2.0
PRODID:-//Shelly Beach Golf Club - ECPv6.15.18//NONSGML v1.0//EN
CALSCALE:GREGORIAN
METHOD:PUBLISH
X-ORIGINAL-URL:https://www.shellybeachgolfclub.com.au
X-WR-CALDESC:Events for Shelly Beach Golf Club
REFRESH-INTERVAL;VALUE=DURATION:PT1H
X-Robots-Tag:noindex
X-PUBLISHED-TTL:PT1H
BEGIN:VTIMEZONE
TZID:Australia/Sydney
BEGIN:STANDARD
TZOFFSETFROM:+1100
TZOFFSETTO:+1000
TZNAME:AEST
DTSTART:20220402T160000
END:STANDARD
BEGIN:DAYLIGHT
TZOFFSETFROM:+1000
TZOFFSETTO:+1100
TZNAME:AEDT
DTSTART:20221001T160000
END:DAYLIGHT
BEGIN:STANDARD
TZOFFSETFROM:+1100
TZOFFSETTO:+1000
TZNAME:AEST
DTSTART:20230401T160000
END:STANDARD
BEGIN:DAYLIGHT
TZOFFSETFROM:+1000
TZOFFSETTO:+1100
TZNAME:AEDT
DTSTART:20230930T160000
END:DAYLIGHT
BEGIN:STANDARD
TZOFFSETFROM:+1100
TZOFFSETTO:+1000
TZNAME:AEST
DTSTART:20240406T160000
END:STANDARD
BEGIN:DAYLIGHT
TZOFFSETFROM:+1000
TZOFFSETTO:+1100
TZNAME:AEDT
DTSTART:20241005T160000
END:DAYLIGHT
END:VTIMEZONE
BEGIN:VEVENT
DTSTART;TZID=Australia/Sydney:20230801T060000
DTEND;TZID=Australia/Sydney:20230801T060000
DTSTAMP:20260421T192608
CREATED:20230303T001041Z
LAST-MODIFIED:20230303T001056Z
UID:36768-1690869600-1690869600@www.shellybeachgolfclub.com.au
SUMMARY:Medley Individual Stableford 4 Grades plus Medley 2BBB
DESCRIPTION:
URL:https://www.shellybeachgolfclub.com.au/golf-program/medley-individual-stableford-4-grades-plus-medley-2bbb-12/
LOCATION:SBGC
CATEGORIES:Mens / Mixed Club Events
END:VEVENT
BEGIN:VEVENT
DTSTART;TZID=Australia/Sydney:20230802T060000
DTEND;TZID=Australia/Sydney:20230802T060000
DTSTAMP:20260421T192608
CREATED:20230303T001141Z
LAST-MODIFIED:20230303T001157Z
UID:36770-1690956000-1690956000@www.shellybeachgolfclub.com.au
SUMMARY:Monthly Medal
DESCRIPTION:(Red Tees)
URL:https://www.shellybeachgolfclub.com.au/golf-program/monthly-medal/
LOCATION:SBGC
CATEGORIES:Ladies Events
END:VEVENT
BEGIN:VEVENT
DTSTART;TZID=Australia/Sydney:20230802T060000
DTEND;TZID=Australia/Sydney:20230802T060000
DTSTAMP:20260421T192608
CREATED:20230303T001233Z
LAST-MODIFIED:20230303T001244Z
UID:36772-1690956000-1690956000@www.shellybeachgolfclub.com.au
SUMMARY:Top Gal qualifying commences
DESCRIPTION:
URL:https://www.shellybeachgolfclub.com.au/golf-program/top-gal-qualifying-commences/
LOCATION:SBGC
CATEGORIES:Ladies Events
END:VEVENT
BEGIN:VEVENT
DTSTART;TZID=Australia/Sydney:20230803T060000
DTEND;TZID=Australia/Sydney:20230803T060000
DTSTAMP:20260421T192608
CREATED:20230303T001320Z
LAST-MODIFIED:20230303T001340Z
UID:36774-1691042400-1691042400@www.shellybeachgolfclub.com.au
SUMMARY:Individual Stableford 4 Grades plus 2BBB
DESCRIPTION:
URL:https://www.shellybeachgolfclub.com.au/golf-program/individual-stableford-4-grades-plus-2bbb-9/
LOCATION:SBGC
CATEGORIES:Mens / Mixed Club Events
END:VEVENT
BEGIN:VEVENT
DTSTART;TZID=Australia/Sydney:20230803T060000
DTEND;TZID=Australia/Sydney:20230803T060000
DTSTAMP:20260421T192608
CREATED:20230303T001410Z
LAST-MODIFIED:20230303T001421Z
UID:36776-1691042400-1691042400@www.shellybeachgolfclub.com.au
SUMMARY:Top Gun Shootout qualifying commences
DESCRIPTION:
URL:https://www.shellybeachgolfclub.com.au/golf-program/top-gun-shootout-qualifying-commences/
LOCATION:SBGC
CATEGORIES:Extra / District Events
END:VEVENT
BEGIN:VEVENT
DTSTART;TZID=Australia/Sydney:20230804T060000
DTEND;TZID=Australia/Sydney:20230804T060000
DTSTAMP:20260421T192608
CREATED:20230303T001459Z
LAST-MODIFIED:20230303T001508Z
UID:36778-1691128800-1691128800@www.shellybeachgolfclub.com.au
SUMMARY:Men’s & Women’s Individual Stableford
DESCRIPTION:
URL:https://www.shellybeachgolfclub.com.au/golf-program/mens-womens-individual-stableford-21/
LOCATION:SBGC
CATEGORIES:Mens / Mixed Club Events
END:VEVENT
BEGIN:VEVENT
DTSTART;TZID=Australia/Sydney:20230804T110000
DTEND;TZID=Australia/Sydney:20230804T110000
DTSTAMP:20260421T192608
CREATED:20230303T001529Z
LAST-MODIFIED:20230303T001540Z
UID:36780-1691146800-1691146800@www.shellybeachgolfclub.com.au
SUMMARY:Chook Run
DESCRIPTION:
URL:https://www.shellybeachgolfclub.com.au/golf-program/chook-run-22/
LOCATION:SBGC
CATEGORIES:Mens / Mixed Club Events
END:VEVENT
BEGIN:VEVENT
DTSTART;TZID=Australia/Sydney:20230805T060000
DTEND;TZID=Australia/Sydney:20230805T060000
DTSTAMP:20260421T192608
CREATED:20230303T001636Z
LAST-MODIFIED:20230303T001643Z
UID:36782-1691215200-1691215200@www.shellybeachgolfclub.com.au
SUMMARY:Individual Stableford Men & Women’s plus Men/Medley 2B Multiplier
DESCRIPTION:
URL:https://www.shellybeachgolfclub.com.au/golf-program/individual-stableford-men-womens-plus-men-medley-2b-multiplier-3/
LOCATION:SBGC
CATEGORIES:Mens / Mixed Club Events
END:VEVENT
BEGIN:VEVENT
DTSTART;TZID=Australia/Sydney:20230805T060000
DTEND;TZID=Australia/Sydney:20230805T060000
DTSTAMP:20260421T192608
CREATED:20230303T001711Z
LAST-MODIFIED:20230303T001718Z
UID:36784-1691215200-1691215200@www.shellybeachgolfclub.com.au
SUMMARY:Women’s Monthly Goblet & Medal
DESCRIPTION:(Red Tees)
URL:https://www.shellybeachgolfclub.com.au/golf-program/womens-monthly-goblet-medal-6/
LOCATION:SBGC
CATEGORIES:Ladies Events
END:VEVENT
BEGIN:VEVENT
DTSTART;TZID=Australia/Sydney:20230806T060000
DTEND;TZID=Australia/Sydney:20230806T060000
DTSTAMP:20260421T192608
CREATED:20230303T001743Z
LAST-MODIFIED:20230303T001752Z
UID:36786-1691301600-1691301600@www.shellybeachgolfclub.com.au
SUMMARY:Individual Stroke. Men’s Monthly Medal. 3 Grades
DESCRIPTION:
URL:https://www.shellybeachgolfclub.com.au/golf-program/individual-stroke-mens-monthly-medal-3-grades-5/
LOCATION:SBGC
CATEGORIES:Mens / Mixed Club Events
END:VEVENT
BEGIN:VEVENT
DTSTART;TZID=Australia/Sydney:20230806T060000
DTEND;TZID=Australia/Sydney:20230806T060000
DTSTAMP:20260421T192608
CREATED:20230303T001814Z
LAST-MODIFIED:20230303T001823Z
UID:36788-1691301600-1691301600@www.shellybeachgolfclub.com.au
SUMMARY:Women’s Individual Stableford
DESCRIPTION:
URL:https://www.shellybeachgolfclub.com.au/golf-program/womens-individual-stableford-8/
LOCATION:SBGC
CATEGORIES:Ladies Events
END:VEVENT
BEGIN:VEVENT
DTSTART;TZID=Australia/Sydney:20230807T060000
DTEND;TZID=Australia/Sydney:20230807T060000
DTSTAMP:20260421T192608
CREATED:20230303T001907Z
LAST-MODIFIED:20230303T001915Z
UID:36790-1691388000-1691388000@www.shellybeachgolfclub.com.au
SUMMARY:Blue Water Classic\, Blue Water Bowl and Long Markers Cup
DESCRIPTION:2 tee start from\n8:00am. (Red Tees)
URL:https://www.shellybeachgolfclub.com.au/golf-program/blue-water-classic-blue-water-bowl-and-long-markers-cup/
LOCATION:SBGC
CATEGORIES:Ladies Events
END:VEVENT
BEGIN:VEVENT
DTSTART;TZID=Australia/Sydney:20230808T060000
DTEND;TZID=Australia/Sydney:20230808T060000
DTSTAMP:20260421T192608
CREATED:20230303T001941Z
LAST-MODIFIED:20230303T001948Z
UID:36792-1691474400-1691474400@www.shellybeachgolfclub.com.au
SUMMARY:Medley Individual Stableford 4 Grades plus Medley 2B Multiplier
DESCRIPTION:
URL:https://www.shellybeachgolfclub.com.au/golf-program/medley-individual-stableford-4-grades-plus-medley-2b-multiplier/
LOCATION:SBGC
CATEGORIES:Mens / Mixed Club Events
END:VEVENT
BEGIN:VEVENT
DTSTART;TZID=Australia/Sydney:20230809T060000
DTEND;TZID=Australia/Sydney:20230809T060000
DTSTAMP:20260421T192608
CREATED:20230303T002025Z
LAST-MODIFIED:20230303T002032Z
UID:36794-1691560800-1691560800@www.shellybeachgolfclub.com.au
SUMMARY:Individual Stableford
DESCRIPTION:(Pink Tees)
URL:https://www.shellybeachgolfclub.com.au/golf-program/individual-stableford-3/
LOCATION:SBGC
CATEGORIES:Ladies Events
END:VEVENT
BEGIN:VEVENT
DTSTART;TZID=Australia/Sydney:20230810T060000
DTEND;TZID=Australia/Sydney:20230810T060000
DTSTAMP:20260421T192608
CREATED:20230303T002104Z
LAST-MODIFIED:20230303T002111Z
UID:36796-1691647200-1691647200@www.shellybeachgolfclub.com.au
SUMMARY:Individual Stableford 4 Grades plus 2B Aggregate
DESCRIPTION:
URL:https://www.shellybeachgolfclub.com.au/golf-program/individual-stableford-4-grades-plus-2b-aggregate-4/
LOCATION:SBGC
CATEGORIES:Mens / Mixed Club Events
END:VEVENT
BEGIN:VEVENT
DTSTART;TZID=Australia/Sydney:20230811T060000
DTEND;TZID=Australia/Sydney:20230811T060000
DTSTAMP:20260421T192608
CREATED:20230303T002138Z
LAST-MODIFIED:20230303T002149Z
UID:36798-1691733600-1691733600@www.shellybeachgolfclub.com.au
SUMMARY:Men’s & Women’s Individual Stableford
DESCRIPTION:
URL:https://www.shellybeachgolfclub.com.au/golf-program/mens-womens-individual-stableford-22/
LOCATION:SBGC
CATEGORIES:Mens / Mixed Club Events
END:VEVENT
BEGIN:VEVENT
DTSTART;TZID=Australia/Sydney:20230811T110000
DTEND;TZID=Australia/Sydney:20230811T110000
DTSTAMP:20260421T192608
CREATED:20230303T002216Z
LAST-MODIFIED:20230303T002224Z
UID:36800-1691751600-1691751600@www.shellybeachgolfclub.com.au
SUMMARY:Chook Run
DESCRIPTION:
URL:https://www.shellybeachgolfclub.com.au/golf-program/chook-run-23/
LOCATION:SBGC
CATEGORIES:Mens / Mixed Club Events
END:VEVENT
BEGIN:VEVENT
DTSTART;TZID=Australia/Sydney:20230812T060000
DTEND;TZID=Australia/Sydney:20230812T060000
DTSTAMP:20260421T192608
CREATED:20230303T002242Z
LAST-MODIFIED:20230303T002250Z
UID:36802-1691820000-1691820000@www.shellybeachgolfclub.com.au
SUMMARY:Individual Stableford Men & Women’s plus Men/Medley 2BBB
DESCRIPTION:
URL:https://www.shellybeachgolfclub.com.au/golf-program/individual-stableford-men-womens-plus-men-medley-2bbb-10/
LOCATION:SBGC
CATEGORIES:Mens / Mixed Club Events
END:VEVENT
BEGIN:VEVENT
DTSTART;TZID=Australia/Sydney:20230813T060000
DTEND;TZID=Australia/Sydney:20230813T060000
DTSTAMP:20260421T192608
CREATED:20230303T002317Z
LAST-MODIFIED:20230303T002328Z
UID:36804-1691906400-1691906400@www.shellybeachgolfclub.com.au
SUMMARY:Medley Individual Stableford plus Medley 2BBB + 2BBB Scratch
DESCRIPTION:
URL:https://www.shellybeachgolfclub.com.au/golf-program/medley-individual-stableford-plus-medley-2bbb-2bbb-scratch-6/
LOCATION:SBGC
CATEGORIES:Mens / Mixed Club Events
END:VEVENT
BEGIN:VEVENT
DTSTART;TZID=Australia/Sydney:20230814T080000
DTEND;TZID=Australia/Sydney:20230814T080000
DTSTAMP:20260421T192608
CREATED:20230303T002407Z
LAST-MODIFIED:20230303T002420Z
UID:36806-1692000000-1692000000@www.shellybeachgolfclub.com.au
SUMMARY:CCWGA Charity Day
DESCRIPTION:2 tee start
URL:https://www.shellybeachgolfclub.com.au/golf-program/ccwga-charity-day/
LOCATION:SBGC
CATEGORIES:Ladies Events
END:VEVENT
BEGIN:VEVENT
DTSTART;TZID=Australia/Sydney:20230815T060000
DTEND;TZID=Australia/Sydney:20230815T060000
DTSTAMP:20260421T192608
CREATED:20230303T002444Z
LAST-MODIFIED:20230303T002453Z
UID:36808-1692079200-1692079200@www.shellybeachgolfclub.com.au
SUMMARY:Medley Individual Stableford 4 Grades plus Medley 2BBB
DESCRIPTION:
URL:https://www.shellybeachgolfclub.com.au/golf-program/medley-individual-stableford-4-grades-plus-medley-2bbb-13/
LOCATION:SBGC
CATEGORIES:Mens / Mixed Club Events
END:VEVENT
BEGIN:VEVENT
DTSTART;TZID=Australia/Sydney:20230816T060000
DTEND;TZID=Australia/Sydney:20230816T060000
DTSTAMP:20260421T192608
CREATED:20230303T002600Z
LAST-MODIFIED:20230303T002607Z
UID:36810-1692165600-1692165600@www.shellybeachgolfclub.com.au
SUMMARY:Individual Par. Grand Mother’s Trophy
DESCRIPTION:(Pink Tees)
URL:https://www.shellybeachgolfclub.com.au/golf-program/individual-par-grand-mothers-trophy/
LOCATION:SBGC
CATEGORIES:Ladies Events
END:VEVENT
BEGIN:VEVENT
DTSTART;TZID=Australia/Sydney:20230817T060000
DTEND;TZID=Australia/Sydney:20230817T060000
DTSTAMP:20260421T192608
CREATED:20230303T002631Z
LAST-MODIFIED:20230303T002644Z
UID:36812-1692252000-1692252000@www.shellybeachgolfclub.com.au
SUMMARY:Individual Stableford 4 Grades plus 2BBB
DESCRIPTION:
URL:https://www.shellybeachgolfclub.com.au/golf-program/individual-stableford-4-grades-plus-2bbb-10/
LOCATION:SBGC
CATEGORIES:Mens / Mixed Club Events
END:VEVENT
BEGIN:VEVENT
DTSTART;TZID=Australia/Sydney:20230818T060000
DTEND;TZID=Australia/Sydney:20230818T060000
DTSTAMP:20260421T192608
CREATED:20230303T002818Z
LAST-MODIFIED:20230616T043835Z
UID:36818-1692338400-1692338400@www.shellybeachgolfclub.com.au
SUMMARY:Entries open for SBGC Open Amateur
DESCRIPTION:
URL:https://www.shellybeachgolfclub.com.au/golf-program/entries-open-for-coast-country-insurance-consultants-sbgc-open-amateur/
LOCATION:SBGC
CATEGORIES:Extra / District Events
END:VEVENT
BEGIN:VEVENT
DTSTART;TZID=Australia/Sydney:20230818T060000
DTEND;TZID=Australia/Sydney:20230818T060000
DTSTAMP:20260421T192608
CREATED:20230303T002717Z
LAST-MODIFIED:20230303T002725Z
UID:36814-1692338400-1692338400@www.shellybeachgolfclub.com.au
SUMMARY:Men’s & Women’s Individual Stableford
DESCRIPTION:
URL:https://www.shellybeachgolfclub.com.au/golf-program/mens-womens-individual-stableford-23/
LOCATION:SBGC
CATEGORIES:Mens / Mixed Club Events
END:VEVENT
BEGIN:VEVENT
DTSTART;TZID=Australia/Sydney:20230818T110000
DTEND;TZID=Australia/Sydney:20230818T110000
DTSTAMP:20260421T192608
CREATED:20230303T002748Z
LAST-MODIFIED:20230303T002755Z
UID:36816-1692356400-1692356400@www.shellybeachgolfclub.com.au
SUMMARY:Chook Run
DESCRIPTION:
URL:https://www.shellybeachgolfclub.com.au/golf-program/chook-run-24/
LOCATION:SBGC
CATEGORIES:Mens / Mixed Club Events
END:VEVENT
BEGIN:VEVENT
DTSTART;TZID=Australia/Sydney:20230819T060000
DTEND;TZID=Australia/Sydney:20230819T060000
DTSTAMP:20260421T192608
CREATED:20230303T002852Z
LAST-MODIFIED:20230303T002901Z
UID:36820-1692424800-1692424800@www.shellybeachgolfclub.com.au
SUMMARY:Individual Stableford Men & Women’s plus Men/Medley 2BSplit 6’s\, 1st 6 holes: 2BBB\, 2nd 6 holes: 2B Aggregate & 3rd 6 holes: 2B Multiplier
DESCRIPTION:
URL:https://www.shellybeachgolfclub.com.au/golf-program/individual-stableford-men-womens-plus-men-medley-2bsplit-6s-1st-6-holes-2bbb-2nd-6-holes-2b-aggregate-3rd-6-holes-2b-multiplier/
LOCATION:SBGC
CATEGORIES:Mens / Mixed Club Events
END:VEVENT
BEGIN:VEVENT
DTSTART;TZID=Australia/Sydney:20230819T060000
DTEND;TZID=Australia/Sydney:20230819T060000
DTSTAMP:20260421T192608
CREATED:20230303T002925Z
LAST-MODIFIED:20230303T002934Z
UID:36822-1692424800-1692424800@www.shellybeachgolfclub.com.au
SUMMARY:Junior Trophy
DESCRIPTION:
URL:https://www.shellybeachgolfclub.com.au/golf-program/junior-trophy-7/
LOCATION:SBGC
CATEGORIES:Cadet / Junior Events
END:VEVENT
BEGIN:VEVENT
DTSTART;TZID=Australia/Sydney:20230820T064500
DTEND;TZID=Australia/Sydney:20230820T064500
DTSTAMP:20260421T192608
CREATED:20230303T003014Z
LAST-MODIFIED:20230303T003023Z
UID:36824-1692513900-1692513900@www.shellybeachgolfclub.com.au
SUMMARY:PGA Scramble
DESCRIPTION:6:45am & midday\nshotgun starts. Played\nin groups of 8.
URL:https://www.shellybeachgolfclub.com.au/golf-program/pga-scramble-3/
LOCATION:SBGC
CATEGORIES:Mens / Mixed Club Events
END:VEVENT
BEGIN:VEVENT
DTSTART;TZID=Australia/Sydney:20230821T060000
DTEND;TZID=Australia/Sydney:20230821T060000
DTSTAMP:20260421T192608
CREATED:20230303T003126Z
LAST-MODIFIED:20230303T003134Z
UID:36826-1692597600-1692597600@www.shellybeachgolfclub.com.au
SUMMARY:Course Renovations
DESCRIPTION:FRONT NINE\nCLOSED ALL DAY\nFOR RENOVATIONS.\nBack nine open for\n9 hole golf.
URL:https://www.shellybeachgolfclub.com.au/golf-program/course-renovations-4/
LOCATION:SBGC
CATEGORIES:Extra / District Events
END:VEVENT
END:VCALENDAR