BEGIN:VCALENDAR
VERSION:2.0
PRODID:-//Shelly Beach Golf Club - ECPv6.15.18//NONSGML v1.0//EN
CALSCALE:GREGORIAN
METHOD:PUBLISH
X-WR-CALNAME:Shelly Beach Golf Club
X-ORIGINAL-URL:https://www.shellybeachgolfclub.com.au
X-WR-CALDESC:Events for Shelly Beach Golf Club
REFRESH-INTERVAL;VALUE=DURATION:PT1H
X-Robots-Tag:noindex
X-PUBLISHED-TTL:PT1H
BEGIN:VTIMEZONE
TZID:Australia/Sydney
BEGIN:STANDARD
TZOFFSETFROM:+1100
TZOFFSETTO:+1000
TZNAME:AEST
DTSTART:20220402T160000
END:STANDARD
BEGIN:DAYLIGHT
TZOFFSETFROM:+1000
TZOFFSETTO:+1100
TZNAME:AEDT
DTSTART:20221001T160000
END:DAYLIGHT
BEGIN:STANDARD
TZOFFSETFROM:+1100
TZOFFSETTO:+1000
TZNAME:AEST
DTSTART:20230401T160000
END:STANDARD
BEGIN:DAYLIGHT
TZOFFSETFROM:+1000
TZOFFSETTO:+1100
TZNAME:AEDT
DTSTART:20230930T160000
END:DAYLIGHT
BEGIN:STANDARD
TZOFFSETFROM:+1100
TZOFFSETTO:+1000
TZNAME:AEST
DTSTART:20240406T160000
END:STANDARD
BEGIN:DAYLIGHT
TZOFFSETFROM:+1000
TZOFFSETTO:+1100
TZNAME:AEDT
DTSTART:20241005T160000
END:DAYLIGHT
END:VTIMEZONE
BEGIN:VEVENT
DTSTART;TZID=Australia/Sydney:20230501T060000
DTEND;TZID=Australia/Sydney:20230501T060000
DTSTAMP:20260426T000932
CREATED:20230302T042208Z
LAST-MODIFIED:20230418T062321Z
UID:36493-1682920800-1682920800@www.shellybeachgolfclub.com.au
SUMMARY:Mad Monday Men’s & Women’s Individual Stableford
DESCRIPTION:
URL:https://www.shellybeachgolfclub.com.au/golf-program/mad-monday-mens-womens-individual-stableford-2/
LOCATION:SBGC
CATEGORIES:Mens / Mixed Club Events
END:VEVENT
BEGIN:VEVENT
DTSTART;TZID=Australia/Sydney:20230501T080000
DTEND;TZID=Australia/Sydney:20230501T100000
DTSTAMP:20260426T000932
CREATED:20230302T042925Z
LAST-MODIFIED:20230331T040919Z
UID:36515-1682928000-1682935200@www.shellybeachgolfclub.com.au
SUMMARY:CCWGA Pennants
DESCRIPTION:
URL:https://www.shellybeachgolfclub.com.au/golf-program/ccwga-pennants/
LOCATION:SBGC
CATEGORIES:Ladies Events
END:VEVENT
BEGIN:VEVENT
DTSTART;TZID=Australia/Sydney:20230502T060000
DTEND;TZID=Australia/Sydney:20230502T060000
DTSTAMP:20260426T000932
CREATED:20230302T042239Z
LAST-MODIFIED:20230302T042247Z
UID:36495-1683007200-1683007200@www.shellybeachgolfclub.com.au
SUMMARY:Medley Individual Stableford 4 Grades plus Medley 2BBB
DESCRIPTION:
URL:https://www.shellybeachgolfclub.com.au/golf-program/medley-individual-stableford-4-grades-plus-medley-2bbb-5/
LOCATION:SBGC
CATEGORIES:Mens / Mixed Club Events
END:VEVENT
BEGIN:VEVENT
DTSTART;TZID=Australia/Sydney:20230503T060000
DTEND;TZID=Australia/Sydney:20230503T060000
DTSTAMP:20260426T000932
CREATED:20230302T042314Z
LAST-MODIFIED:20230302T042322Z
UID:36497-1683093600-1683093600@www.shellybeachgolfclub.com.au
SUMMARY:Golf NSW Medal No 4. Mabel Mackenzie Brooch.
DESCRIPTION:(Red Tees)
URL:https://www.shellybeachgolfclub.com.au/golf-program/golf-nsw-medal-no-4-mabel-mackenzie-brooch/
LOCATION:SBGC
CATEGORIES:Ladies Events
END:VEVENT
BEGIN:VEVENT
DTSTART;TZID=Australia/Sydney:20230504T060000
DTEND;TZID=Australia/Sydney:20230504T060000
DTSTAMP:20260426T000932
CREATED:20230302T042352Z
LAST-MODIFIED:20230308T041053Z
UID:36499-1683180000-1683180000@www.shellybeachgolfclub.com.au
SUMMARY:Individual Stableford 4 Grades plus 2B Multiplier
DESCRIPTION:
URL:https://www.shellybeachgolfclub.com.au/golf-program/individual-stableford-4-grades-plus-2b-multiplier-2/
LOCATION:SBGC
CATEGORIES:Mens / Mixed Club Events
END:VEVENT
BEGIN:VEVENT
DTSTART;TZID=Australia/Sydney:20230505T060000
DTEND;TZID=Australia/Sydney:20230505T060000
DTSTAMP:20260426T000932
CREATED:20230302T042418Z
LAST-MODIFIED:20230302T042427Z
UID:36501-1683266400-1683266400@www.shellybeachgolfclub.com.au
SUMMARY:Men’s & Women’s Individual Stableford
DESCRIPTION:
URL:https://www.shellybeachgolfclub.com.au/golf-program/mens-womens-individual-stableford-9/
LOCATION:SBGC
CATEGORIES:Mens / Mixed Club Events
END:VEVENT
BEGIN:VEVENT
DTSTART;TZID=Australia/Sydney:20230505T110000
DTEND;TZID=Australia/Sydney:20230505T110000
DTSTAMP:20260426T000932
CREATED:20230302T042446Z
LAST-MODIFIED:20230302T042454Z
UID:36503-1683284400-1683284400@www.shellybeachgolfclub.com.au
SUMMARY:Chook Run
DESCRIPTION:
URL:https://www.shellybeachgolfclub.com.au/golf-program/chook-run-10/
LOCATION:SBGC
CATEGORIES:Mens / Mixed Club Events
END:VEVENT
BEGIN:VEVENT
DTSTART;TZID=Australia/Sydney:20230506T060000
DTEND;TZID=Australia/Sydney:20230506T060000
DTSTAMP:20260426T000932
CREATED:20230302T042518Z
LAST-MODIFIED:20230302T042526Z
UID:36505-1683352800-1683352800@www.shellybeachgolfclub.com.au
SUMMARY:Individual Stableford Men & Women’s plus Men/Medley 2BBB
DESCRIPTION:
URL:https://www.shellybeachgolfclub.com.au/golf-program/individual-stableford-men-womens-plus-men-medley-2bbb-5/
LOCATION:SBGC
CATEGORIES:Mens / Mixed Club Events
END:VEVENT
BEGIN:VEVENT
DTSTART;TZID=Australia/Sydney:20230506T060000
DTEND;TZID=Australia/Sydney:20230506T060000
DTSTAMP:20260426T000932
CREATED:20230302T042554Z
LAST-MODIFIED:20230308T042521Z
UID:36507-1683352800-1683352800@www.shellybeachgolfclub.com.au
SUMMARY:Women’s Monthly Goblet & Medal
DESCRIPTION:(Red Tees)
URL:https://www.shellybeachgolfclub.com.au/golf-program/womens-monthly-goblet-medal-3/
LOCATION:SBGC
CATEGORIES:Ladies Events
END:VEVENT
BEGIN:VEVENT
DTSTART;TZID=Australia/Sydney:20230507T060000
DTEND;TZID=Australia/Sydney:20230507T060000
DTSTAMP:20260426T000932
CREATED:20230302T042621Z
LAST-MODIFIED:20230302T042629Z
UID:36509-1683439200-1683439200@www.shellybeachgolfclub.com.au
SUMMARY:Individual Stroke. Men’s Monthly Medal. 3 Grades
DESCRIPTION:
URL:https://www.shellybeachgolfclub.com.au/golf-program/individual-stroke-mens-monthly-medal-3-grades-2/
LOCATION:SBGC
CATEGORIES:Mens / Mixed Club Events
END:VEVENT
BEGIN:VEVENT
DTSTART;TZID=Australia/Sydney:20230507T060000
DTEND;TZID=Australia/Sydney:20230507T060000
DTSTAMP:20260426T000932
CREATED:20230302T042655Z
LAST-MODIFIED:20230302T042703Z
UID:36511-1683439200-1683439200@www.shellybeachgolfclub.com.au
SUMMARY:Women’s Individual Stableford
DESCRIPTION:
URL:https://www.shellybeachgolfclub.com.au/golf-program/womens-individual-stableford-4/
LOCATION:SBGC
CATEGORIES:Ladies Events
END:VEVENT
BEGIN:VEVENT
DTSTART;TZID=Australia/Sydney:20230508T060000
DTEND;TZID=Australia/Sydney:20230508T060000
DTSTAMP:20260426T000932
CREATED:20230302T042729Z
LAST-MODIFIED:20230418T062457Z
UID:36513-1683525600-1683525600@www.shellybeachgolfclub.com.au
SUMMARY:Mad Monday Men’s & Women’s Individual Stableford
DESCRIPTION:
URL:https://www.shellybeachgolfclub.com.au/golf-program/mad-monday-mens-womens-individual-stableford-3/
LOCATION:SBGC
CATEGORIES:Mens / Mixed Club Events
END:VEVENT
BEGIN:VEVENT
DTSTART;TZID=Australia/Sydney:20230509T060000
DTEND;TZID=Australia/Sydney:20230509T060000
DTSTAMP:20260426T000932
CREATED:20230302T043002Z
LAST-MODIFIED:20230302T043011Z
UID:36517-1683612000-1683612000@www.shellybeachgolfclub.com.au
SUMMARY:Medley Individual Stableford 4 Grades plus Medley 2B Aggregate
DESCRIPTION:
URL:https://www.shellybeachgolfclub.com.au/golf-program/medley-individual-stableford-4-grades-plus-medley-2b-aggregate-2/
LOCATION:SBGC
CATEGORIES:Mens / Mixed Club Events
END:VEVENT
BEGIN:VEVENT
DTSTART;TZID=Australia/Sydney:20230510T060000
DTEND;TZID=Australia/Sydney:20230510T060000
DTSTAMP:20260426T000932
CREATED:20230302T051647Z
LAST-MODIFIED:20230329T055744Z
UID:36577-1683698400-1683698400@www.shellybeachgolfclub.com.au
SUMMARY:4BBB Progressive No. 1. Two person Split 6’s. Best score for holes 1-6\, aggregate of scores for holes 7-12 and scores multiplied for holes 13-18.
DESCRIPTION:(Pink Tees)
URL:https://www.shellybeachgolfclub.com.au/golf-program/womens-individual-stableford-5/
LOCATION:SBGC
CATEGORIES:Ladies Events
END:VEVENT
BEGIN:VEVENT
DTSTART;TZID=Australia/Sydney:20230511T060000
DTEND;TZID=Australia/Sydney:20230511T060000
DTSTAMP:20260426T000932
CREATED:20230302T044034Z
LAST-MODIFIED:20230302T044043Z
UID:36521-1683784800-1683784800@www.shellybeachgolfclub.com.au
SUMMARY:Individual Stableford 4 Grades plus 2BBB
DESCRIPTION:
URL:https://www.shellybeachgolfclub.com.au/golf-program/individual-stableford-4-grades-plus-2bbb-4/
LOCATION:SBGC
CATEGORIES:Mens / Mixed Club Events
END:VEVENT
BEGIN:VEVENT
DTSTART;TZID=Australia/Sydney:20230512T060000
DTEND;TZID=Australia/Sydney:20230512T060000
DTSTAMP:20260426T000932
CREATED:20230302T044109Z
LAST-MODIFIED:20230302T044130Z
UID:36523-1683871200-1683871200@www.shellybeachgolfclub.com.au
SUMMARY:Men’s & Women’s Individual Stableford
DESCRIPTION:
URL:https://www.shellybeachgolfclub.com.au/golf-program/mens-womens-individual-stableford-10/
LOCATION:SBGC
CATEGORIES:Mens / Mixed Club Events
END:VEVENT
BEGIN:VEVENT
DTSTART;TZID=Australia/Sydney:20230512T110000
DTEND;TZID=Australia/Sydney:20230512T110000
DTSTAMP:20260426T000932
CREATED:20230302T044159Z
LAST-MODIFIED:20230302T044212Z
UID:36525-1683889200-1683889200@www.shellybeachgolfclub.com.au
SUMMARY:Chook Run
DESCRIPTION:
URL:https://www.shellybeachgolfclub.com.au/golf-program/chook-run-11/
LOCATION:SBGC
CATEGORIES:Mens / Mixed Club Events
END:VEVENT
BEGIN:VEVENT
DTSTART;TZID=Australia/Sydney:20230513T060000
DTEND;TZID=Australia/Sydney:20230513T060000
DTSTAMP:20260426T000932
CREATED:20230302T044249Z
LAST-MODIFIED:20230302T044323Z
UID:36527-1683957600-1683957600@www.shellybeachgolfclub.com.au
SUMMARY:Individual Stableford Men & Women’s plus Men/Medley 2BBB
DESCRIPTION:
URL:https://www.shellybeachgolfclub.com.au/golf-program/individual-stableford-men-womens-plus-men-medley-2bbb-6/
LOCATION:SBGC
CATEGORIES:Mens / Mixed Club Events
END:VEVENT
BEGIN:VEVENT
DTSTART;TZID=Australia/Sydney:20230513T060000
DTEND;TZID=Australia/Sydney:20230513T060000
DTSTAMP:20260426T000932
CREATED:20230302T044349Z
LAST-MODIFIED:20230302T044356Z
UID:36529-1683957600-1683957600@www.shellybeachgolfclub.com.au
SUMMARY:Qualifying for CCDGA Challenge Cup
DESCRIPTION:
URL:https://www.shellybeachgolfclub.com.au/golf-program/qualifying-for-ccdga-challenge-cup/
LOCATION:SBGC
CATEGORIES:Extra / District Events
END:VEVENT
BEGIN:VEVENT
DTSTART;TZID=Australia/Sydney:20230513T060000
DTEND;TZID=Australia/Sydney:20230513T060000
DTSTAMP:20260426T000932
CREATED:20230302T044423Z
LAST-MODIFIED:20230302T044431Z
UID:36531-1683957600-1683957600@www.shellybeachgolfclub.com.au
SUMMARY:Junior Trophy
DESCRIPTION:
URL:https://www.shellybeachgolfclub.com.au/golf-program/junior-trophy-3/
LOCATION:SBGC
CATEGORIES:Cadet / Junior Events
END:VEVENT
BEGIN:VEVENT
DTSTART;TZID=Australia/Sydney:20230514T060000
DTEND;TZID=Australia/Sydney:20230514T060000
DTSTAMP:20260426T000932
CREATED:20230302T044511Z
LAST-MODIFIED:20230302T044524Z
UID:36533-1684044000-1684044000@www.shellybeachgolfclub.com.au
SUMMARY:Medley Individual Stableford plus Medley 2BBB + 2BBB Scratch
DESCRIPTION:
URL:https://www.shellybeachgolfclub.com.au/golf-program/medley-individual-stableford-plus-medley-2bbb-2bbb-scratch-3/
LOCATION:SBGC
CATEGORIES:Mens / Mixed Club Events
END:VEVENT
BEGIN:VEVENT
DTSTART;TZID=Australia/Sydney:20230515T060000
DTEND;TZID=Australia/Sydney:20230515T060000
DTSTAMP:20260426T000932
CREATED:20230302T050926Z
LAST-MODIFIED:20230418T062515Z
UID:36557-1684130400-1684130400@www.shellybeachgolfclub.com.au
SUMMARY:Mad Monday Men’s & Women’s Individual Stableford
DESCRIPTION:
URL:https://www.shellybeachgolfclub.com.au/golf-program/mad-monday-mens-womens-individual-stableford-4/
LOCATION:SBGC
CATEGORIES:Mens / Mixed Club Events
END:VEVENT
BEGIN:VEVENT
DTSTART;TZID=Australia/Sydney:20230515T080000
DTEND;TZID=Australia/Sydney:20230515T100000
DTSTAMP:20260426T000932
CREATED:20230302T051032Z
LAST-MODIFIED:20230302T051032Z
UID:36559-1684137600-1684144800@www.shellybeachgolfclub.com.au
SUMMARY:CCWGA Pennants
DESCRIPTION:
URL:https://www.shellybeachgolfclub.com.au/golf-program/ccwga-pennants-2/
LOCATION:SBGC
CATEGORIES:Ladies Events
END:VEVENT
BEGIN:VEVENT
DTSTART;TZID=Australia/Sydney:20230516T060000
DTEND;TZID=Australia/Sydney:20230516T060000
DTSTAMP:20260426T000932
CREATED:20230302T051112Z
LAST-MODIFIED:20230302T051123Z
UID:36561-1684216800-1684216800@www.shellybeachgolfclub.com.au
SUMMARY:Medley Individual Stableford 4 Grades plus Medley 2BBB
DESCRIPTION:
URL:https://www.shellybeachgolfclub.com.au/golf-program/medley-individual-stableford-4-grades-plus-medley-2bbb-6/
LOCATION:SBGC
CATEGORIES:Mens / Mixed Club Events
END:VEVENT
BEGIN:VEVENT
DTSTART;TZID=Australia/Sydney:20230517T060000
DTEND;TZID=Australia/Sydney:20230517T060000
DTSTAMP:20260426T000932
CREATED:20230302T051201Z
LAST-MODIFIED:20230302T051209Z
UID:36563-1684303200-1684303200@www.shellybeachgolfclub.com.au
SUMMARY:Individual Stableford. District Brooch No 4
DESCRIPTION:(Pink Tees)
URL:https://www.shellybeachgolfclub.com.au/golf-program/individual-stableford-district-brooch-no-4/
LOCATION:SBGC
CATEGORIES:Ladies Events
END:VEVENT
BEGIN:VEVENT
DTSTART;TZID=Australia/Sydney:20230517T060000
DTEND;TZID=Australia/Sydney:20230517T060000
DTSTAMP:20260426T000932
CREATED:20230302T051229Z
LAST-MODIFIED:20230302T051238Z
UID:36565-1684303200-1684303200@www.shellybeachgolfclub.com.au
SUMMARY:Qualifying for CCDGA Challenge Cup
DESCRIPTION:
URL:https://www.shellybeachgolfclub.com.au/golf-program/qualifying-for-ccdga-challenge-cup-2/
LOCATION:SBGC
CATEGORIES:Ladies Events
END:VEVENT
BEGIN:VEVENT
DTSTART;TZID=Australia/Sydney:20230518T060000
DTEND;TZID=Australia/Sydney:20230518T060000
DTSTAMP:20260426T000932
CREATED:20230302T044729Z
LAST-MODIFIED:20230302T044738Z
UID:36537-1684389600-1684389600@www.shellybeachgolfclub.com.au
SUMMARY:Individual Stableford 4 Grades plus 2B Split 6’s\, 1st 6 holes: 2BBB\, 2nd 6 holes: 2B Aggregate & 3rd 6 holes: 2B Multiplier
DESCRIPTION:
URL:https://www.shellybeachgolfclub.com.au/golf-program/individual-stableford-4-grades-plus-2b-split-6s-1st-6-holes-2bbb-2nd-6-holes-2b-aggregate-3rd-6-holes-2b-multiplier-2/
LOCATION:SBGC
CATEGORIES:Mens / Mixed Club Events
END:VEVENT
BEGIN:VEVENT
DTSTART;TZID=Australia/Sydney:20230519T080000
DTEND;TZID=Australia/Sydney:20230519T080000
DTSTAMP:20260426T000932
CREATED:20230302T045003Z
LAST-MODIFIED:20230302T050842Z
UID:36539-1684483200-1684483200@www.shellybeachgolfclub.com.au
SUMMARY:SBGC Corporate Sponsors Golf Day
DESCRIPTION:Shotgun Start.\nMedley 4 Person Ambrose
URL:https://www.shellybeachgolfclub.com.au/golf-program/sbgc-corporate-sponsors-golf-day/
LOCATION:SBGC
CATEGORIES:Extra / District Events
END:VEVENT
BEGIN:VEVENT
DTSTART;TZID=Australia/Sydney:20230520T060000
DTEND;TZID=Australia/Sydney:20230520T060000
DTSTAMP:20260426T000932
CREATED:20230302T045744Z
LAST-MODIFIED:20230302T045800Z
UID:36541-1684562400-1684562400@www.shellybeachgolfclub.com.au
SUMMARY:Individual Stableford Men & Women’s plus Men/Medley 2B Aggregate
DESCRIPTION:
URL:https://www.shellybeachgolfclub.com.au/golf-program/individual-stableford-men-womens-plus-men-medley-2b-aggregate-4/
LOCATION:SBGC
CATEGORIES:Mens / Mixed Club Events
END:VEVENT
BEGIN:VEVENT
DTSTART;TZID=Australia/Sydney:20230521T060000
DTEND;TZID=Australia/Sydney:20230521T060000
DTSTAMP:20260426T000932
CREATED:20230302T045829Z
LAST-MODIFIED:20230302T045837Z
UID:36543-1684648800-1684648800@www.shellybeachgolfclub.com.au
SUMMARY:Medley Individual Stableford plus Medley 2BBB
DESCRIPTION:
URL:https://www.shellybeachgolfclub.com.au/golf-program/medley-individual-stableford-plus-medley-2bbb-2/
LOCATION:SBGC
CATEGORIES:Mens / Mixed Club Events
END:VEVENT
END:VCALENDAR