BEGIN:VCALENDAR
VERSION:2.0
PRODID:-//Shelly Beach Golf Club - ECPv6.15.18//NONSGML v1.0//EN
CALSCALE:GREGORIAN
METHOD:PUBLISH
X-WR-CALNAME:Shelly Beach Golf Club
X-ORIGINAL-URL:https://www.shellybeachgolfclub.com.au
X-WR-CALDESC:Events for Shelly Beach Golf Club
REFRESH-INTERVAL;VALUE=DURATION:PT1H
X-Robots-Tag:noindex
X-PUBLISHED-TTL:PT1H
BEGIN:VTIMEZONE
TZID:Australia/Sydney
BEGIN:STANDARD
TZOFFSETFROM:+1100
TZOFFSETTO:+1000
TZNAME:AEST
DTSTART:20220402T160000
END:STANDARD
BEGIN:DAYLIGHT
TZOFFSETFROM:+1000
TZOFFSETTO:+1100
TZNAME:AEDT
DTSTART:20221001T160000
END:DAYLIGHT
BEGIN:STANDARD
TZOFFSETFROM:+1100
TZOFFSETTO:+1000
TZNAME:AEST
DTSTART:20230401T160000
END:STANDARD
BEGIN:DAYLIGHT
TZOFFSETFROM:+1000
TZOFFSETTO:+1100
TZNAME:AEDT
DTSTART:20230930T160000
END:DAYLIGHT
BEGIN:STANDARD
TZOFFSETFROM:+1100
TZOFFSETTO:+1000
TZNAME:AEST
DTSTART:20240406T160000
END:STANDARD
BEGIN:DAYLIGHT
TZOFFSETFROM:+1000
TZOFFSETTO:+1100
TZNAME:AEDT
DTSTART:20241005T160000
END:DAYLIGHT
END:VTIMEZONE
BEGIN:VEVENT
DTSTART;TZID=Australia/Sydney:20230301T060000
DTEND;TZID=Australia/Sydney:20230301T060000
DTSTAMP:20260426T033411
CREATED:20230302T005926Z
LAST-MODIFIED:20230302T062245Z
UID:36289-1677650400-1677650400@www.shellybeachgolfclub.com.au
SUMMARY:Golf NSW Medal No 2. Taylor Cup
DESCRIPTION:
URL:https://www.shellybeachgolfclub.com.au/golf-program/golf-nsw-medal-no-2-taylor-cup/
LOCATION:SBGC
CATEGORIES:Ladies Events
END:VEVENT
BEGIN:VEVENT
DTSTART;TZID=Australia/Sydney:20230301T060000
DTEND;TZID=Australia/Sydney:20230301T060000
DTSTAMP:20260426T033411
CREATED:20230302T010001Z
LAST-MODIFIED:20230302T062314Z
UID:36291-1677650400-1677650400@www.shellybeachgolfclub.com.au
SUMMARY:VWGA Country Championships.
DESCRIPTION:(Red Tees)
URL:https://www.shellybeachgolfclub.com.au/golf-program/vwga-country-championships/
LOCATION:SBGC
CATEGORIES:Ladies Events
END:VEVENT
BEGIN:VEVENT
DTSTART;TZID=Australia/Sydney:20230302T060000
DTEND;TZID=Australia/Sydney:20230302T060000
DTSTAMP:20260426T033411
CREATED:20230302T005646Z
LAST-MODIFIED:20230302T062342Z
UID:36287-1677736800-1677736800@www.shellybeachgolfclub.com.au
SUMMARY:Individual Stableford 4 Grades plus 2BBB
DESCRIPTION:
URL:https://www.shellybeachgolfclub.com.au/golf-program/individual-stableford-4-grades-plus-2bbb/
LOCATION:SBGC
CATEGORIES:Mens / Mixed Club Events
END:VEVENT
BEGIN:VEVENT
DTSTART;TZID=Australia/Sydney:20230303T060000
DTEND;TZID=Australia/Sydney:20230303T060000
DTSTAMP:20260426T033411
CREATED:20230302T010208Z
LAST-MODIFIED:20230302T012319Z
UID:36293-1677823200-1677823200@www.shellybeachgolfclub.com.au
SUMMARY:Men’s & Women’s Individual Stableford
DESCRIPTION:
URL:https://www.shellybeachgolfclub.com.au/golf-program/mens-womens-individual-stableford/
LOCATION:SBGC
CATEGORIES:Mens / Mixed Club Events
END:VEVENT
BEGIN:VEVENT
DTSTART;TZID=Australia/Sydney:20230303T110000
DTEND;TZID=Australia/Sydney:20230303T110000
DTSTAMP:20260426T033411
CREATED:20230302T010246Z
LAST-MODIFIED:20230302T012151Z
UID:36295-1677841200-1677841200@www.shellybeachgolfclub.com.au
SUMMARY:Chook Run
DESCRIPTION:
URL:https://www.shellybeachgolfclub.com.au/golf-program/chook-run/
LOCATION:SBGC
CATEGORIES:Mens / Mixed Club Events
END:VEVENT
BEGIN:VEVENT
DTSTART;TZID=Australia/Sydney:20230304T060000
DTEND;TZID=Australia/Sydney:20230304T060000
DTSTAMP:20260426T033411
CREATED:20230302T010621Z
LAST-MODIFIED:20230302T062416Z
UID:36297-1677909600-1677909600@www.shellybeachgolfclub.com.au
SUMMARY:Individual Stableford Men & Women’s plus Men/ Medley 2BBB
DESCRIPTION:
URL:https://www.shellybeachgolfclub.com.au/golf-program/individual-stableford-men-womens-plus-men-medley-2bbb/
LOCATION:SBGC
CATEGORIES:Mens / Mixed Club Events
END:VEVENT
BEGIN:VEVENT
DTSTART;TZID=Australia/Sydney:20230304T060000
DTEND;TZID=Australia/Sydney:20230304T060000
DTSTAMP:20260426T033411
CREATED:20230302T011056Z
LAST-MODIFIED:20230302T062442Z
UID:36299-1677909600-1677909600@www.shellybeachgolfclub.com.au
SUMMARY:Women’s Monthly Goblet & Medal
DESCRIPTION:(Red Tees)
URL:https://www.shellybeachgolfclub.com.au/golf-program/womens-monthly-goblet-medal/
LOCATION:SBGC
CATEGORIES:Ladies Events
END:VEVENT
BEGIN:VEVENT
DTSTART;TZID=Australia/Sydney:20230304T121500
DTEND;TZID=Australia/Sydney:20230304T121500
DTSTAMP:20260426T033411
CREATED:20230302T011441Z
LAST-MODIFIED:20230302T062502Z
UID:36301-1677932100-1677932100@www.shellybeachgolfclub.com.au
SUMMARY:Junior Pennants Gosford v Toukley
DESCRIPTION:
URL:https://www.shellybeachgolfclub.com.au/golf-program/junior-pennants-gosford-v-toukley/
LOCATION:SBGC
CATEGORIES:Cadet / Junior Events
END:VEVENT
BEGIN:VEVENT
DTSTART;TZID=Australia/Sydney:20230305T060000
DTEND;TZID=Australia/Sydney:20230305T060000
DTSTAMP:20260426T033411
CREATED:20230302T015851Z
LAST-MODIFIED:20230302T020004Z
UID:36306-1677996000-1677996000@www.shellybeachgolfclub.com.au
SUMMARY:Women’s Individual Stableford
DESCRIPTION:
URL:https://www.shellybeachgolfclub.com.au/golf-program/womens-individual-stableford/
LOCATION:SBGC
CATEGORIES:Ladies Events
END:VEVENT
BEGIN:VEVENT
DTSTART;TZID=Australia/Sydney:20230305T060000
DTEND;TZID=Australia/Sydney:20230305T060000
DTSTAMP:20260426T033411
CREATED:20230302T015516Z
LAST-MODIFIED:20230302T015805Z
UID:36304-1677996000-1677996000@www.shellybeachgolfclub.com.au
SUMMARY:Individual Stroke. Men’s Monthly Medal
DESCRIPTION:3 Grades
URL:https://www.shellybeachgolfclub.com.au/golf-program/individual-stroke-mens-monthly-medal/
LOCATION:SBGC
CATEGORIES:Mens / Mixed Club Events
END:VEVENT
BEGIN:VEVENT
DTSTART;TZID=Australia/Sydney:20230305T110700
DTEND;TZID=Australia/Sydney:20230305T110700
DTSTAMP:20260426T033411
CREATED:20230302T020205Z
LAST-MODIFIED:20230302T020247Z
UID:36310-1678014420-1678014420@www.shellybeachgolfclub.com.au
SUMMARY:Mixed Pennants Moore Park v SBGC
DESCRIPTION:
URL:https://www.shellybeachgolfclub.com.au/golf-program/mixed-pennants-moore-park-v-sbgc/
LOCATION:SBGC
CATEGORIES:Extra / District Events
END:VEVENT
BEGIN:VEVENT
DTSTART;TZID=Australia/Sydney:20230305T113000
DTEND;TZID=Australia/Sydney:20230305T113000
DTSTAMP:20260426T033411
CREATED:20230302T020103Z
LAST-MODIFIED:20230302T020115Z
UID:36308-1678015800-1678015800@www.shellybeachgolfclub.com.au
SUMMARY:CCDGA Pennants Breakers v Magenta
DESCRIPTION:
URL:https://www.shellybeachgolfclub.com.au/golf-program/ccdga-pennants-breakers-v-magenta/
LOCATION:SBGC
CATEGORIES:Extra / District Events
END:VEVENT
BEGIN:VEVENT
DTSTART;TZID=Australia/Sydney:20230306T060000
DTEND;TZID=Australia/Sydney:20230306T060000
DTSTAMP:20260426T033411
CREATED:20230302T020349Z
LAST-MODIFIED:20230302T020406Z
UID:36312-1678082400-1678082400@www.shellybeachgolfclub.com.au
SUMMARY:Mad Monday Medley Individual Stableford
DESCRIPTION:
URL:https://www.shellybeachgolfclub.com.au/golf-program/mad-monday-medley-individual-stableford/
LOCATION:SBGC
CATEGORIES:Mens / Mixed Club Events
END:VEVENT
BEGIN:VEVENT
DTSTART;TZID=Australia/Sydney:20230307T060000
DTEND;TZID=Australia/Sydney:20230307T060000
DTSTAMP:20260426T033411
CREATED:20230302T020440Z
LAST-MODIFIED:20230302T020450Z
UID:36314-1678168800-1678168800@www.shellybeachgolfclub.com.au
SUMMARY:Medley Individual Stableford 4 Grades plus Medley 2BBB
DESCRIPTION:
URL:https://www.shellybeachgolfclub.com.au/golf-program/medley-individual-stableford-4-grades-plus-medley-2bbb/
LOCATION:SBGC
CATEGORIES:Mens / Mixed Club Events
END:VEVENT
BEGIN:VEVENT
DTSTART;TZID=Australia/Sydney:20230308T060000
DTEND;TZID=Australia/Sydney:20230308T060000
DTSTAMP:20260426T033411
CREATED:20230302T020539Z
LAST-MODIFIED:20230302T020623Z
UID:36316-1678255200-1678255200@www.shellybeachgolfclub.com.au
SUMMARY:Individual Stableford. District Brooch No 2
DESCRIPTION:(Pink Tees)
URL:https://www.shellybeachgolfclub.com.au/golf-program/individual-stableford-district-brooch-no-2/
LOCATION:SBGC
CATEGORIES:Ladies Events
END:VEVENT
BEGIN:VEVENT
DTSTART;TZID=Australia/Sydney:20230309T060000
DTEND;TZID=Australia/Sydney:20230309T060000
DTSTAMP:20260426T033411
CREATED:20230302T020725Z
LAST-MODIFIED:20230302T020813Z
UID:36318-1678341600-1678341600@www.shellybeachgolfclub.com.au
SUMMARY:Individual Stableford 4 Grades plus 2B Multiplier
DESCRIPTION:
URL:https://www.shellybeachgolfclub.com.au/golf-program/individual-stableford-4-grades-plus-2b-multiplier/
LOCATION:SBGC
CATEGORIES:Mens / Mixed Club Events
END:VEVENT
BEGIN:VEVENT
DTSTART;TZID=Australia/Sydney:20230310T060000
DTEND;TZID=Australia/Sydney:20230310T060000
DTSTAMP:20260426T033411
CREATED:20230302T020921Z
LAST-MODIFIED:20230302T020936Z
UID:36320-1678428000-1678428000@www.shellybeachgolfclub.com.au
SUMMARY:Men’s & Women’s Individual Stableford
DESCRIPTION:
URL:https://www.shellybeachgolfclub.com.au/golf-program/mens-womens-individual-stableford-2/
LOCATION:SBGC
CATEGORIES:Mens / Mixed Club Events
END:VEVENT
BEGIN:VEVENT
DTSTART;TZID=Australia/Sydney:20230310T110000
DTEND;TZID=Australia/Sydney:20230310T110000
DTSTAMP:20260426T033411
CREATED:20230302T021022Z
LAST-MODIFIED:20230302T021031Z
UID:36322-1678446000-1678446000@www.shellybeachgolfclub.com.au
SUMMARY:Chook Run
DESCRIPTION:
URL:https://www.shellybeachgolfclub.com.au/golf-program/chook-run-2/
LOCATION:SBGC
CATEGORIES:Mens / Mixed Club Events
END:VEVENT
BEGIN:VEVENT
DTSTART;TZID=Australia/Sydney:20230311T060000
DTEND;TZID=Australia/Sydney:20230311T060000
DTSTAMP:20260426T033411
CREATED:20230307T231717Z
LAST-MODIFIED:20230307T232836Z
UID:37234-1678514400-1678514400@www.shellybeachgolfclub.com.au
SUMMARY:Junior Trophy
DESCRIPTION:
URL:https://www.shellybeachgolfclub.com.au/golf-program/junior-trophy-11/
LOCATION:SBGC
CATEGORIES:Cadet / Junior Events
END:VEVENT
BEGIN:VEVENT
DTSTART;TZID=Australia/Sydney:20230311T060000
DTEND;TZID=Australia/Sydney:20230311T060000
DTSTAMP:20260426T033411
CREATED:20230302T021151Z
LAST-MODIFIED:20230302T021212Z
UID:36324-1678514400-1678514400@www.shellybeachgolfclub.com.au
SUMMARY:Individual Stableford Men & Women’s plus Men/Medley 2B Aggregate
DESCRIPTION:
URL:https://www.shellybeachgolfclub.com.au/golf-program/individual-stableford-men-womens-plus-men-medley-2b-aggregate/
LOCATION:SBGC
CATEGORIES:Mens / Mixed Club Events
END:VEVENT
BEGIN:VEVENT
DTSTART;TZID=Australia/Sydney:20230311T060000
DTEND;TZID=Australia/Sydney:20230311T060000
DTSTAMP:20260426T033411
CREATED:20230302T021317Z
LAST-MODIFIED:20230302T021326Z
UID:36326-1678514400-1678514400@www.shellybeachgolfclub.com.au
SUMMARY:LEFTIES V RIGHTIES
DESCRIPTION:
URL:https://www.shellybeachgolfclub.com.au/golf-program/lefties-v-righties/
LOCATION:SBGC
CATEGORIES:Extra / District Events
END:VEVENT
BEGIN:VEVENT
DTSTART;TZID=Australia/Sydney:20230312T060000
DTEND;TZID=Australia/Sydney:20230312T060000
DTSTAMP:20260426T033411
CREATED:20230302T021424Z
LAST-MODIFIED:20230302T021433Z
UID:36328-1678600800-1678600800@www.shellybeachgolfclub.com.au
SUMMARY:Medley Individual Stableford plus Medley 2BBB + 2BBB Scratch
DESCRIPTION:
URL:https://www.shellybeachgolfclub.com.au/golf-program/medley-individual-stableford-plus-medley-2bbb-2bbb-scratch/
LOCATION:SBGC
CATEGORIES:Mens / Mixed Club Events
END:VEVENT
BEGIN:VEVENT
DTSTART;TZID=Australia/Sydney:20230313T060000
DTEND;TZID=Australia/Sydney:20230313T060000
DTSTAMP:20260426T033411
CREATED:20230302T021507Z
LAST-MODIFIED:20230302T021517Z
UID:36330-1678687200-1678687200@www.shellybeachgolfclub.com.au
SUMMARY:Mad Monday Medley Individual Stableford
DESCRIPTION:
URL:https://www.shellybeachgolfclub.com.au/golf-program/mad-monday-medley-individual-stableford-2/
LOCATION:SBGC
CATEGORIES:Mens / Mixed Club Events
END:VEVENT
BEGIN:VEVENT
DTSTART;TZID=Australia/Sydney:20230314T060000
DTEND;TZID=Australia/Sydney:20230314T060000
DTSTAMP:20260426T033411
CREATED:20230302T021609Z
LAST-MODIFIED:20230302T021619Z
UID:36332-1678773600-1678773600@www.shellybeachgolfclub.com.au
SUMMARY:Medley Individual Stableford 4 Grades plus Medley 2B Aggregate
DESCRIPTION:
URL:https://www.shellybeachgolfclub.com.au/golf-program/medley-individual-stableford-4-grades-plus-medley-2b-aggregate/
LOCATION:SBGC
CATEGORIES:Mens / Mixed Club Events
END:VEVENT
BEGIN:VEVENT
DTSTART;TZID=Australia/Sydney:20230315T060000
DTEND;TZID=Australia/Sydney:20230315T060000
DTSTAMP:20260426T033411
CREATED:20230302T021707Z
LAST-MODIFIED:20230302T021717Z
UID:36334-1678860000-1678860000@www.shellybeachgolfclub.com.au
SUMMARY:Individual Par
DESCRIPTION:(Pink Tees)
URL:https://www.shellybeachgolfclub.com.au/golf-program/individual-par/
LOCATION:SBGC
CATEGORIES:Ladies Events
END:VEVENT
BEGIN:VEVENT
DTSTART;TZID=Australia/Sydney:20230316T060000
DTEND;TZID=Australia/Sydney:20230316T060000
DTSTAMP:20260426T033411
CREATED:20230302T021811Z
LAST-MODIFIED:20230302T021822Z
UID:36337-1678946400-1678946400@www.shellybeachgolfclub.com.au
SUMMARY:Individual Stableford 4 Grades plus 2B Split 6’s\, 1st 6 holes: 2BBB\, 2nd 6 holes: 2B Aggregate & 3rd 6 holes: 2B Multiplier
DESCRIPTION:
URL:https://www.shellybeachgolfclub.com.au/golf-program/individual-stableford-4-grades-plus-2b-split-6s-1st-6-holes-2bbb-2nd-6-holes-2b-aggregate-3rd-6-holes-2b-multiplier/
LOCATION:SBGC
CATEGORIES:Mens / Mixed Club Events
END:VEVENT
BEGIN:VEVENT
DTSTART;TZID=Australia/Sydney:20230317T060000
DTEND;TZID=Australia/Sydney:20230317T060000
DTSTAMP:20260426T033411
CREATED:20230302T021909Z
LAST-MODIFIED:20230302T021918Z
UID:36339-1679032800-1679032800@www.shellybeachgolfclub.com.au
SUMMARY:Men’s & Women’s Individual Stableford
DESCRIPTION:
URL:https://www.shellybeachgolfclub.com.au/golf-program/mens-womens-individual-stableford-3/
LOCATION:SBGC
CATEGORIES:Mens / Mixed Club Events
END:VEVENT
BEGIN:VEVENT
DTSTART;TZID=Australia/Sydney:20230317T110000
DTEND;TZID=Australia/Sydney:20230317T110000
DTSTAMP:20260426T033411
CREATED:20230302T022035Z
LAST-MODIFIED:20230302T022047Z
UID:36341-1679050800-1679050800@www.shellybeachgolfclub.com.au
SUMMARY:Chook Run
DESCRIPTION:
URL:https://www.shellybeachgolfclub.com.au/golf-program/chook-run-3/
LOCATION:SBGC
CATEGORIES:Mens / Mixed Club Events
END:VEVENT
BEGIN:VEVENT
DTSTART;TZID=Australia/Sydney:20230318T060000
DTEND;TZID=Australia/Sydney:20230318T060000
DTSTAMP:20260426T033411
CREATED:20230302T022949Z
LAST-MODIFIED:20230302T022958Z
UID:36346-1679119200-1679119200@www.shellybeachgolfclub.com.au
SUMMARY:Individual Stableford Men & Women’s plus Men/ Medley 2BBB
DESCRIPTION:
URL:https://www.shellybeachgolfclub.com.au/golf-program/individual-stableford-men-womens-plus-men-medley-2bbb-2/
LOCATION:SBGC
CATEGORIES:Mens / Mixed Club Events
END:VEVENT
BEGIN:VEVENT
DTSTART;TZID=Australia/Sydney:20230318T060000
DTEND;TZID=Australia/Sydney:20230318T060000
DTSTAMP:20260426T033411
CREATED:20230302T023123Z
LAST-MODIFIED:20230302T023132Z
UID:36349-1679119200-1679119200@www.shellybeachgolfclub.com.au
SUMMARY:BRIAN GRACE GOLD PLATE
DESCRIPTION:
URL:https://www.shellybeachgolfclub.com.au/golf-program/brian-grace-gold-plate/
LOCATION:SBGC
CATEGORIES:Extra / District Events
END:VEVENT
END:VCALENDAR