BEGIN:VCALENDAR
VERSION:2.0
PRODID:-//Shelly Beach Golf Club - ECPv6.15.18//NONSGML v1.0//EN
CALSCALE:GREGORIAN
METHOD:PUBLISH
X-ORIGINAL-URL:https://www.shellybeachgolfclub.com.au
X-WR-CALDESC:Events for Shelly Beach Golf Club
REFRESH-INTERVAL;VALUE=DURATION:PT1H
X-Robots-Tag:noindex
X-PUBLISHED-TTL:PT1H
BEGIN:VTIMEZONE
TZID:Australia/Sydney
BEGIN:STANDARD
TZOFFSETFROM:+1100
TZOFFSETTO:+1000
TZNAME:AEST
DTSTART:20250405T160000
END:STANDARD
BEGIN:DAYLIGHT
TZOFFSETFROM:+1000
TZOFFSETTO:+1100
TZNAME:AEDT
DTSTART:20251004T160000
END:DAYLIGHT
BEGIN:STANDARD
TZOFFSETFROM:+1100
TZOFFSETTO:+1000
TZNAME:AEST
DTSTART:20260404T160000
END:STANDARD
BEGIN:DAYLIGHT
TZOFFSETFROM:+1000
TZOFFSETTO:+1100
TZNAME:AEDT
DTSTART:20261003T160000
END:DAYLIGHT
BEGIN:STANDARD
TZOFFSETFROM:+1100
TZOFFSETTO:+1000
TZNAME:AEST
DTSTART:20270403T160000
END:STANDARD
BEGIN:DAYLIGHT
TZOFFSETFROM:+1000
TZOFFSETTO:+1100
TZNAME:AEDT
DTSTART:20271002T160000
END:DAYLIGHT
END:VTIMEZONE
BEGIN:VEVENT
DTSTART;TZID=Australia/Sydney:20260425T060000
DTEND;TZID=Australia/Sydney:20260425T060000
DTSTAMP:20260425T223207
CREATED:20250814T003526Z
LAST-MODIFIED:20250814T003528Z
UID:55334-1777096800-1777096800@www.shellybeachgolfclub.com.au
SUMMARY:Individual Stableford Men & Women's plus Men/Medley 2BBB
DESCRIPTION:
URL:https://www.shellybeachgolfclub.com.au/golf-program/individual-stableford-men-womens-plus-men-medley-2bbb-69/
CATEGORIES:Mens / Mixed Club Events
END:VEVENT
BEGIN:VEVENT
DTSTART;TZID=Australia/Sydney:20260425T060000
DTEND;TZID=Australia/Sydney:20260425T060000
DTSTAMP:20260425T223207
CREATED:20250814T003558Z
LAST-MODIFIED:20250814T003602Z
UID:55336-1777096800-1777096800@www.shellybeachgolfclub.com.au
SUMMARY:Choose Your TEE Day
DESCRIPTION:
URL:https://www.shellybeachgolfclub.com.au/golf-program/choose-your-tee-day-38/
CATEGORIES:Mens / Mixed Club Events
END:VEVENT
BEGIN:VEVENT
DTSTART;TZID=Australia/Sydney:20260426T060000
DTEND;TZID=Australia/Sydney:20260426T060000
DTSTAMP:20260425T223207
CREATED:20250814T003656Z
LAST-MODIFIED:20250814T003658Z
UID:55340-1777183200-1777183200@www.shellybeachgolfclub.com.au
SUMMARY:Medley Individual Stableford plus Medley 2BBB
DESCRIPTION:
URL:https://www.shellybeachgolfclub.com.au/golf-program/medley-individual-stableford-plus-medley-2bbb-19/
CATEGORIES:Mens / Mixed Club Events
END:VEVENT
BEGIN:VEVENT
DTSTART;TZID=Australia/Sydney:20260427T130000
DTEND;TZID=Australia/Sydney:20260427T130000
DTSTAMP:20260425T223207
CREATED:20251224T055158Z
LAST-MODIFIED:20251224T055158Z
UID:55788-1777294800-1777294800@www.shellybeachgolfclub.com.au
SUMMARY:Social Golf
DESCRIPTION:
URL:https://www.shellybeachgolfclub.com.au/golf-program/social-golf-2/
CATEGORIES:Mens / Mixed Club Events
END:VEVENT
BEGIN:VEVENT
DTSTART;TZID=Australia/Sydney:20260428T060000
DTEND;TZID=Australia/Sydney:20260428T060000
DTSTAMP:20260425T223207
CREATED:20250814T003813Z
LAST-MODIFIED:20250814T003816Z
UID:55344-1777356000-1777356000@www.shellybeachgolfclub.com.au
SUMMARY:Medley Individual Stableford 4 Grades plus Medley 2B Multiplier
DESCRIPTION:
URL:https://www.shellybeachgolfclub.com.au/golf-program/medley-individual-stableford-4-grades-plus-medley-2b-multiplier-14/
CATEGORIES:Mens / Mixed Club Events
END:VEVENT
BEGIN:VEVENT
DTSTART;TZID=Australia/Sydney:20260430T060000
DTEND;TZID=Australia/Sydney:20260430T060000
DTSTAMP:20260425T223207
CREATED:20250814T003923Z
LAST-MODIFIED:20250814T003928Z
UID:55348-1777528800-1777528800@www.shellybeachgolfclub.com.au
SUMMARY:Individual Stableford 4 Grades plus 2BBB
DESCRIPTION:
URL:https://www.shellybeachgolfclub.com.au/golf-program/individual-stableford-4-grades-plus-2bbb-58/
CATEGORIES:Mens / Mixed Club Events
END:VEVENT
END:VCALENDAR