BEGIN:VCALENDAR
VERSION:2.0
PRODID:-//Shelly Beach Golf Club - ECPv6.15.18//NONSGML v1.0//EN
CALSCALE:GREGORIAN
METHOD:PUBLISH
X-WR-CALNAME:Shelly Beach Golf Club
X-ORIGINAL-URL:https://www.shellybeachgolfclub.com.au
X-WR-CALDESC:Events for Shelly Beach Golf Club
REFRESH-INTERVAL;VALUE=DURATION:PT1H
X-Robots-Tag:noindex
X-PUBLISHED-TTL:PT1H
BEGIN:VTIMEZONE
TZID:Australia/Sydney
BEGIN:STANDARD
TZOFFSETFROM:+1100
TZOFFSETTO:+1000
TZNAME:AEST
DTSTART:20240406T160000
END:STANDARD
BEGIN:DAYLIGHT
TZOFFSETFROM:+1000
TZOFFSETTO:+1100
TZNAME:AEDT
DTSTART:20241005T160000
END:DAYLIGHT
BEGIN:STANDARD
TZOFFSETFROM:+1100
TZOFFSETTO:+1000
TZNAME:AEST
DTSTART:20250405T160000
END:STANDARD
BEGIN:DAYLIGHT
TZOFFSETFROM:+1000
TZOFFSETTO:+1100
TZNAME:AEDT
DTSTART:20251004T160000
END:DAYLIGHT
BEGIN:STANDARD
TZOFFSETFROM:+1100
TZOFFSETTO:+1000
TZNAME:AEST
DTSTART:20260404T160000
END:STANDARD
BEGIN:DAYLIGHT
TZOFFSETFROM:+1000
TZOFFSETTO:+1100
TZNAME:AEDT
DTSTART:20261003T160000
END:DAYLIGHT
END:VTIMEZONE
BEGIN:VEVENT
DTSTART;TZID=Australia/Sydney:20250901T060000
DTEND;TZID=Australia/Sydney:20250901T170000
DTSTAMP:20260422T215440
CREATED:20241120T001058Z
LAST-MODIFIED:20241120T001058Z
UID:54146-1756706400-1756746000@www.shellybeachgolfclub.com.au
SUMMARY:Mad Monday Men's & Women's Individual Stableford
DESCRIPTION:
URL:https://www.shellybeachgolfclub.com.au/golf-program/mad-monday-mens-womens-individual-stableford-91/
CATEGORIES:Mens / Mixed Club Events
END:VEVENT
BEGIN:VEVENT
DTSTART;TZID=Australia/Sydney:20250902T060000
DTEND;TZID=Australia/Sydney:20250902T170000
DTSTAMP:20260422T215440
CREATED:20241120T001127Z
LAST-MODIFIED:20241120T001127Z
UID:54148-1756792800-1756832400@www.shellybeachgolfclub.com.au
SUMMARY:Medley Individual Stableford 4 Grades plus Medley 2BBB
DESCRIPTION:
URL:https://www.shellybeachgolfclub.com.au/golf-program/medley-individual-stableford-4-grades-plus-medley-2bbb-64/
CATEGORIES:Mens / Mixed Club Events
END:VEVENT
BEGIN:VEVENT
DTSTART;TZID=Australia/Sydney:20250904T060000
DTEND;TZID=Australia/Sydney:20250904T170000
DTSTAMP:20260422T215440
CREATED:20241120T001328Z
LAST-MODIFIED:20241120T001328Z
UID:54152-1756965600-1757005200@www.shellybeachgolfclub.com.au
SUMMARY:Individual Stableford 4 Grades plus 2BBB
DESCRIPTION:
URL:https://www.shellybeachgolfclub.com.au/golf-program/individual-stableford-4-grades-plus-2bbb-48/
CATEGORIES:Mens / Mixed Club Events
END:VEVENT
BEGIN:VEVENT
DTSTART;TZID=Australia/Sydney:20250905T060000
DTEND;TZID=Australia/Sydney:20250905T170000
DTSTAMP:20260422T215440
CREATED:20241120T001356Z
LAST-MODIFIED:20241120T001356Z
UID:54154-1757052000-1757091600@www.shellybeachgolfclub.com.au
SUMMARY:Men's & Women's Individual Stableford
DESCRIPTION:
URL:https://www.shellybeachgolfclub.com.au/golf-program/mens-womens-individual-stableford-112/
CATEGORIES:Mens / Mixed Club Events
END:VEVENT
BEGIN:VEVENT
DTSTART;TZID=Australia/Sydney:20250905T110000
DTEND;TZID=Australia/Sydney:20250905T170000
DTSTAMP:20260422T215440
CREATED:20241120T001428Z
LAST-MODIFIED:20241120T001428Z
UID:54156-1757070000-1757091600@www.shellybeachgolfclub.com.au
SUMMARY:Chook Run
DESCRIPTION:
URL:https://www.shellybeachgolfclub.com.au/golf-program/chook-run-125/
CATEGORIES:Mens / Mixed Club Events
END:VEVENT
BEGIN:VEVENT
DTSTART;TZID=Australia/Sydney:20250906T060000
DTEND;TZID=Australia/Sydney:20250906T170000
DTSTAMP:20260422T215440
CREATED:20241120T001632Z
LAST-MODIFIED:20241120T001632Z
UID:54160-1757138400-1757178000@www.shellybeachgolfclub.com.au
SUMMARY:Individual Stableford Men & Women's plus Men/Medley 2BBB
DESCRIPTION:
URL:https://www.shellybeachgolfclub.com.au/golf-program/individual-stableford-men-womens-plus-men-medley-2bbb-55/
CATEGORIES:Mens / Mixed Club Events
END:VEVENT
BEGIN:VEVENT
DTSTART;TZID=Australia/Sydney:20250907T060000
DTEND;TZID=Australia/Sydney:20250907T170000
DTSTAMP:20260422T215440
CREATED:20241120T002037Z
LAST-MODIFIED:20241120T002037Z
UID:54164-1757224800-1757264400@www.shellybeachgolfclub.com.au
SUMMARY:Individual Stroke. Men's Monthly Medal. 3 Grades
DESCRIPTION:
URL:https://www.shellybeachgolfclub.com.au/golf-program/individual-stroke-mens-monthly-medal-3-grades-25/
CATEGORIES:Mens / Mixed Club Events
END:VEVENT
BEGIN:VEVENT
DTSTART;TZID=Australia/Sydney:20250908T060000
DTEND;TZID=Australia/Sydney:20250908T170000
DTSTAMP:20260422T215440
CREATED:20241120T002123Z
LAST-MODIFIED:20241120T002123Z
UID:54168-1757311200-1757350800@www.shellybeachgolfclub.com.au
SUMMARY:Mad Monday Men's & Women's Individual Stableford
DESCRIPTION:
URL:https://www.shellybeachgolfclub.com.au/golf-program/mad-monday-mens-womens-individual-stableford-92/
CATEGORIES:Mens / Mixed Club Events
END:VEVENT
BEGIN:VEVENT
DTSTART;TZID=Australia/Sydney:20250909T060000
DTEND;TZID=Australia/Sydney:20250909T170000
DTSTAMP:20260422T215440
CREATED:20241120T002146Z
LAST-MODIFIED:20241120T002146Z
UID:54170-1757397600-1757437200@www.shellybeachgolfclub.com.au
SUMMARY:Medley Individual Stableford 4 Grades plus Medley 2B Aggregate
DESCRIPTION:
URL:https://www.shellybeachgolfclub.com.au/golf-program/medley-individual-stableford-4-grades-plus-medley-2b-aggregate-32/
CATEGORIES:Mens / Mixed Club Events
END:VEVENT
BEGIN:VEVENT
DTSTART;TZID=Australia/Sydney:20250911T060000
DTEND;TZID=Australia/Sydney:20250911T170000
DTSTAMP:20260422T215440
CREATED:20241120T002242Z
LAST-MODIFIED:20241120T002242Z
UID:54174-1757570400-1757610000@www.shellybeachgolfclub.com.au
SUMMARY:Individual Stableford 4 Grades plus 2B Split 6's\, 1st 6 holes: 2BBB\, 2nd 6 holes: 2B Aggregate & 3rd 6 holes: 2B Multiplier
DESCRIPTION:
URL:https://www.shellybeachgolfclub.com.au/golf-program/individual-stableford-4-grades-plus-2b-split-6s-1st-6-holes-2bbb-2nd-6-holes-2b-aggregate-3rd-6-holes-2b-multiplier-15/
CATEGORIES:Mens / Mixed Club Events
END:VEVENT
BEGIN:VEVENT
DTSTART;TZID=Australia/Sydney:20250912T060000
DTEND;TZID=Australia/Sydney:20250912T170000
DTSTAMP:20260422T215440
CREATED:20241120T002321Z
LAST-MODIFIED:20241120T002321Z
UID:54176-1757656800-1757696400@www.shellybeachgolfclub.com.au
SUMMARY:Men's & Women's Individual Stableford
DESCRIPTION:
URL:https://www.shellybeachgolfclub.com.au/golf-program/mens-womens-individual-stableford-113/
CATEGORIES:Mens / Mixed Club Events
END:VEVENT
BEGIN:VEVENT
DTSTART;TZID=Australia/Sydney:20250912T110000
DTEND;TZID=Australia/Sydney:20250912T170000
DTSTAMP:20260422T215440
CREATED:20241120T002340Z
LAST-MODIFIED:20241120T002340Z
UID:54178-1757674800-1757696400@www.shellybeachgolfclub.com.au
SUMMARY:Chook Run
DESCRIPTION:
URL:https://www.shellybeachgolfclub.com.au/golf-program/chook-run-126/
CATEGORIES:Mens / Mixed Club Events
END:VEVENT
BEGIN:VEVENT
DTSTART;TZID=Australia/Sydney:20250913T060000
DTEND;TZID=Australia/Sydney:20250913T170000
DTSTAMP:20260422T215440
CREATED:20241120T003858Z
LAST-MODIFIED:20241120T003858Z
UID:54182-1757743200-1757782800@www.shellybeachgolfclub.com.au
SUMMARY:Individual Stableford Men & Women's plus Men/Medley 2B Aggregate
DESCRIPTION:
URL:https://www.shellybeachgolfclub.com.au/golf-program/individual-stableford-men-womens-plus-men-medley-2b-aggregate-39/
CATEGORIES:Mens / Mixed Club Events
END:VEVENT
BEGIN:VEVENT
DTSTART;TZID=Australia/Sydney:20250914T060000
DTEND;TZID=Australia/Sydney:20250914T170000
DTSTAMP:20260422T215440
CREATED:20241120T004041Z
LAST-MODIFIED:20241120T004041Z
UID:54186-1757829600-1757869200@www.shellybeachgolfclub.com.au
SUMMARY:Medley Individual Stableford plus Medley 2BBB + 2BBB Scratch
DESCRIPTION:
URL:https://www.shellybeachgolfclub.com.au/golf-program/medley-individual-stableford-plus-medley-2bbb-2bbb-scratch-31/
CATEGORIES:Mens / Mixed Club Events
END:VEVENT
BEGIN:VEVENT
DTSTART;TZID=Australia/Sydney:20250915T060000
DTEND;TZID=Australia/Sydney:20250915T170000
DTSTAMP:20260422T215440
CREATED:20241120T004109Z
LAST-MODIFIED:20241120T004109Z
UID:54188-1757916000-1757955600@www.shellybeachgolfclub.com.au
SUMMARY:Mad Monday Men's & Women's Individual Stableford
DESCRIPTION:
URL:https://www.shellybeachgolfclub.com.au/golf-program/mad-monday-mens-womens-individual-stableford-93/
CATEGORIES:Mens / Mixed Club Events
END:VEVENT
BEGIN:VEVENT
DTSTART;TZID=Australia/Sydney:20250916T060000
DTEND;TZID=Australia/Sydney:20250916T170000
DTSTAMP:20260422T215440
CREATED:20241120T004131Z
LAST-MODIFIED:20241120T004203Z
UID:54190-1758002400-1758042000@www.shellybeachgolfclub.com.au
SUMMARY:Medley Individual Stableford 4 Grades plus Medley 2BBB
DESCRIPTION:
URL:https://www.shellybeachgolfclub.com.au/golf-program/medley-individual-stableford-4-grades-plus-medley-2bbb-65/
CATEGORIES:Mens / Mixed Club Events
END:VEVENT
BEGIN:VEVENT
DTSTART;TZID=Australia/Sydney:20250918T060000
DTEND;TZID=Australia/Sydney:20250918T170000
DTSTAMP:20260422T215440
CREATED:20241120T004256Z
LAST-MODIFIED:20241120T004256Z
UID:54195-1758175200-1758214800@www.shellybeachgolfclub.com.au
SUMMARY:Individual Stableford 4 Grades plus 2B Multiplier
DESCRIPTION:
URL:https://www.shellybeachgolfclub.com.au/golf-program/individual-stableford-4-grades-plus-2b-multiplier-14/
CATEGORIES:Mens / Mixed Club Events
END:VEVENT
BEGIN:VEVENT
DTSTART;TZID=Australia/Sydney:20250919T060000
DTEND;TZID=Australia/Sydney:20250919T170000
DTSTAMP:20260422T215440
CREATED:20241120T004330Z
LAST-MODIFIED:20241120T004330Z
UID:54197-1758261600-1758301200@www.shellybeachgolfclub.com.au
SUMMARY:Men's & Women's Individual Stableford
DESCRIPTION:
URL:https://www.shellybeachgolfclub.com.au/golf-program/mens-womens-individual-stableford-114/
CATEGORIES:Mens / Mixed Club Events
END:VEVENT
BEGIN:VEVENT
DTSTART;TZID=Australia/Sydney:20250919T110000
DTEND;TZID=Australia/Sydney:20250919T170000
DTSTAMP:20260422T215440
CREATED:20241120T004406Z
LAST-MODIFIED:20241120T004406Z
UID:54199-1758279600-1758301200@www.shellybeachgolfclub.com.au
SUMMARY:Chook Run
DESCRIPTION:
URL:https://www.shellybeachgolfclub.com.au/golf-program/chook-run-127/
CATEGORIES:Mens / Mixed Club Events
END:VEVENT
BEGIN:VEVENT
DTSTART;TZID=Australia/Sydney:20250920T060000
DTEND;TZID=Australia/Sydney:20250920T060000
DTSTAMP:20260422T215440
CREATED:20250204T060427Z
LAST-MODIFIED:20250204T060432Z
UID:54749-1758348000-1758348000@www.shellybeachgolfclub.com.au
SUMMARY:Choose Your TEE Day
DESCRIPTION:
URL:https://www.shellybeachgolfclub.com.au/golf-program/choose-your-tee-day-29/
CATEGORIES:Mens / Mixed Club Events
END:VEVENT
BEGIN:VEVENT
DTSTART;TZID=Australia/Sydney:20250920T060000
DTEND;TZID=Australia/Sydney:20250920T170000
DTSTAMP:20260422T215440
CREATED:20241120T004429Z
LAST-MODIFIED:20241120T004429Z
UID:54201-1758348000-1758387600@www.shellybeachgolfclub.com.au
SUMMARY:Individual Stableford Men & Women's plus Men/Medley 2BBB
DESCRIPTION:
URL:https://www.shellybeachgolfclub.com.au/golf-program/individual-stableford-men-womens-plus-men-medley-2bbb-56/
CATEGORIES:Mens / Mixed Club Events
END:VEVENT
BEGIN:VEVENT
DTSTART;TZID=Australia/Sydney:20250921T060000
DTEND;TZID=Australia/Sydney:20250921T170000
DTSTAMP:20260422T215440
CREATED:20241120T004457Z
LAST-MODIFIED:20241120T004457Z
UID:54203-1758434400-1758474000@www.shellybeachgolfclub.com.au
SUMMARY:Medley Individual Stableford plus Medley 2B Aggregate
DESCRIPTION:
URL:https://www.shellybeachgolfclub.com.au/golf-program/medley-individual-stableford-plus-medley-2b-aggregate-22/
CATEGORIES:Mens / Mixed Club Events
END:VEVENT
BEGIN:VEVENT
DTSTART;TZID=Australia/Sydney:20250922T060000
DTEND;TZID=Australia/Sydney:20250922T170000
DTSTAMP:20260422T215440
CREATED:20241120T004740Z
LAST-MODIFIED:20241120T004740Z
UID:54209-1758520800-1758560400@www.shellybeachgolfclub.com.au
SUMMARY:Mad Monday Men's & Women's Individual Stableford
DESCRIPTION:
URL:https://www.shellybeachgolfclub.com.au/golf-program/mad-monday-mens-womens-individual-stableford-94/
CATEGORIES:Mens / Mixed Club Events
END:VEVENT
BEGIN:VEVENT
DTSTART;TZID=Australia/Sydney:20250923T060000
DTEND;TZID=Australia/Sydney:20250923T170000
DTSTAMP:20260422T215440
CREATED:20241120T004812Z
LAST-MODIFIED:20241120T004812Z
UID:54211-1758607200-1758646800@www.shellybeachgolfclub.com.au
SUMMARY:Medley Individual Stableford 4 Grades plus Medley 2B Aggregate
DESCRIPTION:
URL:https://www.shellybeachgolfclub.com.au/golf-program/medley-individual-stableford-4-grades-plus-medley-2b-aggregate-33/
CATEGORIES:Mens / Mixed Club Events
END:VEVENT
BEGIN:VEVENT
DTSTART;TZID=Australia/Sydney:20250925T060000
DTEND;TZID=Australia/Sydney:20250925T170000
DTSTAMP:20260422T215440
CREATED:20241120T004914Z
LAST-MODIFIED:20241120T004914Z
UID:54215-1758780000-1758819600@www.shellybeachgolfclub.com.au
SUMMARY:Individual Stableford. Monthly Mug. 4 Grades 1st\, 2nd\, 3rd & 4th Nett plus Overall Scratch
DESCRIPTION:
URL:https://www.shellybeachgolfclub.com.au/golf-program/individual-stableford-monthly-mug-4-grades-1st-2nd-3rd-4th-nett-plus-overall-scratch-31/
CATEGORIES:Mens / Mixed Club Events
END:VEVENT
BEGIN:VEVENT
DTSTART;TZID=Australia/Sydney:20250926T060000
DTEND;TZID=Australia/Sydney:20250926T170000
DTSTAMP:20260422T215440
CREATED:20241120T004936Z
LAST-MODIFIED:20241120T004936Z
UID:54217-1758866400-1758906000@www.shellybeachgolfclub.com.au
SUMMARY:Men's & Women's Individual Stableford
DESCRIPTION:
URL:https://www.shellybeachgolfclub.com.au/golf-program/mens-womens-individual-stableford-115/
CATEGORIES:Mens / Mixed Club Events
END:VEVENT
BEGIN:VEVENT
DTSTART;TZID=Australia/Sydney:20250926T110000
DTEND;TZID=Australia/Sydney:20250926T170000
DTSTAMP:20260422T215440
CREATED:20241120T004958Z
LAST-MODIFIED:20241120T004958Z
UID:54219-1758884400-1758906000@www.shellybeachgolfclub.com.au
SUMMARY:Chook Run
DESCRIPTION:
URL:https://www.shellybeachgolfclub.com.au/golf-program/chook-run-128/
CATEGORIES:Mens / Mixed Club Events
END:VEVENT
BEGIN:VEVENT
DTSTART;TZID=Australia/Sydney:20250927T070000
DTEND;TZID=Australia/Sydney:20250927T170000
DTSTAMP:20260422T215440
CREATED:20241120T005019Z
LAST-MODIFIED:20250226T022637Z
UID:54221-1758956400-1758992400@www.shellybeachgolfclub.com.au
SUMMARY:Captain v President GALA Day
DESCRIPTION:7.00am start.\nIndividual Stableford Men & Women’s plus Men/Medley 2BBB.\nMeal included.\nR.J Nicol Salver & Frank Stephenson Trophy.\nFollowed by midday shotgun start. Medley individual stableford. No meal & not part of Captain v President Day.
URL:https://www.shellybeachgolfclub.com.au/golf-program/captain-v-president-gala-day-3/
CATEGORIES:Mens / Mixed Club Events
END:VEVENT
BEGIN:VEVENT
DTSTART;TZID=Australia/Sydney:20250928T060000
DTEND;TZID=Australia/Sydney:20250928T170000
DTSTAMP:20260422T215440
CREATED:20241120T005714Z
LAST-MODIFIED:20241120T005714Z
UID:54226-1759039200-1759078800@www.shellybeachgolfclub.com.au
SUMMARY:Medley Individual Par plus Medley 2BBB
DESCRIPTION:
URL:https://www.shellybeachgolfclub.com.au/golf-program/medley-individual-par-plus-medley-2bbb-5/
CATEGORIES:Mens / Mixed Club Events
END:VEVENT
BEGIN:VEVENT
DTSTART;TZID=Australia/Sydney:20250929T060000
DTEND;TZID=Australia/Sydney:20250929T170000
DTSTAMP:20260422T215440
CREATED:20241120T010016Z
LAST-MODIFIED:20241120T010016Z
UID:54228-1759125600-1759165200@www.shellybeachgolfclub.com.au
SUMMARY:Mad Monday Men's & Women's Individual Stableford
DESCRIPTION:
URL:https://www.shellybeachgolfclub.com.au/golf-program/mad-monday-mens-womens-individual-stableford-95/
CATEGORIES:Mens / Mixed Club Events
END:VEVENT
END:VCALENDAR