BEGIN:VCALENDAR
VERSION:2.0
PRODID:-//Shelly Beach Golf Club - ECPv6.15.18//NONSGML v1.0//EN
CALSCALE:GREGORIAN
METHOD:PUBLISH
X-WR-CALNAME:Shelly Beach Golf Club
X-ORIGINAL-URL:https://www.shellybeachgolfclub.com.au
X-WR-CALDESC:Events for Shelly Beach Golf Club
REFRESH-INTERVAL;VALUE=DURATION:PT1H
X-Robots-Tag:noindex
X-PUBLISHED-TTL:PT1H
BEGIN:VTIMEZONE
TZID:Australia/Sydney
BEGIN:STANDARD
TZOFFSETFROM:+1100
TZOFFSETTO:+1000
TZNAME:AEST
DTSTART:20240406T160000
END:STANDARD
BEGIN:DAYLIGHT
TZOFFSETFROM:+1000
TZOFFSETTO:+1100
TZNAME:AEDT
DTSTART:20241005T160000
END:DAYLIGHT
BEGIN:STANDARD
TZOFFSETFROM:+1100
TZOFFSETTO:+1000
TZNAME:AEST
DTSTART:20250405T160000
END:STANDARD
BEGIN:DAYLIGHT
TZOFFSETFROM:+1000
TZOFFSETTO:+1100
TZNAME:AEDT
DTSTART:20251004T160000
END:DAYLIGHT
BEGIN:STANDARD
TZOFFSETFROM:+1100
TZOFFSETTO:+1000
TZNAME:AEST
DTSTART:20260404T160000
END:STANDARD
BEGIN:DAYLIGHT
TZOFFSETFROM:+1000
TZOFFSETTO:+1100
TZNAME:AEDT
DTSTART:20261003T160000
END:DAYLIGHT
END:VTIMEZONE
BEGIN:VEVENT
DTSTART;TZID=Australia/Sydney:20250701T060000
DTEND;TZID=Australia/Sydney:20250701T060000
DTSTAMP:20260423T004738
CREATED:20241119T030515Z
LAST-MODIFIED:20241119T030522Z
UID:53950-1751349600-1751349600@www.shellybeachgolfclub.com.au
SUMMARY:Medley Individual Stableford 4 Grades plus Medley 2B Aggregate
DESCRIPTION:
URL:https://www.shellybeachgolfclub.com.au/golf-program/medley-individual-stableford-4-grades-plus-medley-2b-aggregate-29/
CATEGORIES:Mens / Mixed Club Events
END:VEVENT
BEGIN:VEVENT
DTSTART;TZID=Australia/Sydney:20250703T060000
DTEND;TZID=Australia/Sydney:20250703T170000
DTSTAMP:20260423T004738
CREATED:20241119T031722Z
LAST-MODIFIED:20241119T031722Z
UID:53954-1751522400-1751562000@www.shellybeachgolfclub.com.au
SUMMARY:Individual Stableford 4 Grades plus 2BBB
DESCRIPTION:
URL:https://www.shellybeachgolfclub.com.au/golf-program/individual-stableford-4-grades-plus-2bbb-45/
CATEGORIES:Mens / Mixed Club Events
END:VEVENT
BEGIN:VEVENT
DTSTART;TZID=Australia/Sydney:20250704T060000
DTEND;TZID=Australia/Sydney:20250704T060000
DTSTAMP:20260423T004738
CREATED:20250204T054502Z
LAST-MODIFIED:20250204T054507Z
UID:54736-1751608800-1751608800@www.shellybeachgolfclub.com.au
SUMMARY:Men's & Women's Individual Stableford
DESCRIPTION:
URL:https://www.shellybeachgolfclub.com.au/golf-program/mens-womens-individual-stableford-97/
CATEGORIES:Mens / Mixed Club Events
END:VEVENT
BEGIN:VEVENT
DTSTART;TZID=Australia/Sydney:20250704T110000
DTEND;TZID=Australia/Sydney:20250704T170000
DTSTAMP:20260423T004738
CREATED:20241119T032918Z
LAST-MODIFIED:20241119T032918Z
UID:53958-1751626800-1751648400@www.shellybeachgolfclub.com.au
SUMMARY:Chook Run
DESCRIPTION:
URL:https://www.shellybeachgolfclub.com.au/golf-program/chook-run-116/
CATEGORIES:Mens / Mixed Club Events
END:VEVENT
BEGIN:VEVENT
DTSTART;TZID=Australia/Sydney:20250705T060000
DTEND;TZID=Australia/Sydney:20250705T170000
DTSTAMP:20260423T004738
CREATED:20241119T032944Z
LAST-MODIFIED:20241119T032944Z
UID:53960-1751695200-1751734800@www.shellybeachgolfclub.com.au
SUMMARY:Individual Stableford Men & Women's plus Men/Medley 2BBB
DESCRIPTION:
URL:https://www.shellybeachgolfclub.com.au/golf-program/individual-stableford-men-womens-plus-men-medley-2bbb-50/
CATEGORIES:Mens / Mixed Club Events
END:VEVENT
BEGIN:VEVENT
DTSTART;TZID=Australia/Sydney:20250706T060000
DTEND;TZID=Australia/Sydney:20250706T170000
DTSTAMP:20260423T004738
CREATED:20241119T033156Z
LAST-MODIFIED:20241119T033156Z
UID:53964-1751781600-1751821200@www.shellybeachgolfclub.com.au
SUMMARY:Individual Stroke. Men's Monthly Medal. 3 Grades
DESCRIPTION:
URL:https://www.shellybeachgolfclub.com.au/golf-program/individual-stroke-mens-monthly-medal-3-grades-23/
CATEGORIES:Mens / Mixed Club Events
END:VEVENT
BEGIN:VEVENT
DTSTART;TZID=Australia/Sydney:20250707T060000
DTEND;TZID=Australia/Sydney:20250707T170000
DTSTAMP:20260423T004738
CREATED:20241119T033243Z
LAST-MODIFIED:20241119T033243Z
UID:53968-1751868000-1751907600@www.shellybeachgolfclub.com.au
SUMMARY:Mad Monday Men's & Women's Individual Stableford
DESCRIPTION:
URL:https://www.shellybeachgolfclub.com.au/golf-program/mad-monday-mens-womens-individual-stableford-85/
CATEGORIES:Mens / Mixed Club Events
END:VEVENT
BEGIN:VEVENT
DTSTART;TZID=Australia/Sydney:20250708T060000
DTEND;TZID=Australia/Sydney:20250708T170000
DTSTAMP:20260423T004738
CREATED:20241119T033334Z
LAST-MODIFIED:20241119T033334Z
UID:53972-1751954400-1751994000@www.shellybeachgolfclub.com.au
SUMMARY:Medley Individual Stableford 4 Grades plus Medley 2BBB
DESCRIPTION:
URL:https://www.shellybeachgolfclub.com.au/golf-program/medley-individual-stableford-4-grades-plus-medley-2bbb-60/
CATEGORIES:Mens / Mixed Club Events
END:VEVENT
BEGIN:VEVENT
DTSTART;TZID=Australia/Sydney:20250710T060000
DTEND;TZID=Australia/Sydney:20250710T170000
DTSTAMP:20260423T004738
CREATED:20241119T033601Z
LAST-MODIFIED:20241119T033601Z
UID:53980-1752127200-1752166800@www.shellybeachgolfclub.com.au
SUMMARY:Individual Stableford 4 Grades plus 2B Multiplier
DESCRIPTION:
URL:https://www.shellybeachgolfclub.com.au/golf-program/individual-stableford-4-grades-plus-2b-multiplier-13/
CATEGORIES:Mens / Mixed Club Events
END:VEVENT
BEGIN:VEVENT
DTSTART;TZID=Australia/Sydney:20250711T060000
DTEND;TZID=Australia/Sydney:20250711T170000
DTSTAMP:20260423T004738
CREATED:20241119T035624Z
LAST-MODIFIED:20241119T035624Z
UID:53982-1752213600-1752253200@www.shellybeachgolfclub.com.au
SUMMARY:Men's & Women's Individual Stableford
DESCRIPTION:
URL:https://www.shellybeachgolfclub.com.au/golf-program/mens-womens-individual-stableford-104/
CATEGORIES:Mens / Mixed Club Events
END:VEVENT
BEGIN:VEVENT
DTSTART;TZID=Australia/Sydney:20250711T110000
DTEND;TZID=Australia/Sydney:20250711T170000
DTSTAMP:20260423T004738
CREATED:20241119T035756Z
LAST-MODIFIED:20241119T035756Z
UID:53984-1752231600-1752253200@www.shellybeachgolfclub.com.au
SUMMARY:Chook Run
DESCRIPTION:
URL:https://www.shellybeachgolfclub.com.au/golf-program/chook-run-117/
CATEGORIES:Mens / Mixed Club Events
END:VEVENT
BEGIN:VEVENT
DTSTART;TZID=Australia/Sydney:20250712T060000
DTEND;TZID=Australia/Sydney:20250712T170000
DTSTAMP:20260423T004738
CREATED:20241119T040029Z
LAST-MODIFIED:20241119T040029Z
UID:53986-1752300000-1752339600@www.shellybeachgolfclub.com.au
SUMMARY:Individual Stableford Men & Women's plus Men/Medley 2B Aggregate
DESCRIPTION:
URL:https://www.shellybeachgolfclub.com.au/golf-program/individual-stableford-men-womens-plus-men-medley-2b-aggregate-36/
CATEGORIES:Mens / Mixed Club Events
END:VEVENT
BEGIN:VEVENT
DTSTART;TZID=Australia/Sydney:20250713T060000
DTEND;TZID=Australia/Sydney:20250713T170000
DTSTAMP:20260423T004738
CREATED:20241119T040057Z
LAST-MODIFIED:20241119T040057Z
UID:53988-1752386400-1752426000@www.shellybeachgolfclub.com.au
SUMMARY:Medley Individual Stableford plus Medley 2BBB + 2BBB Scratch
DESCRIPTION:
URL:https://www.shellybeachgolfclub.com.au/golf-program/medley-individual-stableford-plus-medley-2bbb-2bbb-scratch-29/
CATEGORIES:Mens / Mixed Club Events
END:VEVENT
BEGIN:VEVENT
DTSTART;TZID=Australia/Sydney:20250714T060000
DTEND;TZID=Australia/Sydney:20250714T170000
DTSTAMP:20260423T004738
CREATED:20241119T040446Z
LAST-MODIFIED:20241119T040446Z
UID:53990-1752472800-1752512400@www.shellybeachgolfclub.com.au
SUMMARY:Mad Monday Men's & Women's Individual Stableford
DESCRIPTION:
URL:https://www.shellybeachgolfclub.com.au/golf-program/mad-monday-mens-womens-individual-stableford-86/
CATEGORIES:Mens / Mixed Club Events
END:VEVENT
BEGIN:VEVENT
DTSTART;TZID=Australia/Sydney:20250715T060000
DTEND;TZID=Australia/Sydney:20250715T170000
DTSTAMP:20260423T004738
CREATED:20241119T040753Z
LAST-MODIFIED:20241119T040753Z
UID:53992-1752559200-1752598800@www.shellybeachgolfclub.com.au
SUMMARY:Medley Individual Stableford 4 Grades plus Medley 2B Aggregate
DESCRIPTION:
URL:https://www.shellybeachgolfclub.com.au/golf-program/medley-individual-stableford-4-grades-plus-medley-2b-aggregate-30/
CATEGORIES:Mens / Mixed Club Events
END:VEVENT
BEGIN:VEVENT
DTSTART;TZID=Australia/Sydney:20250717T060000
DTEND;TZID=Australia/Sydney:20250717T170000
DTSTAMP:20260423T004738
CREATED:20241119T040855Z
LAST-MODIFIED:20241119T040855Z
UID:53996-1752732000-1752771600@www.shellybeachgolfclub.com.au
SUMMARY:Individual Stableford 4 Grades plus 2BBB
DESCRIPTION:
URL:https://www.shellybeachgolfclub.com.au/golf-program/individual-stableford-4-grades-plus-2bbb-46/
CATEGORIES:Mens / Mixed Club Events
END:VEVENT
BEGIN:VEVENT
DTSTART;TZID=Australia/Sydney:20250718T060000
DTEND;TZID=Australia/Sydney:20250718T170000
DTSTAMP:20260423T004738
CREATED:20241119T040918Z
LAST-MODIFIED:20241119T040918Z
UID:53998-1752818400-1752858000@www.shellybeachgolfclub.com.au
SUMMARY:Men's & Women's Individual Stableford
DESCRIPTION:
URL:https://www.shellybeachgolfclub.com.au/golf-program/mens-womens-individual-stableford-105/
CATEGORIES:Mens / Mixed Club Events
END:VEVENT
BEGIN:VEVENT
DTSTART;TZID=Australia/Sydney:20250718T110000
DTEND;TZID=Australia/Sydney:20250718T170000
DTSTAMP:20260423T004738
CREATED:20241119T041039Z
LAST-MODIFIED:20241119T041039Z
UID:54000-1752836400-1752858000@www.shellybeachgolfclub.com.au
SUMMARY:Chook Run
DESCRIPTION:
URL:https://www.shellybeachgolfclub.com.au/golf-program/chook-run-118/
CATEGORIES:Mens / Mixed Club Events
END:VEVENT
BEGIN:VEVENT
DTSTART;TZID=Australia/Sydney:20250719T060000
DTEND;TZID=Australia/Sydney:20250719T170000
DTSTAMP:20260423T004738
CREATED:20241119T041456Z
LAST-MODIFIED:20241119T041456Z
UID:54002-1752904800-1752944400@www.shellybeachgolfclub.com.au
SUMMARY:Individual Stableford Men & Women's plus Men/Medley 2BBB
DESCRIPTION:
URL:https://www.shellybeachgolfclub.com.au/golf-program/individual-stableford-men-womens-plus-men-medley-2bbb-51/
CATEGORIES:Mens / Mixed Club Events
END:VEVENT
BEGIN:VEVENT
DTSTART;TZID=Australia/Sydney:20250720T060000
DTEND;TZID=Australia/Sydney:20250720T170000
DTSTAMP:20260423T004738
CREATED:20241119T041605Z
LAST-MODIFIED:20241119T041605Z
UID:54004-1752991200-1753030800@www.shellybeachgolfclub.com.au
SUMMARY:Medley Individual Stableford plus Medley 2B Aggregate
DESCRIPTION:
URL:https://www.shellybeachgolfclub.com.au/golf-program/medley-individual-stableford-plus-medley-2b-aggregate-20/
CATEGORIES:Mens / Mixed Club Events
END:VEVENT
BEGIN:VEVENT
DTSTART;TZID=Australia/Sydney:20250721T060000
DTEND;TZID=Australia/Sydney:20250721T170000
DTSTAMP:20260423T004738
CREATED:20241119T041623Z
LAST-MODIFIED:20241119T041623Z
UID:54006-1753077600-1753117200@www.shellybeachgolfclub.com.au
SUMMARY:Mad Monday Men's & Women's Individual Stableford
DESCRIPTION:
URL:https://www.shellybeachgolfclub.com.au/golf-program/mad-monday-mens-womens-individual-stableford-87/
CATEGORIES:Mens / Mixed Club Events
END:VEVENT
BEGIN:VEVENT
DTSTART;TZID=Australia/Sydney:20250722T060000
DTEND;TZID=Australia/Sydney:20250722T170000
DTSTAMP:20260423T004738
CREATED:20241119T041649Z
LAST-MODIFIED:20241119T041649Z
UID:54008-1753164000-1753203600@www.shellybeachgolfclub.com.au
SUMMARY:Medley Individual Stableford 4 Grades plus Medley 2BBB
DESCRIPTION:
URL:https://www.shellybeachgolfclub.com.au/golf-program/medley-individual-stableford-4-grades-plus-medley-2bbb-61/
CATEGORIES:Mens / Mixed Club Events
END:VEVENT
BEGIN:VEVENT
DTSTART;TZID=Australia/Sydney:20250724T060000
DTEND;TZID=Australia/Sydney:20250724T170000
DTSTAMP:20260423T004738
CREATED:20241119T041733Z
LAST-MODIFIED:20241119T041733Z
UID:54012-1753336800-1753376400@www.shellybeachgolfclub.com.au
SUMMARY:Individual Stableford. Monthly Mug. 4 Grades 1st\, 2nd\, 3rd & 4th Nett plus Overall Scratch
DESCRIPTION:
URL:https://www.shellybeachgolfclub.com.au/golf-program/individual-stableford-monthly-mug-4-grades-1st-2nd-3rd-4th-nett-plus-overall-scratch-29/
CATEGORIES:Mens / Mixed Club Events
END:VEVENT
BEGIN:VEVENT
DTSTART;TZID=Australia/Sydney:20250725T060000
DTEND;TZID=Australia/Sydney:20250725T170000
DTSTAMP:20260423T004738
CREATED:20241119T041754Z
LAST-MODIFIED:20241119T041754Z
UID:54014-1753423200-1753462800@www.shellybeachgolfclub.com.au
SUMMARY:Men's & Women's Individual Stableford
DESCRIPTION:
URL:https://www.shellybeachgolfclub.com.au/golf-program/mens-womens-individual-stableford-106/
CATEGORIES:Mens / Mixed Club Events
END:VEVENT
BEGIN:VEVENT
DTSTART;TZID=Australia/Sydney:20250725T110000
DTEND;TZID=Australia/Sydney:20250725T170000
DTSTAMP:20260423T004738
CREATED:20241119T041812Z
LAST-MODIFIED:20241119T041812Z
UID:54016-1753441200-1753462800@www.shellybeachgolfclub.com.au
SUMMARY:Chook Run
DESCRIPTION:
URL:https://www.shellybeachgolfclub.com.au/golf-program/chook-run-119/
CATEGORIES:Mens / Mixed Club Events
END:VEVENT
BEGIN:VEVENT
DTSTART;TZID=Australia/Sydney:20250726T060000
DTEND;TZID=Australia/Sydney:20250726T170000
DTSTAMP:20260423T004738
CREATED:20241119T041932Z
LAST-MODIFIED:20241119T041932Z
UID:54022-1753509600-1753549200@www.shellybeachgolfclub.com.au
SUMMARY:Individual Stableford Men & Women's plus Men/Medley 2B Aggregate
DESCRIPTION:
URL:https://www.shellybeachgolfclub.com.au/golf-program/individual-stableford-men-womens-plus-men-medley-2b-aggregate-37/
CATEGORIES:Mens / Mixed Club Events
END:VEVENT
BEGIN:VEVENT
DTSTART;TZID=Australia/Sydney:20250727T060000
DTEND;TZID=Australia/Sydney:20250727T170000
DTSTAMP:20260423T004738
CREATED:20241119T042130Z
LAST-MODIFIED:20241119T042130Z
UID:54030-1753596000-1753635600@www.shellybeachgolfclub.com.au
SUMMARY:Individual Stableford Men & Women's plus Men/Medley 2B Aggregate
DESCRIPTION:
URL:https://www.shellybeachgolfclub.com.au/golf-program/individual-stableford-men-womens-plus-men-medley-2b-aggregate-38/
CATEGORIES:Mens / Mixed Club Events
END:VEVENT
BEGIN:VEVENT
DTSTART;TZID=Australia/Sydney:20250729T060000
DTEND;TZID=Australia/Sydney:20250729T170000
DTSTAMP:20260423T004738
CREATED:20241119T042243Z
LAST-MODIFIED:20241119T042243Z
UID:54034-1753768800-1753808400@www.shellybeachgolfclub.com.au
SUMMARY:Medley Individual Stableford 4 Grades plus Medley 2B Aggregate
DESCRIPTION:
URL:https://www.shellybeachgolfclub.com.au/golf-program/medley-individual-stableford-4-grades-plus-medley-2b-aggregate-31/
CATEGORIES:Mens / Mixed Club Events
END:VEVENT
BEGIN:VEVENT
DTSTART;TZID=Australia/Sydney:20250731T060000
DTEND;TZID=Australia/Sydney:20250731T170000
DTSTAMP:20260423T004738
CREATED:20241119T042334Z
LAST-MODIFIED:20241119T042334Z
UID:54038-1753941600-1753981200@www.shellybeachgolfclub.com.au
SUMMARY:Individual Stableford 4 Grades plus 2B Split 6's\, 1st 6 holes: 2BBB\, 2nd 6 holes: 2B Aggregate & 3rd 6 holes: 2B Multiplier.
DESCRIPTION:
URL:https://www.shellybeachgolfclub.com.au/golf-program/individual-stableford-4-grades-plus-2b-split-6s-1st-6-holes-2bbb-2nd-6-holes-2b-aggregate-3rd-6-holes-2b-multiplier-14/
CATEGORIES:Mens / Mixed Club Events
END:VEVENT
END:VCALENDAR