BEGIN:VCALENDAR
VERSION:2.0
PRODID:-//Shelly Beach Golf Club - ECPv6.15.18//NONSGML v1.0//EN
CALSCALE:GREGORIAN
METHOD:PUBLISH
X-WR-CALNAME:Shelly Beach Golf Club
X-ORIGINAL-URL:https://www.shellybeachgolfclub.com.au
X-WR-CALDESC:Events for Shelly Beach Golf Club
REFRESH-INTERVAL;VALUE=DURATION:PT1H
X-Robots-Tag:noindex
X-PUBLISHED-TTL:PT1H
BEGIN:VTIMEZONE
TZID:Australia/Sydney
BEGIN:STANDARD
TZOFFSETFROM:+1100
TZOFFSETTO:+1000
TZNAME:AEST
DTSTART:20240406T160000
END:STANDARD
BEGIN:DAYLIGHT
TZOFFSETFROM:+1000
TZOFFSETTO:+1100
TZNAME:AEDT
DTSTART:20241005T160000
END:DAYLIGHT
BEGIN:STANDARD
TZOFFSETFROM:+1100
TZOFFSETTO:+1000
TZNAME:AEST
DTSTART:20250405T160000
END:STANDARD
BEGIN:DAYLIGHT
TZOFFSETFROM:+1000
TZOFFSETTO:+1100
TZNAME:AEDT
DTSTART:20251004T160000
END:DAYLIGHT
BEGIN:STANDARD
TZOFFSETFROM:+1100
TZOFFSETTO:+1000
TZNAME:AEST
DTSTART:20260404T160000
END:STANDARD
BEGIN:DAYLIGHT
TZOFFSETFROM:+1000
TZOFFSETTO:+1100
TZNAME:AEDT
DTSTART:20261003T160000
END:DAYLIGHT
END:VTIMEZONE
BEGIN:VEVENT
DTSTART;TZID=Australia/Sydney:20250501T060000
DTEND;TZID=Australia/Sydney:20250501T060000
DTSTAMP:20260423T034651
CREATED:20240826T004709Z
LAST-MODIFIED:20240826T004716Z
UID:53632-1746079200-1746079200@www.shellybeachgolfclub.com.au
SUMMARY:Individual Stableford 4 Grades plus 2BBB
DESCRIPTION:
URL:https://www.shellybeachgolfclub.com.au/golf-program/individual-stableford-4-grades-plus-2bbb-42/
CATEGORIES:Mens / Mixed Club Events
END:VEVENT
BEGIN:VEVENT
DTSTART;TZID=Australia/Sydney:20250502T130000
DTEND;TZID=Australia/Sydney:20250502T130000
DTSTAMP:20260423T034651
CREATED:20240826T005155Z
LAST-MODIFIED:20250226T012029Z
UID:53636-1746190800-1746190800@www.shellybeachgolfclub.com.au
SUMMARY:Chook Run
DESCRIPTION:
URL:https://www.shellybeachgolfclub.com.au/golf-program/chook-run-108/
CATEGORIES:Mens / Mixed Club Events
END:VEVENT
BEGIN:VEVENT
DTSTART;TZID=Australia/Sydney:20250503T060000
DTEND;TZID=Australia/Sydney:20250503T060000
DTSTAMP:20260423T034651
CREATED:20240826T005233Z
LAST-MODIFIED:20240826T005241Z
UID:53638-1746252000-1746252000@www.shellybeachgolfclub.com.au
SUMMARY:Individual Stableford Men & Women's plus Men/Medley 2BBB
DESCRIPTION:
URL:https://www.shellybeachgolfclub.com.au/golf-program/individual-stableford-men-womens-plus-men-medley-2bbb-47/
CATEGORIES:Mens / Mixed Club Events
END:VEVENT
BEGIN:VEVENT
DTSTART;TZID=Australia/Sydney:20250504T063000
DTEND;TZID=Australia/Sydney:20250504T063000
DTSTAMP:20260423T034651
CREATED:20240826T005422Z
LAST-MODIFIED:20240826T005439Z
UID:53642-1746340200-1746340200@www.shellybeachgolfclub.com.au
SUMMARY:Medley Individual Stableford
DESCRIPTION:Moaners 6:30am 1st tee\nMembers 11:00am 1st tee
URL:https://www.shellybeachgolfclub.com.au/golf-program/medley-individual-stableford-4/
CATEGORIES:Mens / Mixed Club Events
END:VEVENT
BEGIN:VEVENT
DTSTART;TZID=Australia/Sydney:20250505T060000
DTEND;TZID=Australia/Sydney:20250505T060000
DTSTAMP:20260423T034651
CREATED:20240826T005539Z
LAST-MODIFIED:20240826T005547Z
UID:53646-1746424800-1746424800@www.shellybeachgolfclub.com.au
SUMMARY:Mad Monday Men's & Women's Individual Stableford
DESCRIPTION:
URL:https://www.shellybeachgolfclub.com.au/golf-program/mad-monday-mens-womens-individual-stableford-77/
CATEGORIES:Mens / Mixed Club Events
END:VEVENT
BEGIN:VEVENT
DTSTART;TZID=Australia/Sydney:20250506T060000
DTEND;TZID=Australia/Sydney:20250506T060000
DTSTAMP:20260423T034651
CREATED:20240826T010239Z
LAST-MODIFIED:20240826T010245Z
UID:53650-1746511200-1746511200@www.shellybeachgolfclub.com.au
SUMMARY:Medley Individual Stableford 4 Grades plus Medley 2BBB
DESCRIPTION:
URL:https://www.shellybeachgolfclub.com.au/golf-program/medley-individual-stableford-4-grades-plus-medley-2bbb-56/
CATEGORIES:Mens / Mixed Club Events
END:VEVENT
BEGIN:VEVENT
DTSTART;TZID=Australia/Sydney:20250508T060000
DTEND;TZID=Australia/Sydney:20250508T060000
DTSTAMP:20260423T034651
CREATED:20240826T010359Z
LAST-MODIFIED:20240826T010405Z
UID:53654-1746684000-1746684000@www.shellybeachgolfclub.com.au
SUMMARY:Individual Stableford 4 Grades plus 2B Multiplier
DESCRIPTION:
URL:https://www.shellybeachgolfclub.com.au/golf-program/individual-stableford-4-grades-plus-2b-multiplier-12/
CATEGORIES:Mens / Mixed Club Events
END:VEVENT
BEGIN:VEVENT
DTSTART;TZID=Australia/Sydney:20250509T130000
DTEND;TZID=Australia/Sydney:20250509T130000
DTSTAMP:20260423T034651
CREATED:20240826T010514Z
LAST-MODIFIED:20240826T010522Z
UID:53658-1746795600-1746795600@www.shellybeachgolfclub.com.au
SUMMARY:Chook Run
DESCRIPTION:
URL:https://www.shellybeachgolfclub.com.au/golf-program/chook-run-109/
CATEGORIES:Mens / Mixed Club Events
END:VEVENT
BEGIN:VEVENT
DTSTART;TZID=Australia/Sydney:20250511T060000
DTEND;TZID=Australia/Sydney:20250511T060000
DTSTAMP:20260423T034651
CREATED:20240826T010806Z
LAST-MODIFIED:20240826T010819Z
UID:53664-1746943200-1746943200@www.shellybeachgolfclub.com.au
SUMMARY:Medley Individual Stableford plus Medley 2BBB + 2BBB Scratch
DESCRIPTION:
URL:https://www.shellybeachgolfclub.com.au/golf-program/medley-individual-stableford-plus-medley-2bbb-2bbb-scratch-27/
CATEGORIES:Mens / Mixed Club Events
END:VEVENT
BEGIN:VEVENT
DTSTART;TZID=Australia/Sydney:20250512T060000
DTEND;TZID=Australia/Sydney:20250512T060000
DTSTAMP:20260423T034651
CREATED:20240826T013918Z
LAST-MODIFIED:20240826T014241Z
UID:53666-1747029600-1747029600@www.shellybeachgolfclub.com.au
SUMMARY:Mad Monday Men's & Women's Individual Stableford
DESCRIPTION:
URL:https://www.shellybeachgolfclub.com.au/golf-program/mad-monday-mens-womens-individual-stableford-78/
CATEGORIES:Mens / Mixed Club Events
END:VEVENT
BEGIN:VEVENT
DTSTART;TZID=Australia/Sydney:20250513T060000
DTEND;TZID=Australia/Sydney:20250513T060000
DTSTAMP:20260423T034651
CREATED:20240826T014331Z
LAST-MODIFIED:20240826T014337Z
UID:53670-1747116000-1747116000@www.shellybeachgolfclub.com.au
SUMMARY:Medley Individual Stableford 4 Grades plus Medley 2B Aggregate
DESCRIPTION:
URL:https://www.shellybeachgolfclub.com.au/golf-program/medley-individual-stableford-4-grades-plus-medley-2b-aggregate-27/
CATEGORIES:Mens / Mixed Club Events
END:VEVENT
BEGIN:VEVENT
DTSTART;TZID=Australia/Sydney:20250515T060000
DTEND;TZID=Australia/Sydney:20250515T060000
DTSTAMP:20260423T034651
CREATED:20240826T025332Z
LAST-MODIFIED:20240826T025339Z
UID:53674-1747288800-1747288800@www.shellybeachgolfclub.com.au
SUMMARY:Individual Stableford 4 Grades plus 2BBB
DESCRIPTION:
URL:https://www.shellybeachgolfclub.com.au/golf-program/individual-stableford-4-grades-plus-2bbb-43/
CATEGORIES:Mens / Mixed Club Events
END:VEVENT
BEGIN:VEVENT
DTSTART;TZID=Australia/Sydney:20250517T060000
DTEND;TZID=Australia/Sydney:20250517T060000
DTSTAMP:20260423T034651
CREATED:20240826T034431Z
LAST-MODIFIED:20240826T034438Z
UID:53680-1747461600-1747461600@www.shellybeachgolfclub.com.au
SUMMARY:Individual Stableford Men & Women's plus Men/Medley 2BBB
DESCRIPTION:
URL:https://www.shellybeachgolfclub.com.au/golf-program/individual-stableford-men-womens-plus-men-medley-2bbb-48/
CATEGORIES:Mens / Mixed Club Events
END:VEVENT
BEGIN:VEVENT
DTSTART;TZID=Australia/Sydney:20250518T060000
DTEND;TZID=Australia/Sydney:20250518T060000
DTSTAMP:20260423T034651
CREATED:20240826T034817Z
LAST-MODIFIED:20240826T034827Z
UID:53686-1747548000-1747548000@www.shellybeachgolfclub.com.au
SUMMARY:Individual Stroke. Men's Monthly Medal. 3 Grades
DESCRIPTION:
URL:https://www.shellybeachgolfclub.com.au/golf-program/individual-stroke-mens-monthly-medal-3-grades-21/
CATEGORIES:Mens / Mixed Club Events
END:VEVENT
BEGIN:VEVENT
DTSTART;TZID=Australia/Sydney:20250519T060000
DTEND;TZID=Australia/Sydney:20250519T060000
DTSTAMP:20260423T034651
CREATED:20240826T035014Z
LAST-MODIFIED:20240826T035020Z
UID:53692-1747634400-1747634400@www.shellybeachgolfclub.com.au
SUMMARY:Mad Monday Men's & Women's Individual Stableford
DESCRIPTION:
URL:https://www.shellybeachgolfclub.com.au/golf-program/mad-monday-mens-womens-individual-stableford-79/
CATEGORIES:Mens / Mixed Club Events
END:VEVENT
BEGIN:VEVENT
DTSTART;TZID=Australia/Sydney:20250520T060000
DTEND;TZID=Australia/Sydney:20250520T060000
DTSTAMP:20260423T034651
CREATED:20240826T035118Z
LAST-MODIFIED:20240826T035134Z
UID:53696-1747720800-1747720800@www.shellybeachgolfclub.com.au
SUMMARY:Medley Individual Stableford 4 Grades plus Medley 2BBB
DESCRIPTION:
URL:https://www.shellybeachgolfclub.com.au/golf-program/medley-individual-stableford-4-grades-plus-medley-2bbb-57/
CATEGORIES:Mens / Mixed Club Events
END:VEVENT
BEGIN:VEVENT
DTSTART;TZID=Australia/Sydney:20250522T060000
DTEND;TZID=Australia/Sydney:20250522T060000
DTSTAMP:20260423T034651
CREATED:20240826T035330Z
LAST-MODIFIED:20240826T035347Z
UID:53702-1747893600-1747893600@www.shellybeachgolfclub.com.au
SUMMARY:Individual Stableford. Monthly Mug. 4 Grades 1st\, 2nd\, 3rd & 4th Nett plus Overall Scratch
DESCRIPTION:
URL:https://www.shellybeachgolfclub.com.au/golf-program/individual-stableford-monthly-mug-4-grades-1st-2nd-3rd-4th-nett-plus-overall-scratch-26/
CATEGORIES:Mens / Mixed Club Events
END:VEVENT
BEGIN:VEVENT
DTSTART;TZID=Australia/Sydney:20250523T010000
DTEND;TZID=Australia/Sydney:20250523T010000
DTSTAMP:20260423T034651
CREATED:20250204T052008Z
LAST-MODIFIED:20250204T052025Z
UID:54725-1747962000-1747962000@www.shellybeachgolfclub.com.au
SUMMARY:Chook Run
DESCRIPTION:
URL:https://www.shellybeachgolfclub.com.au/golf-program/chook-run-110/
CATEGORIES:Mens / Mixed Club Events
END:VEVENT
BEGIN:VEVENT
DTSTART;TZID=Australia/Sydney:20250524T060000
DTEND;TZID=Australia/Sydney:20250524T060000
DTSTAMP:20260423T034651
CREATED:20240826T035621Z
LAST-MODIFIED:20240826T044755Z
UID:53708-1748066400-1748066400@www.shellybeachgolfclub.com.au
SUMMARY:Individual Stableford Men & Women's plus Men/Medley 2B Aggregate
DESCRIPTION:
URL:https://www.shellybeachgolfclub.com.au/golf-program/individual-stableford-men-womens-plus-men-medley-2b-aggregate-34/
CATEGORIES:Mens / Mixed Club Events
END:VEVENT
BEGIN:VEVENT
DTSTART;TZID=Australia/Sydney:20250524T060000
DTEND;TZID=Australia/Sydney:20250524T060000
DTSTAMP:20260423T034651
CREATED:20240826T044824Z
LAST-MODIFIED:20240826T044838Z
UID:53710-1748066400-1748066400@www.shellybeachgolfclub.com.au
SUMMARY:Choose your TEE Day
DESCRIPTION:
URL:https://www.shellybeachgolfclub.com.au/golf-program/choose-your-tee-day-30/
CATEGORIES:Mens / Mixed Club Events
END:VEVENT
BEGIN:VEVENT
DTSTART;TZID=Australia/Sydney:20250525T060000
DTEND;TZID=Australia/Sydney:20250525T060000
DTSTAMP:20260423T034651
CREATED:20240826T044903Z
LAST-MODIFIED:20240826T044912Z
UID:53712-1748152800-1748152800@www.shellybeachgolfclub.com.au
SUMMARY:Medley Individual Stableford plus Medley 2BBB
DESCRIPTION:
URL:https://www.shellybeachgolfclub.com.au/golf-program/medley-individual-stableford-plus-medley-2bbb-12/
CATEGORIES:Mens / Mixed Club Events
END:VEVENT
BEGIN:VEVENT
DTSTART;TZID=Australia/Sydney:20250526T060000
DTEND;TZID=Australia/Sydney:20250526T060000
DTSTAMP:20260423T034651
CREATED:20240826T052633Z
LAST-MODIFIED:20240826T053234Z
UID:53716-1748239200-1748239200@www.shellybeachgolfclub.com.au
SUMMARY:Mad Monday Men's & Women's Individual Stableford
DESCRIPTION:
URL:https://www.shellybeachgolfclub.com.au/golf-program/mad-monday-mens-womens-individual-stableford-80/
CATEGORIES:Mens / Mixed Club Events
END:VEVENT
BEGIN:VEVENT
DTSTART;TZID=Australia/Sydney:20250527T060000
DTEND;TZID=Australia/Sydney:20250527T060000
DTSTAMP:20260423T034651
CREATED:20240826T053347Z
LAST-MODIFIED:20240826T053354Z
UID:53720-1748325600-1748325600@www.shellybeachgolfclub.com.au
SUMMARY:Medley Individual Stableford 4 Grades plus Medley 2B Aggregate
DESCRIPTION:
URL:https://www.shellybeachgolfclub.com.au/golf-program/medley-individual-stableford-4-grades-plus-medley-2b-aggregate-28/
CATEGORIES:Mens / Mixed Club Events
END:VEVENT
BEGIN:VEVENT
DTSTART;TZID=Australia/Sydney:20250529T060000
DTEND;TZID=Australia/Sydney:20250529T060000
DTSTAMP:20260423T034651
CREATED:20240826T060413Z
LAST-MODIFIED:20240826T060419Z
UID:53724-1748498400-1748498400@www.shellybeachgolfclub.com.au
SUMMARY:Individual Stableford 4 Grades plus 2B Split 6's\, 1st 6 holes: 2BBB\, 2nd 6 holes: 2B Aggregate & 3rd 6 holes: 2B Multiplier
DESCRIPTION:
URL:https://www.shellybeachgolfclub.com.au/golf-program/individual-stableford-4-grades-plus-2b-split-6s-1st-6-holes-2bbb-2nd-6-holes-2b-aggregate-3rd-6-holes-2b-multiplier-13/
CATEGORIES:Mens / Mixed Club Events
END:VEVENT
BEGIN:VEVENT
DTSTART;TZID=Australia/Sydney:20250530T130000
DTEND;TZID=Australia/Sydney:20250530T130000
DTSTAMP:20260423T034651
CREATED:20240826T063001Z
LAST-MODIFIED:20250226T012353Z
UID:53728-1748610000-1748610000@www.shellybeachgolfclub.com.au
SUMMARY:Chook Run
DESCRIPTION:
URL:https://www.shellybeachgolfclub.com.au/golf-program/chook-run-111/
CATEGORIES:Mens / Mixed Club Events
END:VEVENT
BEGIN:VEVENT
DTSTART;TZID=Australia/Sydney:20250531T060000
DTEND;TZID=Australia/Sydney:20250531T060000
DTSTAMP:20260423T034651
CREATED:20250204T052445Z
LAST-MODIFIED:20250204T052450Z
UID:54728-1748671200-1748671200@www.shellybeachgolfclub.com.au
SUMMARY:Individual Stableford Men & Women's plus Men/Medley 2BBB
DESCRIPTION:
URL:https://www.shellybeachgolfclub.com.au/golf-program/individual-stableford-men-womens-plus-men-medley-2bbb-63/
CATEGORIES:Mens / Mixed Club Events
END:VEVENT
END:VCALENDAR