BEGIN:VCALENDAR
VERSION:2.0
PRODID:-//Shelly Beach Golf Club - ECPv6.15.18//NONSGML v1.0//EN
CALSCALE:GREGORIAN
METHOD:PUBLISH
X-WR-CALNAME:Shelly Beach Golf Club
X-ORIGINAL-URL:https://www.shellybeachgolfclub.com.au
X-WR-CALDESC:Events for Shelly Beach Golf Club
REFRESH-INTERVAL;VALUE=DURATION:PT1H
X-Robots-Tag:noindex
X-PUBLISHED-TTL:PT1H
BEGIN:VTIMEZONE
TZID:Australia/Sydney
BEGIN:STANDARD
TZOFFSETFROM:+1100
TZOFFSETTO:+1000
TZNAME:AEST
DTSTART:20240406T160000
END:STANDARD
BEGIN:DAYLIGHT
TZOFFSETFROM:+1000
TZOFFSETTO:+1100
TZNAME:AEDT
DTSTART:20241005T160000
END:DAYLIGHT
BEGIN:STANDARD
TZOFFSETFROM:+1100
TZOFFSETTO:+1000
TZNAME:AEST
DTSTART:20250405T160000
END:STANDARD
BEGIN:DAYLIGHT
TZOFFSETFROM:+1000
TZOFFSETTO:+1100
TZNAME:AEDT
DTSTART:20251004T160000
END:DAYLIGHT
BEGIN:STANDARD
TZOFFSETFROM:+1100
TZOFFSETTO:+1000
TZNAME:AEST
DTSTART:20260404T160000
END:STANDARD
BEGIN:DAYLIGHT
TZOFFSETFROM:+1000
TZOFFSETTO:+1100
TZNAME:AEDT
DTSTART:20261003T160000
END:DAYLIGHT
END:VTIMEZONE
BEGIN:VEVENT
DTSTART;TZID=Australia/Sydney:20250201T060000
DTEND;TZID=Australia/Sydney:20250201T060000
DTSTAMP:20260423T083712
CREATED:20240312T051728Z
LAST-MODIFIED:20240312T051744Z
UID:51112-1738389600-1738389600@www.shellybeachgolfclub.com.au
SUMMARY:Individual Stableford Men & Women's plus Men & Medley 2BBB
DESCRIPTION:
URL:https://www.shellybeachgolfclub.com.au/golf-program/individual-stableford-men-womens-plus-men-medley-2bbb-41/
CATEGORIES:Mens / Mixed Club Events
END:VEVENT
BEGIN:VEVENT
DTSTART;TZID=Australia/Sydney:20250202T060000
DTEND;TZID=Australia/Sydney:20250202T060000
DTSTAMP:20260423T083712
CREATED:20240312T053049Z
LAST-MODIFIED:20240312T053103Z
UID:51118-1738476000-1738476000@www.shellybeachgolfclub.com.au
SUMMARY:Individual Stroke. Men's Monthly Medal. 3 Grades
DESCRIPTION:
URL:https://www.shellybeachgolfclub.com.au/golf-program/individual-stroke-mens-monthly-medal-3-grades-18/
CATEGORIES:Mens / Mixed Club Events
END:VEVENT
BEGIN:VEVENT
DTSTART;TZID=Australia/Sydney:20250203T060000
DTEND;TZID=Australia/Sydney:20250203T060000
DTSTAMP:20260423T083712
CREATED:20240312T053356Z
LAST-MODIFIED:20240312T053410Z
UID:51124-1738562400-1738562400@www.shellybeachgolfclub.com.au
SUMMARY:Mad Monday - Men's & Women's Individual Stableford
DESCRIPTION:Women’s Eclectic commences
URL:https://www.shellybeachgolfclub.com.au/golf-program/mad-monday-mens-womens-individual-stableford-67/
CATEGORIES:Mens / Mixed Club Events
END:VEVENT
BEGIN:VEVENT
DTSTART;TZID=Australia/Sydney:20250204T060000
DTEND;TZID=Australia/Sydney:20250204T060000
DTSTAMP:20260423T083712
CREATED:20240312T055541Z
LAST-MODIFIED:20240312T055601Z
UID:51157-1738648800-1738648800@www.shellybeachgolfclub.com.au
SUMMARY:Medley Individual Stableford 4 Grades plus 2BBB
DESCRIPTION:
URL:https://www.shellybeachgolfclub.com.au/golf-program/medley-individual-stableford-4-grades-plus-2bbb/
CATEGORIES:Mens / Mixed Club Events
END:VEVENT
BEGIN:VEVENT
DTSTART;TZID=Australia/Sydney:20250206T060000
DTEND;TZID=Australia/Sydney:20250206T060000
DTSTAMP:20260423T083712
CREATED:20240312T053611Z
LAST-MODIFIED:20240312T053624Z
UID:51128-1738821600-1738821600@www.shellybeachgolfclub.com.au
SUMMARY:Individual Stableford 4 Grades plus 2BBB
DESCRIPTION:
URL:https://www.shellybeachgolfclub.com.au/golf-program/individual-stableford-4-grades-plus-2bbb-38/
CATEGORIES:Mens / Mixed Club Events
END:VEVENT
BEGIN:VEVENT
DTSTART;TZID=Australia/Sydney:20250207T130000
DTEND;TZID=Australia/Sydney:20250207T130000
DTSTAMP:20260423T083712
CREATED:20240312T053847Z
LAST-MODIFIED:20240312T053900Z
UID:51132-1738933200-1738933200@www.shellybeachgolfclub.com.au
SUMMARY:Chook Run
DESCRIPTION:
URL:https://www.shellybeachgolfclub.com.au/golf-program/chook-run-97/
CATEGORIES:Mens / Mixed Club Events
END:VEVENT
BEGIN:VEVENT
DTSTART;TZID=Australia/Sydney:20250208T060000
DTEND;TZID=Australia/Sydney:20250208T060000
DTSTAMP:20260423T083712
CREATED:20240312T053944Z
LAST-MODIFIED:20240312T053957Z
UID:51135-1738994400-1738994400@www.shellybeachgolfclub.com.au
SUMMARY:Individual Stableford Men & Women's plus Men & Medley 2B Aggregate
DESCRIPTION:
URL:https://www.shellybeachgolfclub.com.au/golf-program/individual-stableford-men-womens-plus-men-medley-2b-aggregate-28/
CATEGORIES:Mens / Mixed Club Events
END:VEVENT
BEGIN:VEVENT
DTSTART;TZID=Australia/Sydney:20250209T060000
DTEND;TZID=Australia/Sydney:20250209T060000
DTSTAMP:20260423T083712
CREATED:20240312T054229Z
LAST-MODIFIED:20240312T054244Z
UID:51137-1739080800-1739080800@www.shellybeachgolfclub.com.au
SUMMARY:Medley Individual Stableford plus Medley 2BBB + 2BBB Scratch
DESCRIPTION:
URL:https://www.shellybeachgolfclub.com.au/golf-program/medley-individual-stableford-plus-medley-2bbb-2bbb-scratch-24/
CATEGORIES:Mens / Mixed Club Events
END:VEVENT
BEGIN:VEVENT
DTSTART;TZID=Australia/Sydney:20250210T060000
DTEND;TZID=Australia/Sydney:20250210T060000
DTSTAMP:20260423T083712
CREATED:20240312T054413Z
LAST-MODIFIED:20240312T054450Z
UID:51141-1739167200-1739167200@www.shellybeachgolfclub.com.au
SUMMARY:Mad Monday - Men's & Women's Individual Stableford
DESCRIPTION:
URL:https://www.shellybeachgolfclub.com.au/golf-program/mad-monday-mens-womens-individual-stableford-68/
CATEGORIES:Mens / Mixed Club Events
END:VEVENT
BEGIN:VEVENT
DTSTART;TZID=Australia/Sydney:20250211T060000
DTEND;TZID=Australia/Sydney:20250211T060000
DTSTAMP:20260423T083712
CREATED:20240312T054523Z
LAST-MODIFIED:20240312T054537Z
UID:51143-1739253600-1739253600@www.shellybeachgolfclub.com.au
SUMMARY:Medley Individual Stableford 4 Grades plus 2B Split 6's\, 1st 6 holes: 2BBB\, 2nd 6 holes: 2B Aggregate & 3rd 6 holes: 2B Multiplier
DESCRIPTION:
URL:https://www.shellybeachgolfclub.com.au/golf-program/medley-individual-stableford-4-grades-plus-2b-split-6s-1st-6-holes-2bbb-2nd-6-holes-2b-aggregate-3rd-6-holes-2b-multiplier/
CATEGORIES:Mens / Mixed Club Events
END:VEVENT
BEGIN:VEVENT
DTSTART;TZID=Australia/Sydney:20250213T060000
DTEND;TZID=Australia/Sydney:20250213T060000
DTSTAMP:20260423T083712
CREATED:20240312T054755Z
LAST-MODIFIED:20240312T054834Z
UID:51147-1739426400-1739426400@www.shellybeachgolfclub.com.au
SUMMARY:Individual Stableford 4 Grades plus 2B Aggregate
DESCRIPTION:
URL:https://www.shellybeachgolfclub.com.au/golf-program/individual-stableford-4-grades-plus-2b-aggregate-18/
CATEGORIES:Mens / Mixed Club Events
END:VEVENT
BEGIN:VEVENT
DTSTART;TZID=Australia/Sydney:20250214T060000
DTEND;TZID=Australia/Sydney:20250214T060000
DTSTAMP:20260423T083712
CREATED:20240312T054933Z
LAST-MODIFIED:20250204T011102Z
UID:51149-1739512800-1739512800@www.shellybeachgolfclub.com.au
SUMMARY:Men's & Women's Individual Stableford
DESCRIPTION:
URL:https://www.shellybeachgolfclub.com.au/golf-program/mens-womens-individual-stableford-129/
CATEGORIES:Mens / Mixed Club Events
END:VEVENT
BEGIN:VEVENT
DTSTART;TZID=Australia/Sydney:20250214T110000
DTEND;TZID=Australia/Sydney:20250214T110000
DTSTAMP:20260423T083712
CREATED:20240312T055301Z
LAST-MODIFIED:20250204T011154Z
UID:51153-1739530800-1739530800@www.shellybeachgolfclub.com.au
SUMMARY:Chook Run
DESCRIPTION:
URL:https://www.shellybeachgolfclub.com.au/golf-program/chook-run-98/
CATEGORIES:Mens / Mixed Club Events
END:VEVENT
BEGIN:VEVENT
DTSTART;TZID=Australia/Sydney:20250215T060000
DTEND;TZID=Australia/Sydney:20250215T060000
DTSTAMP:20260423T083712
CREATED:20240312T055117Z
LAST-MODIFIED:20240312T055450Z
UID:51151-1739599200-1739599200@www.shellybeachgolfclub.com.au
SUMMARY:Individual Stableford Men & Women's plus Men & Medley 2BBB
DESCRIPTION:
URL:https://www.shellybeachgolfclub.com.au/golf-program/individual-stableford-men-womens-plus-men-medley-2bbb-42/
CATEGORIES:Mens / Mixed Club Events
END:VEVENT
BEGIN:VEVENT
DTSTART;TZID=Australia/Sydney:20250217T060000
DTEND;TZID=Australia/Sydney:20250217T060000
DTSTAMP:20260423T083712
CREATED:20240312T055705Z
LAST-MODIFIED:20240312T055722Z
UID:51159-1739772000-1739772000@www.shellybeachgolfclub.com.au
SUMMARY:Mad Monday - Men's & Women's Individual Stableford
DESCRIPTION:
URL:https://www.shellybeachgolfclub.com.au/golf-program/mad-monday-mens-womens-individual-stableford-69/
CATEGORIES:Mens / Mixed Club Events
END:VEVENT
BEGIN:VEVENT
DTSTART;TZID=Australia/Sydney:20250218T060000
DTEND;TZID=Australia/Sydney:20250218T060000
DTSTAMP:20260423T083712
CREATED:20240312T055759Z
LAST-MODIFIED:20240312T055819Z
UID:51161-1739858400-1739858400@www.shellybeachgolfclub.com.au
SUMMARY:Medley Individual Stableford 4 Grades plus 2BBB
DESCRIPTION:
URL:https://www.shellybeachgolfclub.com.au/golf-program/medley-individual-stableford-4-grades-plus-2bbb-2/
CATEGORIES:Mens / Mixed Club Events
END:VEVENT
BEGIN:VEVENT
DTSTART;TZID=Australia/Sydney:20250220T060000
DTEND;TZID=Australia/Sydney:20250220T060000
DTSTAMP:20260423T083712
CREATED:20240312T060008Z
LAST-MODIFIED:20240312T060026Z
UID:51165-1740031200-1740031200@www.shellybeachgolfclub.com.au
SUMMARY:Individual Stableford. Monthly Mug. 4 Grades 1st\, 2nd\, 3rd & 4th Nett plus Overall Scratch
DESCRIPTION:
URL:https://www.shellybeachgolfclub.com.au/golf-program/individual-stableford-monthly-mug-4-grades-1st-2nd-3rd-4th-nett-plus-overall-scratch-24/
CATEGORIES:Mens / Mixed Club Events
END:VEVENT
BEGIN:VEVENT
DTSTART;TZID=Australia/Sydney:20250221T060000
DTEND;TZID=Australia/Sydney:20250221T060000
DTSTAMP:20260423T083712
CREATED:20240312T060102Z
LAST-MODIFIED:20240312T060116Z
UID:51167-1740117600-1740117600@www.shellybeachgolfclub.com.au
SUMMARY:Men's & Women's Individual Stableford
DESCRIPTION:
URL:https://www.shellybeachgolfclub.com.au/golf-program/mens-womens-individual-stableford-87/
CATEGORIES:Mens / Mixed Club Events
END:VEVENT
BEGIN:VEVENT
DTSTART;TZID=Australia/Sydney:20250221T110000
DTEND;TZID=Australia/Sydney:20250221T110000
DTSTAMP:20260423T083712
CREATED:20240312T060200Z
LAST-MODIFIED:20240312T060220Z
UID:51169-1740135600-1740135600@www.shellybeachgolfclub.com.au
SUMMARY:Chook Run
DESCRIPTION:
URL:https://www.shellybeachgolfclub.com.au/golf-program/chook-run-99/
CATEGORIES:Mens / Mixed Club Events
END:VEVENT
BEGIN:VEVENT
DTSTART;TZID=Australia/Sydney:20250222T060000
DTEND;TZID=Australia/Sydney:20250222T060000
DTSTAMP:20260423T083712
CREATED:20240312T060305Z
LAST-MODIFIED:20240312T060320Z
UID:51171-1740204000-1740204000@www.shellybeachgolfclub.com.au
SUMMARY:Individual Stableford Men & Women's plus Men & Medley 2B Aggregate
DESCRIPTION:
URL:https://www.shellybeachgolfclub.com.au/golf-program/individual-stableford-men-womens-plus-men-medley-2b-aggregate-29/
CATEGORIES:Mens / Mixed Club Events
END:VEVENT
BEGIN:VEVENT
DTSTART;TZID=Australia/Sydney:20250222T060000
DTEND;TZID=Australia/Sydney:20250222T060000
DTSTAMP:20260423T083712
CREATED:20240312T060359Z
LAST-MODIFIED:20240312T060412Z
UID:51173-1740204000-1740204000@www.shellybeachgolfclub.com.au
SUMMARY:Choose your TEE Day
DESCRIPTION:
URL:https://www.shellybeachgolfclub.com.au/golf-program/choose-your-tee-day-25/
CATEGORIES:Mens / Mixed Club Events
END:VEVENT
BEGIN:VEVENT
DTSTART;TZID=Australia/Sydney:20250223T060000
DTEND;TZID=Australia/Sydney:20250223T060000
DTSTAMP:20260423T083712
CREATED:20240312T060449Z
LAST-MODIFIED:20240312T060502Z
UID:51175-1740290400-1740290400@www.shellybeachgolfclub.com.au
SUMMARY:Medley Individual Stableford plus Medley 2B Multiplier
DESCRIPTION:
URL:https://www.shellybeachgolfclub.com.au/golf-program/medley-individual-stableford-plus-medley-2b-multiplier-6/
CATEGORIES:Mens / Mixed Club Events
END:VEVENT
BEGIN:VEVENT
DTSTART;TZID=Australia/Sydney:20250224T060000
DTEND;TZID=Australia/Sydney:20250224T060000
DTSTAMP:20260423T083712
CREATED:20240312T060538Z
LAST-MODIFIED:20240312T060552Z
UID:51177-1740376800-1740376800@www.shellybeachgolfclub.com.au
SUMMARY:Mad Monday - Men's & Women's Individual Stableford
DESCRIPTION:
URL:https://www.shellybeachgolfclub.com.au/golf-program/mad-monday-mens-womens-individual-stableford-70/
CATEGORIES:Mens / Mixed Club Events
END:VEVENT
BEGIN:VEVENT
DTSTART;TZID=Australia/Sydney:20250225T060000
DTEND;TZID=Australia/Sydney:20250225T060000
DTSTAMP:20260423T083712
CREATED:20240312T060630Z
LAST-MODIFIED:20240312T060653Z
UID:51179-1740463200-1740463200@www.shellybeachgolfclub.com.au
SUMMARY:Medley Individual Stableford 4 Grades plus 2B Aggregate
DESCRIPTION:
URL:https://www.shellybeachgolfclub.com.au/golf-program/medley-individual-stableford-4-grades-plus-2b-aggregate/
CATEGORIES:Mens / Mixed Club Events
END:VEVENT
BEGIN:VEVENT
DTSTART;TZID=Australia/Sydney:20250227T060000
DTEND;TZID=Australia/Sydney:20250227T060000
DTSTAMP:20260423T083712
CREATED:20240312T060918Z
LAST-MODIFIED:20240312T060932Z
UID:51183-1740636000-1740636000@www.shellybeachgolfclub.com.au
SUMMARY:Individual Stableford 4 Grades plus 2BBB
DESCRIPTION:
URL:https://www.shellybeachgolfclub.com.au/golf-program/individual-stableford-4-grades-plus-2bbb-39/
CATEGORIES:Mens / Mixed Club Events
END:VEVENT
BEGIN:VEVENT
DTSTART;TZID=Australia/Sydney:20250228T060000
DTEND;TZID=Australia/Sydney:20250228T060000
DTSTAMP:20260423T083712
CREATED:20240312T061011Z
LAST-MODIFIED:20240312T061031Z
UID:51185-1740722400-1740722400@www.shellybeachgolfclub.com.au
SUMMARY:Men's & Women's Individual Stableford
DESCRIPTION:
URL:https://www.shellybeachgolfclub.com.au/golf-program/mens-womens-individual-stableford-88/
CATEGORIES:Mens / Mixed Club Events
END:VEVENT
BEGIN:VEVENT
DTSTART;TZID=Australia/Sydney:20250228T110000
DTEND;TZID=Australia/Sydney:20250228T110000
DTSTAMP:20260423T083712
CREATED:20240312T061102Z
LAST-MODIFIED:20240312T061115Z
UID:51187-1740740400-1740740400@www.shellybeachgolfclub.com.au
SUMMARY:Chook Run
DESCRIPTION:
URL:https://www.shellybeachgolfclub.com.au/golf-program/chook-run-100/
CATEGORIES:Mens / Mixed Club Events
END:VEVENT
END:VCALENDAR