BEGIN:VCALENDAR
VERSION:2.0
PRODID:-//Shelly Beach Golf Club - ECPv6.15.18//NONSGML v1.0//EN
CALSCALE:GREGORIAN
METHOD:PUBLISH
X-WR-CALNAME:Shelly Beach Golf Club
X-ORIGINAL-URL:https://www.shellybeachgolfclub.com.au
X-WR-CALDESC:Events for Shelly Beach Golf Club
REFRESH-INTERVAL;VALUE=DURATION:PT1H
X-Robots-Tag:noindex
X-PUBLISHED-TTL:PT1H
BEGIN:VTIMEZONE
TZID:Australia/Sydney
BEGIN:STANDARD
TZOFFSETFROM:+1100
TZOFFSETTO:+1000
TZNAME:AEST
DTSTART:20230401T160000
END:STANDARD
BEGIN:DAYLIGHT
TZOFFSETFROM:+1000
TZOFFSETTO:+1100
TZNAME:AEDT
DTSTART:20230930T160000
END:DAYLIGHT
BEGIN:STANDARD
TZOFFSETFROM:+1100
TZOFFSETTO:+1000
TZNAME:AEST
DTSTART:20240406T160000
END:STANDARD
BEGIN:DAYLIGHT
TZOFFSETFROM:+1000
TZOFFSETTO:+1100
TZNAME:AEDT
DTSTART:20241005T160000
END:DAYLIGHT
BEGIN:STANDARD
TZOFFSETFROM:+1100
TZOFFSETTO:+1000
TZNAME:AEST
DTSTART:20250405T160000
END:STANDARD
BEGIN:DAYLIGHT
TZOFFSETFROM:+1000
TZOFFSETTO:+1100
TZNAME:AEDT
DTSTART:20251004T160000
END:DAYLIGHT
END:VTIMEZONE
BEGIN:VEVENT
DTSTART;TZID=Australia/Sydney:20241101T060000
DTEND;TZID=Australia/Sydney:20241101T060000
DTSTAMP:20260423T124306
CREATED:20240311T232534Z
LAST-MODIFIED:20240311T232549Z
UID:50837-1730440800-1730440800@www.shellybeachgolfclub.com.au
SUMMARY:Men's & Women's Individual Stableford
DESCRIPTION:
URL:https://www.shellybeachgolfclub.com.au/golf-program/mens-womens-individual-stableford-49/
CATEGORIES:Mens / Mixed Club Events
END:VEVENT
BEGIN:VEVENT
DTSTART;TZID=Australia/Sydney:20241101T110000
DTEND;TZID=Australia/Sydney:20241101T110000
DTSTAMP:20260423T124306
CREATED:20240311T232634Z
LAST-MODIFIED:20240311T232649Z
UID:50839-1730458800-1730458800@www.shellybeachgolfclub.com.au
SUMMARY:Chook Run
DESCRIPTION:
URL:https://www.shellybeachgolfclub.com.au/golf-program/chook-run-83/
CATEGORIES:Mens / Mixed Club Events
END:VEVENT
BEGIN:VEVENT
DTSTART;TZID=Australia/Sydney:20241102T060000
DTEND;TZID=Australia/Sydney:20241102T060000
DTSTAMP:20260423T124306
CREATED:20240311T233538Z
LAST-MODIFIED:20240311T233602Z
UID:50846-1730527200-1730527200@www.shellybeachgolfclub.com.au
SUMMARY:Individual Stableford Men & Women's plus Men/Medley 2B Aggregate
DESCRIPTION:
URL:https://www.shellybeachgolfclub.com.au/golf-program/individual-stableford-men-womens-plus-men-medley-2b-aggregate-25/
CATEGORIES:Mens / Mixed Club Events
END:VEVENT
BEGIN:VEVENT
DTSTART;TZID=Australia/Sydney:20241103T060000
DTEND;TZID=Australia/Sydney:20241103T060000
DTSTAMP:20260423T124306
CREATED:20240311T233753Z
LAST-MODIFIED:20240311T233807Z
UID:50850-1730613600-1730613600@www.shellybeachgolfclub.com.au
SUMMARY:Individual Stroke. Men's Monthly Medal. 3 Grades
DESCRIPTION:
URL:https://www.shellybeachgolfclub.com.au/golf-program/individual-stroke-mens-monthly-medal-3-grades-15/
CATEGORIES:Mens / Mixed Club Events
END:VEVENT
BEGIN:VEVENT
DTSTART;TZID=Australia/Sydney:20241104T060000
DTEND;TZID=Australia/Sydney:20241104T060000
DTSTAMP:20260423T124306
CREATED:20240311T234045Z
LAST-MODIFIED:20240311T234100Z
UID:50854-1730700000-1730700000@www.shellybeachgolfclub.com.au
SUMMARY:Mad Monday. Men's & Women's Individual Stableford
DESCRIPTION:
URL:https://www.shellybeachgolfclub.com.au/golf-program/mad-monday-mens-womens-individual-stableford-47/
CATEGORIES:Mens / Mixed Club Events
END:VEVENT
BEGIN:VEVENT
DTSTART;TZID=Australia/Sydney:20241105T060000
DTEND;TZID=Australia/Sydney:20241105T060000
DTSTAMP:20260423T124306
CREATED:20240311T234127Z
LAST-MODIFIED:20240311T234141Z
UID:50856-1730786400-1730786400@www.shellybeachgolfclub.com.au
SUMMARY:Medley Individual Stableford 4 Grades plus Medley 2B Aggregate
DESCRIPTION:
URL:https://www.shellybeachgolfclub.com.au/golf-program/medley-individual-stableford-4-grades-plus-medley-2b-aggregate-23/
CATEGORIES:Mens / Mixed Club Events
END:VEVENT
BEGIN:VEVENT
DTSTART;TZID=Australia/Sydney:20241107T060000
DTEND;TZID=Australia/Sydney:20241107T060000
DTSTAMP:20260423T124306
CREATED:20240311T234317Z
LAST-MODIFIED:20240311T234333Z
UID:50860-1730959200-1730959200@www.shellybeachgolfclub.com.au
SUMMARY:Individual Stableford 4 Grades plus 2B Split 6's\, 1st 6 holes: 2BBB\, 2nd 6 holes: 2B Aggregate & 3rd 6 holes: 2B Multiplier.
DESCRIPTION:
URL:https://www.shellybeachgolfclub.com.au/golf-program/individual-stableford-4-grades-plus-2b-split-6s-1st-6-holes-2bbb-2nd-6-holes-2b-aggregate-3rd-6-holes-2b-multiplier-11/
CATEGORIES:Mens / Mixed Club Events
END:VEVENT
BEGIN:VEVENT
DTSTART;TZID=Australia/Sydney:20241108T060000
DTEND;TZID=Australia/Sydney:20241108T060000
DTSTAMP:20260423T124306
CREATED:20240311T234408Z
LAST-MODIFIED:20240311T234422Z
UID:50862-1731045600-1731045600@www.shellybeachgolfclub.com.au
SUMMARY:Men's & Women's Individual Stableford
DESCRIPTION:
URL:https://www.shellybeachgolfclub.com.au/golf-program/mens-womens-individual-stableford-52/
CATEGORIES:Mens / Mixed Club Events
END:VEVENT
BEGIN:VEVENT
DTSTART;TZID=Australia/Sydney:20241108T110000
DTEND;TZID=Australia/Sydney:20241108T110000
DTSTAMP:20260423T124306
CREATED:20240311T234932Z
LAST-MODIFIED:20240311T234946Z
UID:50864-1731063600-1731063600@www.shellybeachgolfclub.com.au
SUMMARY:Chook Run
DESCRIPTION:
URL:https://www.shellybeachgolfclub.com.au/golf-program/chook-run-84/
CATEGORIES:Mens / Mixed Club Events
END:VEVENT
BEGIN:VEVENT
DTSTART;TZID=Australia/Sydney:20241109T060000
DTEND;TZID=Australia/Sydney:20241109T060000
DTSTAMP:20260423T124306
CREATED:20240312T000336Z
LAST-MODIFIED:20240312T000646Z
UID:50869-1731132000-1731132000@www.shellybeachgolfclub.com.au
SUMMARY:Individual Stableford Men & Women's plus Men/Medley 2BBB
DESCRIPTION:
URL:https://www.shellybeachgolfclub.com.au/golf-program/individual-stableford-men-womens-plus-men-medley-2bbb-36/
CATEGORIES:Mens / Mixed Club Events
END:VEVENT
BEGIN:VEVENT
DTSTART;TZID=Australia/Sydney:20241110T060000
DTEND;TZID=Australia/Sydney:20241110T060000
DTSTAMP:20260423T124306
CREATED:20240312T000717Z
LAST-MODIFIED:20240312T000729Z
UID:50871-1731218400-1731218400@www.shellybeachgolfclub.com.au
SUMMARY:Medley Individual Stableford plus Medley 2BBB + 2BBB Scratch
DESCRIPTION:
URL:https://www.shellybeachgolfclub.com.au/golf-program/medley-individual-stableford-plus-medley-2bbb-2bbb-scratch-21/
CATEGORIES:Mens / Mixed Club Events
END:VEVENT
BEGIN:VEVENT
DTSTART;TZID=Australia/Sydney:20241111T060000
DTEND;TZID=Australia/Sydney:20241111T060000
DTSTAMP:20260423T124306
CREATED:20240312T001016Z
LAST-MODIFIED:20240312T001129Z
UID:50877-1731304800-1731304800@www.shellybeachgolfclub.com.au
SUMMARY:Mad Monday. Men's & Women's Individual Stableford
DESCRIPTION:
URL:https://www.shellybeachgolfclub.com.au/golf-program/mad-monday-mens-womens-individual-stableford-60/
CATEGORIES:Mens / Mixed Club Events
END:VEVENT
BEGIN:VEVENT
DTSTART;TZID=Australia/Sydney:20241112T060000
DTEND;TZID=Australia/Sydney:20241112T060000
DTSTAMP:20260423T124306
CREATED:20240312T001205Z
LAST-MODIFIED:20240312T001220Z
UID:50879-1731391200-1731391200@www.shellybeachgolfclub.com.au
SUMMARY:Medley Individual Stableford 4 Grades plus Medley 2BBB
DESCRIPTION:
URL:https://www.shellybeachgolfclub.com.au/golf-program/medley-individual-stableford-4-grades-plus-medley-2bbb-45/
CATEGORIES:Mens / Mixed Club Events
END:VEVENT
BEGIN:VEVENT
DTSTART;TZID=Australia/Sydney:20241114T060000
DTEND;TZID=Australia/Sydney:20241114T060000
DTSTAMP:20260423T124306
CREATED:20240312T001421Z
LAST-MODIFIED:20240312T001434Z
UID:50883-1731564000-1731564000@www.shellybeachgolfclub.com.au
SUMMARY:Individual Stableford 4 Grades plus 2BBB
DESCRIPTION:
URL:https://www.shellybeachgolfclub.com.au/golf-program/individual-stableford-4-grades-plus-2bbb-35/
CATEGORIES:Mens / Mixed Club Events
END:VEVENT
BEGIN:VEVENT
DTSTART;TZID=Australia/Sydney:20241115T060000
DTEND;TZID=Australia/Sydney:20241115T060000
DTSTAMP:20260423T124306
CREATED:20240312T001602Z
LAST-MODIFIED:20240312T001615Z
UID:50885-1731650400-1731650400@www.shellybeachgolfclub.com.au
SUMMARY:Men's & Women's Individual Stableford
DESCRIPTION:
URL:https://www.shellybeachgolfclub.com.au/golf-program/mens-womens-individual-stableford-75/
CATEGORIES:Mens / Mixed Club Events
END:VEVENT
BEGIN:VEVENT
DTSTART;TZID=Australia/Sydney:20241115T110000
DTEND;TZID=Australia/Sydney:20241115T110000
DTSTAMP:20260423T124306
CREATED:20240312T001642Z
LAST-MODIFIED:20240312T001657Z
UID:50887-1731668400-1731668400@www.shellybeachgolfclub.com.au
SUMMARY:Chook Run
DESCRIPTION:
URL:https://www.shellybeachgolfclub.com.au/golf-program/chook-run-85/
CATEGORIES:Mens / Mixed Club Events
END:VEVENT
BEGIN:VEVENT
DTSTART;TZID=Australia/Sydney:20241116T060000
DTEND;TZID=Australia/Sydney:20241116T060000
DTSTAMP:20260423T124306
CREATED:20240312T001820Z
LAST-MODIFIED:20240312T001833Z
UID:50891-1731736800-1731736800@www.shellybeachgolfclub.com.au
SUMMARY:Individual Stableford Men & Women's plus Men/Medley 2B Aggregate
DESCRIPTION:
URL:https://www.shellybeachgolfclub.com.au/golf-program/individual-stableford-men-womens-plus-men-medley-2b-aggregate-26/
CATEGORIES:Mens / Mixed Club Events
END:VEVENT
BEGIN:VEVENT
DTSTART;TZID=Australia/Sydney:20241117T060000
DTEND;TZID=Australia/Sydney:20241117T060000
DTSTAMP:20260423T124306
CREATED:20240312T002001Z
LAST-MODIFIED:20240312T002016Z
UID:50895-1731823200-1731823200@www.shellybeachgolfclub.com.au
SUMMARY:Medley Individual Stableford plus Medley 2B Aggregate
DESCRIPTION:
URL:https://www.shellybeachgolfclub.com.au/golf-program/medley-individual-stableford-plus-medley-2b-aggregate-13/
CATEGORIES:Mens / Mixed Club Events
END:VEVENT
BEGIN:VEVENT
DTSTART;TZID=Australia/Sydney:20241118T060000
DTEND;TZID=Australia/Sydney:20241118T060000
DTSTAMP:20260423T124306
CREATED:20240312T002604Z
LAST-MODIFIED:20240312T002732Z
UID:50900-1731909600-1731909600@www.shellybeachgolfclub.com.au
SUMMARY:Mad Monday. Men's & Women's Individual Stableford
DESCRIPTION:
URL:https://www.shellybeachgolfclub.com.au/golf-program/mad-monday-mens-womens-individual-stableford-61/
CATEGORIES:Mens / Mixed Club Events
END:VEVENT
BEGIN:VEVENT
DTSTART;TZID=Australia/Sydney:20241121T060000
DTEND;TZID=Australia/Sydney:20241121T060000
DTSTAMP:20260423T124306
CREATED:20240312T003313Z
LAST-MODIFIED:20240312T003327Z
UID:50904-1732168800-1732168800@www.shellybeachgolfclub.com.au
SUMMARY:Individual Stableford. Monthly Mug. 4 Grades 1st\, 2nd\, 3rd & 4th Nett plus Overall Scratch
DESCRIPTION:
URL:https://www.shellybeachgolfclub.com.au/golf-program/individual-stableford-monthly-mug-4-grades-1st-2nd-3rd-4th-nett-plus-overall-scratch-21/
CATEGORIES:Mens / Mixed Club Events
END:VEVENT
BEGIN:VEVENT
DTSTART;TZID=Australia/Sydney:20241122T060000
DTEND;TZID=Australia/Sydney:20241122T060000
DTSTAMP:20260423T124306
CREATED:20240312T003432Z
LAST-MODIFIED:20240312T003445Z
UID:50906-1732255200-1732255200@www.shellybeachgolfclub.com.au
SUMMARY:Men's & Women's Individual Stableford
DESCRIPTION:
URL:https://www.shellybeachgolfclub.com.au/golf-program/mens-womens-individual-stableford-76/
CATEGORIES:Mens / Mixed Club Events
END:VEVENT
BEGIN:VEVENT
DTSTART;TZID=Australia/Sydney:20241122T110000
DTEND;TZID=Australia/Sydney:20241122T110000
DTSTAMP:20260423T124306
CREATED:20240312T003527Z
LAST-MODIFIED:20240312T003540Z
UID:50908-1732273200-1732273200@www.shellybeachgolfclub.com.au
SUMMARY:Chook Run
DESCRIPTION:
URL:https://www.shellybeachgolfclub.com.au/golf-program/chook-run-86/
CATEGORIES:Mens / Mixed Club Events
END:VEVENT
BEGIN:VEVENT
DTSTART;TZID=Australia/Sydney:20241123T060000
DTEND;TZID=Australia/Sydney:20241123T060000
DTSTAMP:20260423T124306
CREATED:20240312T003610Z
LAST-MODIFIED:20240312T003623Z
UID:50910-1732341600-1732341600@www.shellybeachgolfclub.com.au
SUMMARY:Individual Stableford Men & Women's plus Men/Medley 2BBB
DESCRIPTION:
URL:https://www.shellybeachgolfclub.com.au/golf-program/individual-stableford-men-womens-plus-men-medley-2bbb-37/
CATEGORIES:Mens / Mixed Club Events
END:VEVENT
BEGIN:VEVENT
DTSTART;TZID=Australia/Sydney:20241125T060000
DTEND;TZID=Australia/Sydney:20241125T060000
DTSTAMP:20260423T124306
CREATED:20240312T003948Z
LAST-MODIFIED:20240312T004002Z
UID:50916-1732514400-1732514400@www.shellybeachgolfclub.com.au
SUMMARY:Mad Monday. Men's & Women's Individual Stableford
DESCRIPTION:Close of annual women’s competitions
URL:https://www.shellybeachgolfclub.com.au/golf-program/mad-monday-mens-womens-individual-stableford-62/
CATEGORIES:Mens / Mixed Club Events
END:VEVENT
BEGIN:VEVENT
DTSTART;TZID=Australia/Sydney:20241126T060000
DTEND;TZID=Australia/Sydney:20241126T060000
DTSTAMP:20260423T124306
CREATED:20240312T004026Z
LAST-MODIFIED:20240312T004043Z
UID:50918-1732600800-1732600800@www.shellybeachgolfclub.com.au
SUMMARY:Medley Individual Stableford 4 Grades plus Medley 2BBB
DESCRIPTION:
URL:https://www.shellybeachgolfclub.com.au/golf-program/medley-individual-stableford-4-grades-plus-medley-2bbb-46/
CATEGORIES:Mens / Mixed Club Events
END:VEVENT
BEGIN:VEVENT
DTSTART;TZID=Australia/Sydney:20241128T060000
DTEND;TZID=Australia/Sydney:20241128T060000
DTSTAMP:20260423T124306
CREATED:20240312T004239Z
LAST-MODIFIED:20240312T004252Z
UID:50922-1732773600-1732773600@www.shellybeachgolfclub.com.au
SUMMARY:Individual Stableford 4 Grades plus 2B Aggregate
DESCRIPTION:
URL:https://www.shellybeachgolfclub.com.au/golf-program/individual-stableford-4-grades-plus-2b-aggregate-16/
CATEGORIES:Mens / Mixed Club Events
END:VEVENT
BEGIN:VEVENT
DTSTART;TZID=Australia/Sydney:20241129T060000
DTEND;TZID=Australia/Sydney:20241129T060000
DTSTAMP:20260423T124306
CREATED:20240312T004326Z
LAST-MODIFIED:20240312T004342Z
UID:50924-1732860000-1732860000@www.shellybeachgolfclub.com.au
SUMMARY:Men's & Women's Individual Stableford
DESCRIPTION:
URL:https://www.shellybeachgolfclub.com.au/golf-program/mens-womens-individual-stableford-77/
CATEGORIES:Mens / Mixed Club Events
END:VEVENT
BEGIN:VEVENT
DTSTART;TZID=Australia/Sydney:20241129T060000
DTEND;TZID=Australia/Sydney:20241129T060000
DTSTAMP:20260423T124306
CREATED:20240312T004437Z
LAST-MODIFIED:20240312T004500Z
UID:50926-1732860000-1732860000@www.shellybeachgolfclub.com.au
SUMMARY:Choose your TEE Day
DESCRIPTION:
URL:https://www.shellybeachgolfclub.com.au/golf-program/choose-your-tee-day-15/
CATEGORIES:Mens / Mixed Club Events
END:VEVENT
BEGIN:VEVENT
DTSTART;TZID=Australia/Sydney:20241129T110000
DTEND;TZID=Australia/Sydney:20241129T110000
DTSTAMP:20260423T124306
CREATED:20240312T004530Z
LAST-MODIFIED:20240312T004550Z
UID:50928-1732878000-1732878000@www.shellybeachgolfclub.com.au
SUMMARY:Chook Run
DESCRIPTION:
URL:https://www.shellybeachgolfclub.com.au/golf-program/chook-run-87/
CATEGORIES:Mens / Mixed Club Events
END:VEVENT
BEGIN:VEVENT
DTSTART;TZID=Australia/Sydney:20241130T060000
DTEND;TZID=Australia/Sydney:20241130T060000
DTSTAMP:20260423T124306
CREATED:20240312T004716Z
LAST-MODIFIED:20240312T004728Z
UID:50932-1732946400-1732946400@www.shellybeachgolfclub.com.au
SUMMARY:Individual Stableford Men & Women's plus Men/Medley 2B Aggregate
DESCRIPTION:
URL:https://www.shellybeachgolfclub.com.au/golf-program/individual-stableford-men-womens-plus-men-medley-2b-aggregate-27/
CATEGORIES:Mens / Mixed Club Events
END:VEVENT
END:VCALENDAR