BEGIN:VCALENDAR
VERSION:2.0
PRODID:-//Shelly Beach Golf Club - ECPv6.15.18//NONSGML v1.0//EN
CALSCALE:GREGORIAN
METHOD:PUBLISH
X-WR-CALNAME:Shelly Beach Golf Club
X-ORIGINAL-URL:https://www.shellybeachgolfclub.com.au
X-WR-CALDESC:Events for Shelly Beach Golf Club
REFRESH-INTERVAL;VALUE=DURATION:PT1H
X-Robots-Tag:noindex
X-PUBLISHED-TTL:PT1H
BEGIN:VTIMEZONE
TZID:Australia/Sydney
BEGIN:STANDARD
TZOFFSETFROM:+1100
TZOFFSETTO:+1000
TZNAME:AEST
DTSTART:20230401T160000
END:STANDARD
BEGIN:DAYLIGHT
TZOFFSETFROM:+1000
TZOFFSETTO:+1100
TZNAME:AEDT
DTSTART:20230930T160000
END:DAYLIGHT
BEGIN:STANDARD
TZOFFSETFROM:+1100
TZOFFSETTO:+1000
TZNAME:AEST
DTSTART:20240406T160000
END:STANDARD
BEGIN:DAYLIGHT
TZOFFSETFROM:+1000
TZOFFSETTO:+1100
TZNAME:AEDT
DTSTART:20241005T160000
END:DAYLIGHT
BEGIN:STANDARD
TZOFFSETFROM:+1100
TZOFFSETTO:+1000
TZNAME:AEST
DTSTART:20250405T160000
END:STANDARD
BEGIN:DAYLIGHT
TZOFFSETFROM:+1000
TZOFFSETTO:+1100
TZNAME:AEDT
DTSTART:20251004T160000
END:DAYLIGHT
END:VTIMEZONE
BEGIN:VEVENT
DTSTART;TZID=Australia/Sydney:20240701T060000
DTEND;TZID=Australia/Sydney:20240701T060000
DTSTAMP:20260423T182932
CREATED:20230614T015442Z
LAST-MODIFIED:20230614T015450Z
UID:40618-1719813600-1719813600@www.shellybeachgolfclub.com.au
SUMMARY:Mad Monday Medley Individual Stableford
DESCRIPTION:
URL:https://www.shellybeachgolfclub.com.au/golf-program/mad-monday-medley-individual-stableford-11/
LOCATION:SBGC
CATEGORIES:Mens / Mixed Club Events
END:VEVENT
BEGIN:VEVENT
DTSTART;TZID=Australia/Sydney:20240702T060000
DTEND;TZID=Australia/Sydney:20240702T060000
DTSTAMP:20260423T182932
CREATED:20230614T015516Z
LAST-MODIFIED:20230614T015524Z
UID:40620-1719900000-1719900000@www.shellybeachgolfclub.com.au
SUMMARY:Medley Individual Stableford 4 Grades plus Medley 2BBB
DESCRIPTION:
URL:https://www.shellybeachgolfclub.com.au/golf-program/medley-individual-stableford-4-grades-plus-medley-2bbb-35/
LOCATION:SBGC
CATEGORIES:Mens / Mixed Club Events
END:VEVENT
BEGIN:VEVENT
DTSTART;TZID=Australia/Sydney:20240704T060000
DTEND;TZID=Australia/Sydney:20240704T060000
DTSTAMP:20260423T182932
CREATED:20230614T015618Z
LAST-MODIFIED:20230614T015626Z
UID:40624-1720072800-1720072800@www.shellybeachgolfclub.com.au
SUMMARY:Individual Stableford 4 Grades plus 2BBB
DESCRIPTION:
URL:https://www.shellybeachgolfclub.com.au/golf-program/individual-stableford-4-grades-plus-2bbb-28/
LOCATION:SBGC
CATEGORIES:Mens / Mixed Club Events
END:VEVENT
BEGIN:VEVENT
DTSTART;TZID=Australia/Sydney:20240705T060000
DTEND;TZID=Australia/Sydney:20240705T060000
DTSTAMP:20260423T182932
CREATED:20230614T015647Z
LAST-MODIFIED:20230614T015657Z
UID:40626-1720159200-1720159200@www.shellybeachgolfclub.com.au
SUMMARY:Men's & Women's Individual Stableford
DESCRIPTION:
URL:https://www.shellybeachgolfclub.com.au/golf-program/mens-womens-individual-stableford-61/
LOCATION:SBGC
CATEGORIES:Mens / Mixed Club Events
END:VEVENT
BEGIN:VEVENT
DTSTART;TZID=Australia/Sydney:20240705T110000
DTEND;TZID=Australia/Sydney:20240705T110000
DTSTAMP:20260423T182932
CREATED:20230614T015720Z
LAST-MODIFIED:20230614T015728Z
UID:40628-1720177200-1720177200@www.shellybeachgolfclub.com.au
SUMMARY:Chook Run
DESCRIPTION:
URL:https://www.shellybeachgolfclub.com.au/golf-program/chook-run-67/
LOCATION:SBGC
CATEGORIES:Mens / Mixed Club Events
END:VEVENT
BEGIN:VEVENT
DTSTART;TZID=Australia/Sydney:20240706T060000
DTEND;TZID=Australia/Sydney:20240706T060000
DTSTAMP:20260423T182932
CREATED:20230614T015749Z
LAST-MODIFIED:20230614T015759Z
UID:40630-1720245600-1720245600@www.shellybeachgolfclub.com.au
SUMMARY:Individual Stableford Men & Women's plus Men/Medley 2BBB
DESCRIPTION:
URL:https://www.shellybeachgolfclub.com.au/golf-program/individual-stableford-men-womens-plus-men-medley-2bbb-29/
LOCATION:SBGC
CATEGORIES:Mens / Mixed Club Events
END:VEVENT
BEGIN:VEVENT
DTSTART;TZID=Australia/Sydney:20240707T060000
DTEND;TZID=Australia/Sydney:20240707T060000
DTSTAMP:20260423T182932
CREATED:20230614T015902Z
LAST-MODIFIED:20230614T015911Z
UID:40634-1720332000-1720332000@www.shellybeachgolfclub.com.au
SUMMARY:Individual Stroke. Men's Monthly Medal. 3 Grades
DESCRIPTION:
URL:https://www.shellybeachgolfclub.com.au/golf-program/individual-stroke-mens-monthly-medal-3-grades-12/
LOCATION:SBGC
CATEGORIES:Mens / Mixed Club Events
END:VEVENT
BEGIN:VEVENT
DTSTART;TZID=Australia/Sydney:20240708T060000
DTEND;TZID=Australia/Sydney:20240708T060000
DTSTAMP:20260423T182932
CREATED:20230614T020006Z
LAST-MODIFIED:20230614T020015Z
UID:40638-1720418400-1720418400@www.shellybeachgolfclub.com.au
SUMMARY:Mad Monday Medley Individual Stableford
DESCRIPTION:
URL:https://www.shellybeachgolfclub.com.au/golf-program/mad-monday-medley-individual-stableford-12/
LOCATION:SBGC
CATEGORIES:Mens / Mixed Club Events
END:VEVENT
BEGIN:VEVENT
DTSTART;TZID=Australia/Sydney:20240709T060000
DTEND;TZID=Australia/Sydney:20240709T060000
DTSTAMP:20260423T182932
CREATED:20230614T020036Z
LAST-MODIFIED:20230614T020044Z
UID:40640-1720504800-1720504800@www.shellybeachgolfclub.com.au
SUMMARY:Medley Individual Stableford 4 Grades plus Medley 2B Aggregate
DESCRIPTION:
URL:https://www.shellybeachgolfclub.com.au/golf-program/medley-individual-stableford-4-grades-plus-medley-2b-aggregate-19/
LOCATION:SBGC
CATEGORIES:Mens / Mixed Club Events
END:VEVENT
BEGIN:VEVENT
DTSTART;TZID=Australia/Sydney:20240711T060000
DTEND;TZID=Australia/Sydney:20240711T060000
DTSTAMP:20260423T182932
CREATED:20230614T020150Z
LAST-MODIFIED:20230614T020158Z
UID:40644-1720677600-1720677600@www.shellybeachgolfclub.com.au
SUMMARY:Individual Stableford 4 Grades plus 2B Multiplier
DESCRIPTION:
URL:https://www.shellybeachgolfclub.com.au/golf-program/individual-stableford-4-grades-plus-2b-multiplier-8/
LOCATION:SBGC
CATEGORIES:Mens / Mixed Club Events
END:VEVENT
BEGIN:VEVENT
DTSTART;TZID=Australia/Sydney:20240712T060000
DTEND;TZID=Australia/Sydney:20240712T060000
DTSTAMP:20260423T182932
CREATED:20230614T020223Z
LAST-MODIFIED:20230614T020230Z
UID:40646-1720764000-1720764000@www.shellybeachgolfclub.com.au
SUMMARY:Men's & Women's Individual Stableford
DESCRIPTION:
URL:https://www.shellybeachgolfclub.com.au/golf-program/mens-womens-individual-stableford-62/
LOCATION:SBGC
CATEGORIES:Mens / Mixed Club Events
END:VEVENT
BEGIN:VEVENT
DTSTART;TZID=Australia/Sydney:20240712T110000
DTEND;TZID=Australia/Sydney:20240712T110000
DTSTAMP:20260423T182932
CREATED:20230614T020256Z
LAST-MODIFIED:20230614T020303Z
UID:40648-1720782000-1720782000@www.shellybeachgolfclub.com.au
SUMMARY:Chook Run
DESCRIPTION:
URL:https://www.shellybeachgolfclub.com.au/golf-program/chook-run-68/
LOCATION:SBGC
CATEGORIES:Mens / Mixed Club Events
END:VEVENT
BEGIN:VEVENT
DTSTART;TZID=Australia/Sydney:20240713T060000
DTEND;TZID=Australia/Sydney:20240713T060000
DTSTAMP:20260423T182932
CREATED:20230614T020339Z
LAST-MODIFIED:20230614T020407Z
UID:40650-1720850400-1720850400@www.shellybeachgolfclub.com.au
SUMMARY:Individual Stableford Men & Women's plus Men/Medley 2B Aggregate
DESCRIPTION:
URL:https://www.shellybeachgolfclub.com.au/golf-program/individual-stableford-men-womens-plus-men-medley-2b-aggregate-19/
LOCATION:SBGC
CATEGORIES:Mens / Mixed Club Events
END:VEVENT
BEGIN:VEVENT
DTSTART;TZID=Australia/Sydney:20240714T060000
DTEND;TZID=Australia/Sydney:20240714T060000
DTSTAMP:20260423T182932
CREATED:20230614T020511Z
LAST-MODIFIED:20230614T020519Z
UID:40654-1720936800-1720936800@www.shellybeachgolfclub.com.au
SUMMARY:Medley Individual Stableford plus Medley 2BBB + 2BBB Scratch
DESCRIPTION:
URL:https://www.shellybeachgolfclub.com.au/golf-program/medley-individual-stableford-plus-medley-2bbb-2bbb-scratch-17/
LOCATION:SBGC
CATEGORIES:Mens / Mixed Club Events
END:VEVENT
BEGIN:VEVENT
DTSTART;TZID=Australia/Sydney:20240715T060000
DTEND;TZID=Australia/Sydney:20240715T060000
DTSTAMP:20260423T182932
CREATED:20230614T020618Z
LAST-MODIFIED:20230614T020626Z
UID:40658-1721023200-1721023200@www.shellybeachgolfclub.com.au
SUMMARY:Mad Monday Medley Individual Stableford
DESCRIPTION:
URL:https://www.shellybeachgolfclub.com.au/golf-program/mad-monday-medley-individual-stableford-13/
LOCATION:SBGC
CATEGORIES:Mens / Mixed Club Events
END:VEVENT
BEGIN:VEVENT
DTSTART;TZID=Australia/Sydney:20240716T060000
DTEND;TZID=Australia/Sydney:20240716T060000
DTSTAMP:20260423T182932
CREATED:20230614T020659Z
LAST-MODIFIED:20230614T020708Z
UID:40660-1721109600-1721109600@www.shellybeachgolfclub.com.au
SUMMARY:Medley Individual Stableford 4 Grades plus Medley 2BBB
DESCRIPTION:
URL:https://www.shellybeachgolfclub.com.au/golf-program/medley-individual-stableford-4-grades-plus-medley-2bbb-36/
LOCATION:SBGC
CATEGORIES:Mens / Mixed Club Events
END:VEVENT
BEGIN:VEVENT
DTSTART;TZID=Australia/Sydney:20240718T060000
DTEND;TZID=Australia/Sydney:20240718T060000
DTSTAMP:20260423T182932
CREATED:20230614T020827Z
LAST-MODIFIED:20230614T020836Z
UID:40664-1721282400-1721282400@www.shellybeachgolfclub.com.au
SUMMARY:Individual Stableford 4 Grades plus 2B Split 6's\, 1st 6 holes: 2BBB\, 2nd 6 holes: 2B Aggregate & 3rd 6 holes: 2B Multiplier
DESCRIPTION:
URL:https://www.shellybeachgolfclub.com.au/golf-program/individual-stableford-4-grades-plus-2b-split-6s-1st-6-holes-2bbb-2nd-6-holes-2b-aggregate-3rd-6-holes-2b-multiplier-9/
LOCATION:SBGC
CATEGORIES:Mens / Mixed Club Events
END:VEVENT
BEGIN:VEVENT
DTSTART;TZID=Australia/Sydney:20240719T060000
DTEND;TZID=Australia/Sydney:20240719T060000
DTSTAMP:20260423T182932
CREATED:20230614T021019Z
LAST-MODIFIED:20230614T021027Z
UID:40666-1721368800-1721368800@www.shellybeachgolfclub.com.au
SUMMARY:Men's & Women's Individual Stableford
DESCRIPTION:
URL:https://www.shellybeachgolfclub.com.au/golf-program/mens-womens-individual-stableford-63/
CATEGORIES:Mens / Mixed Club Events
END:VEVENT
BEGIN:VEVENT
DTSTART;TZID=Australia/Sydney:20240719T110000
DTEND;TZID=Australia/Sydney:20240719T110000
DTSTAMP:20260423T182932
CREATED:20230614T021052Z
LAST-MODIFIED:20230614T021101Z
UID:40669-1721386800-1721386800@www.shellybeachgolfclub.com.au
SUMMARY:Chook Run
DESCRIPTION:
URL:https://www.shellybeachgolfclub.com.au/golf-program/chook-run-69/
LOCATION:SBGC
CATEGORIES:Mens / Mixed Club Events
END:VEVENT
BEGIN:VEVENT
DTSTART;TZID=Australia/Sydney:20240720T060000
DTEND;TZID=Australia/Sydney:20240720T060000
DTSTAMP:20260423T182932
CREATED:20230614T021119Z
LAST-MODIFIED:20230614T021132Z
UID:40671-1721455200-1721455200@www.shellybeachgolfclub.com.au
SUMMARY:Individual Stableford Men & Women's plus Men/Medley 2BBB
DESCRIPTION:
URL:https://www.shellybeachgolfclub.com.au/golf-program/individual-stableford-men-womens-plus-men-medley-2bbb-30/
LOCATION:SBGC
CATEGORIES:Mens / Mixed Club Events
END:VEVENT
BEGIN:VEVENT
DTSTART;TZID=Australia/Sydney:20240720T060000
DTEND;TZID=Australia/Sydney:20240720T060000
DTSTAMP:20260423T182932
CREATED:20240314T041001Z
LAST-MODIFIED:20240314T041119Z
UID:51284-1721455200-1721455200@www.shellybeachgolfclub.com.au
SUMMARY:Choose your TEE Day
DESCRIPTION:
URL:https://www.shellybeachgolfclub.com.au/golf-program/choose-your-tee-day-27/
CATEGORIES:Mens / Mixed Club Events
END:VEVENT
BEGIN:VEVENT
DTSTART;TZID=Australia/Sydney:20240721T060000
DTEND;TZID=Australia/Sydney:20240721T060000
DTSTAMP:20260423T182932
CREATED:20230614T021201Z
LAST-MODIFIED:20230614T021209Z
UID:40673-1721541600-1721541600@www.shellybeachgolfclub.com.au
SUMMARY:Medley Individual Stableford plus Medley 2B Aggregate
DESCRIPTION:
URL:https://www.shellybeachgolfclub.com.au/golf-program/medley-individual-stableford-plus-medley-2b-aggregate-11/
LOCATION:SBGC
CATEGORIES:Mens / Mixed Club Events
END:VEVENT
BEGIN:VEVENT
DTSTART;TZID=Australia/Sydney:20240722T060000
DTEND;TZID=Australia/Sydney:20240722T060000
DTSTAMP:20260423T182932
CREATED:20230614T021333Z
LAST-MODIFIED:20230614T021340Z
UID:40677-1721628000-1721628000@www.shellybeachgolfclub.com.au
SUMMARY:Mad Monday Medley Individual Stableford
DESCRIPTION:
URL:https://www.shellybeachgolfclub.com.au/golf-program/mad-monday-medley-individual-stableford-14/
LOCATION:SBGC
CATEGORIES:Mens / Mixed Club Events
END:VEVENT
BEGIN:VEVENT
DTSTART;TZID=Australia/Sydney:20240723T060000
DTEND;TZID=Australia/Sydney:20240723T060000
DTSTAMP:20260423T182932
CREATED:20230614T021357Z
LAST-MODIFIED:20230614T021407Z
UID:40679-1721714400-1721714400@www.shellybeachgolfclub.com.au
SUMMARY:Medley Individual Stableford 4 Grades plus Medley 2B Aggregate
DESCRIPTION:
URL:https://www.shellybeachgolfclub.com.au/golf-program/medley-individual-stableford-4-grades-plus-medley-2b-aggregate-20/
LOCATION:SBGC
CATEGORIES:Mens / Mixed Club Events
END:VEVENT
BEGIN:VEVENT
DTSTART;TZID=Australia/Sydney:20240725T060000
DTEND;TZID=Australia/Sydney:20240725T060000
DTSTAMP:20260423T182932
CREATED:20230614T021514Z
LAST-MODIFIED:20230614T021540Z
UID:40683-1721887200-1721887200@www.shellybeachgolfclub.com.au
SUMMARY:Individual Stableford. Monthly Mug. 4 Grades 1st\, 2nd\, 3rd & 4th Nett plus Overall Scratch
DESCRIPTION:
URL:https://www.shellybeachgolfclub.com.au/golf-program/individual-stableford-monthly-mug-4-grades-1st-2nd-3rd-4th-nett-plus-overall-scratch-17/
LOCATION:SBGC
CATEGORIES:Mens / Mixed Club Events
END:VEVENT
BEGIN:VEVENT
DTSTART;TZID=Australia/Sydney:20240726T060000
DTEND;TZID=Australia/Sydney:20240726T060000
DTSTAMP:20260423T182932
CREATED:20230614T021647Z
LAST-MODIFIED:20230614T021656Z
UID:40685-1721973600-1721973600@www.shellybeachgolfclub.com.au
SUMMARY:Men's & Women's Individual Stableford
DESCRIPTION:
URL:https://www.shellybeachgolfclub.com.au/golf-program/mens-womens-individual-stableford-64/
LOCATION:SBGC
CATEGORIES:Mens / Mixed Club Events
END:VEVENT
BEGIN:VEVENT
DTSTART;TZID=Australia/Sydney:20240726T110000
DTEND;TZID=Australia/Sydney:20240726T110000
DTSTAMP:20260423T182932
CREATED:20230614T021719Z
LAST-MODIFIED:20230614T021727Z
UID:40687-1721991600-1721991600@www.shellybeachgolfclub.com.au
SUMMARY:Chook Run
DESCRIPTION:
URL:https://www.shellybeachgolfclub.com.au/golf-program/chook-run-70/
LOCATION:SBGC
CATEGORIES:Mens / Mixed Club Events
END:VEVENT
BEGIN:VEVENT
DTSTART;TZID=Australia/Sydney:20240727T060000
DTEND;TZID=Australia/Sydney:20240727T060000
DTSTAMP:20260423T182932
CREATED:20230614T022038Z
LAST-MODIFIED:20230614T022051Z
UID:40696-1722060000-1722060000@www.shellybeachgolfclub.com.au
SUMMARY:Individual Stableford Men & Women's plus Men/Medley 2B Aggregate
DESCRIPTION:
URL:https://www.shellybeachgolfclub.com.au/golf-program/individual-stableford-men-womens-plus-men-medley-2b-aggregate-20/
LOCATION:SBGC
CATEGORIES:Mens / Mixed Club Events
END:VEVENT
BEGIN:VEVENT
DTSTART;TZID=Australia/Sydney:20240728T060000
DTEND;TZID=Australia/Sydney:20240728T060000
DTSTAMP:20260423T182932
CREATED:20230614T022224Z
LAST-MODIFIED:20230614T022232Z
UID:40702-1722146400-1722146400@www.shellybeachgolfclub.com.au
SUMMARY:Individual Stableford Men & Women's plus Men/Medley 2B Aggregate
DESCRIPTION:
URL:https://www.shellybeachgolfclub.com.au/golf-program/individual-stableford-men-womens-plus-men-medley-2b-aggregate-21/
LOCATION:SBGC
CATEGORIES:Mens / Mixed Club Events
END:VEVENT
BEGIN:VEVENT
DTSTART;TZID=Australia/Sydney:20240729T060000
DTEND;TZID=Australia/Sydney:20240729T060000
DTSTAMP:20260423T182932
CREATED:20230614T022334Z
LAST-MODIFIED:20230614T022343Z
UID:40706-1722232800-1722232800@www.shellybeachgolfclub.com.au
SUMMARY:Mad Monday Medley Individual Stableford
DESCRIPTION:
URL:https://www.shellybeachgolfclub.com.au/golf-program/mad-monday-medley-individual-stableford-15/
LOCATION:SBGC
CATEGORIES:Mens / Mixed Club Events
END:VEVENT
END:VCALENDAR