BEGIN:VCALENDAR
VERSION:2.0
PRODID:-//Shelly Beach Golf Club - ECPv6.15.18//NONSGML v1.0//EN
CALSCALE:GREGORIAN
METHOD:PUBLISH
X-WR-CALNAME:Shelly Beach Golf Club
X-ORIGINAL-URL:https://www.shellybeachgolfclub.com.au
X-WR-CALDESC:Events for Shelly Beach Golf Club
REFRESH-INTERVAL;VALUE=DURATION:PT1H
X-Robots-Tag:noindex
X-PUBLISHED-TTL:PT1H
BEGIN:VTIMEZONE
TZID:Australia/Sydney
BEGIN:STANDARD
TZOFFSETFROM:+1100
TZOFFSETTO:+1000
TZNAME:AEST
DTSTART:20230401T160000
END:STANDARD
BEGIN:DAYLIGHT
TZOFFSETFROM:+1000
TZOFFSETTO:+1100
TZNAME:AEDT
DTSTART:20230930T160000
END:DAYLIGHT
BEGIN:STANDARD
TZOFFSETFROM:+1100
TZOFFSETTO:+1000
TZNAME:AEST
DTSTART:20240406T160000
END:STANDARD
BEGIN:DAYLIGHT
TZOFFSETFROM:+1000
TZOFFSETTO:+1100
TZNAME:AEDT
DTSTART:20241005T160000
END:DAYLIGHT
BEGIN:STANDARD
TZOFFSETFROM:+1100
TZOFFSETTO:+1000
TZNAME:AEST
DTSTART:20250405T160000
END:STANDARD
BEGIN:DAYLIGHT
TZOFFSETFROM:+1000
TZOFFSETTO:+1100
TZNAME:AEDT
DTSTART:20251004T160000
END:DAYLIGHT
END:VTIMEZONE
BEGIN:VEVENT
DTSTART;TZID=Australia/Sydney:20240502T060000
DTEND;TZID=Australia/Sydney:20240502T060000
DTSTAMP:20260423T212807
CREATED:20230609T014621Z
LAST-MODIFIED:20230609T015441Z
UID:40253-1714629600-1714629600@www.shellybeachgolfclub.com.au
SUMMARY:Individual Stableford 4 Grades plus 2B Multiplier
DESCRIPTION:
URL:https://www.shellybeachgolfclub.com.au/golf-program/individual-stableford-4-grades-plus-2b-multiplier-7/
LOCATION:SBGC
CATEGORIES:Mens / Mixed Club Events
END:VEVENT
BEGIN:VEVENT
DTSTART;TZID=Australia/Sydney:20240503T060000
DTEND;TZID=Australia/Sydney:20240503T060000
DTSTAMP:20260423T212807
CREATED:20230609T014832Z
LAST-MODIFIED:20230609T015500Z
UID:40255-1714716000-1714716000@www.shellybeachgolfclub.com.au
SUMMARY:Men & Women Individual Stableford
DESCRIPTION:
URL:https://www.shellybeachgolfclub.com.au/golf-program/men-women-individual-stableford/
LOCATION:SBGC
CATEGORIES:Mens / Mixed Club Events
END:VEVENT
BEGIN:VEVENT
DTSTART;TZID=Australia/Sydney:20240503T110000
DTEND;TZID=Australia/Sydney:20240503T110000
DTSTAMP:20260423T212807
CREATED:20230609T014946Z
LAST-MODIFIED:20230609T014958Z
UID:40257-1714734000-1714734000@www.shellybeachgolfclub.com.au
SUMMARY:Chook Run
DESCRIPTION:
URL:https://www.shellybeachgolfclub.com.au/golf-program/chook-run-59/
LOCATION:SBGC
CATEGORIES:Mens / Mixed Club Events
END:VEVENT
BEGIN:VEVENT
DTSTART;TZID=Australia/Sydney:20240504T060000
DTEND;TZID=Australia/Sydney:20240504T060000
DTSTAMP:20260423T212807
CREATED:20230609T015027Z
LAST-MODIFIED:20230609T015518Z
UID:40259-1714802400-1714802400@www.shellybeachgolfclub.com.au
SUMMARY:Men & Women Individual Stableford plus Men & Medley 2BBB
DESCRIPTION:
URL:https://www.shellybeachgolfclub.com.au/golf-program/men-women-individual-stableford-plus-men-medley-2bbb/
LOCATION:SBGC
CATEGORIES:Mens / Mixed Club Events
END:VEVENT
BEGIN:VEVENT
DTSTART;TZID=Australia/Sydney:20240505T063000
DTEND;TZID=Australia/Sydney:20240505T063000
DTSTAMP:20260423T212807
CREATED:20230324T062255Z
LAST-MODIFIED:20240308T035233Z
UID:37650-1714890600-1714890600@www.shellybeachgolfclub.com.au
SUMMARY:Medley Individual Stableford
DESCRIPTION:Moaners 6:30am 1st tee.\nMembers 11:00am 1st tee
URL:https://www.shellybeachgolfclub.com.au/golf-program/medley-individual-stableford-2/
LOCATION:SBGC
CATEGORIES:Mens / Mixed Club Events
END:VEVENT
BEGIN:VEVENT
DTSTART;TZID=Australia/Sydney:20240506T060000
DTEND;TZID=Australia/Sydney:20240506T060000
DTSTAMP:20260423T212807
CREATED:20230609T015349Z
LAST-MODIFIED:20230609T015401Z
UID:40267-1714975200-1714975200@www.shellybeachgolfclub.com.au
SUMMARY:Mad Monday. Men's & Women's Individual Stableford
DESCRIPTION:
URL:https://www.shellybeachgolfclub.com.au/golf-program/mad-monday-mens-womens-individual-stableford-49/
LOCATION:SBGC
CATEGORIES:Mens / Mixed Club Events
END:VEVENT
BEGIN:VEVENT
DTSTART;TZID=Australia/Sydney:20240507T060000
DTEND;TZID=Australia/Sydney:20240507T060000
DTSTAMP:20260423T212807
CREATED:20230609T015708Z
LAST-MODIFIED:20230609T015716Z
UID:40270-1715061600-1715061600@www.shellybeachgolfclub.com.au
SUMMARY:Medley Individual Stableford 4 Grades plus Medley 2B Aggregate
DESCRIPTION:
URL:https://www.shellybeachgolfclub.com.au/golf-program/medley-individual-stableford-4-grades-plus-medley-2b-aggregate-16/
LOCATION:SBGC
CATEGORIES:Mens / Mixed Club Events
END:VEVENT
BEGIN:VEVENT
DTSTART;TZID=Australia/Sydney:20240509T060000
DTEND;TZID=Australia/Sydney:20240509T060000
DTSTAMP:20260423T212807
CREATED:20230609T015842Z
LAST-MODIFIED:20230609T015850Z
UID:40274-1715234400-1715234400@www.shellybeachgolfclub.com.au
SUMMARY:Individual Stableford 4 Grades plus 2BBB
DESCRIPTION:
URL:https://www.shellybeachgolfclub.com.au/golf-program/individual-stableford-4-grades-plus-2bbb-24/
LOCATION:SBGC
CATEGORIES:Mens / Mixed Club Events
END:VEVENT
BEGIN:VEVENT
DTSTART;TZID=Australia/Sydney:20240510T060000
DTEND;TZID=Australia/Sydney:20240510T060000
DTSTAMP:20260423T212807
CREATED:20230609T015948Z
LAST-MODIFIED:20230609T015956Z
UID:40276-1715320800-1715320800@www.shellybeachgolfclub.com.au
SUMMARY:Men & Women Individual Stableford
DESCRIPTION:
URL:https://www.shellybeachgolfclub.com.au/golf-program/men-women-individual-stableford-2/
LOCATION:SBGC
CATEGORIES:Mens / Mixed Club Events
END:VEVENT
BEGIN:VEVENT
DTSTART;TZID=Australia/Sydney:20240510T110000
DTEND;TZID=Australia/Sydney:20240510T110000
DTSTAMP:20260423T212807
CREATED:20230609T020022Z
LAST-MODIFIED:20230609T020030Z
UID:40278-1715338800-1715338800@www.shellybeachgolfclub.com.au
SUMMARY:Chook Run
DESCRIPTION:
URL:https://www.shellybeachgolfclub.com.au/golf-program/chook-run-60/
LOCATION:SBGC
CATEGORIES:Mens / Mixed Club Events
END:VEVENT
BEGIN:VEVENT
DTSTART;TZID=Australia/Sydney:20240511T060000
DTEND;TZID=Australia/Sydney:20240511T060000
DTSTAMP:20260423T212807
CREATED:20230609T020055Z
LAST-MODIFIED:20230609T020103Z
UID:40280-1715407200-1715407200@www.shellybeachgolfclub.com.au
SUMMARY:Men & Women Individual Stableford plus Men & Medley 2BBB
DESCRIPTION:
URL:https://www.shellybeachgolfclub.com.au/golf-program/men-women-individual-stableford-plus-men-medley-2bbb-2/
LOCATION:SBGC
CATEGORIES:Mens / Mixed Club Events
END:VEVENT
BEGIN:VEVENT
DTSTART;TZID=Australia/Sydney:20240512T060000
DTEND;TZID=Australia/Sydney:20240512T060000
DTSTAMP:20260423T212807
CREATED:20230609T020251Z
LAST-MODIFIED:20230609T023054Z
UID:40288-1715493600-1715493600@www.shellybeachgolfclub.com.au
SUMMARY:Medley Individual Stableford plus Medley 2BBB + 2BBB Scratch
DESCRIPTION:
URL:https://www.shellybeachgolfclub.com.au/golf-program/medley-individual-stableford-plus-medley-2bbb-2bbb-scratch-15/
LOCATION:SBGC
CATEGORIES:Mens / Mixed Club Events
END:VEVENT
BEGIN:VEVENT
DTSTART;TZID=Australia/Sydney:20240513T060000
DTEND;TZID=Australia/Sydney:20240513T060000
DTSTAMP:20260423T212807
CREATED:20230609T020913Z
LAST-MODIFIED:20230609T020924Z
UID:40290-1715580000-1715580000@www.shellybeachgolfclub.com.au
SUMMARY:Mad Monday. Men's & Women's Individual Stableford
DESCRIPTION:
URL:https://www.shellybeachgolfclub.com.au/golf-program/mad-monday-mens-womens-individual-stableford-50/
LOCATION:SBGC
CATEGORIES:Mens / Mixed Club Events
END:VEVENT
BEGIN:VEVENT
DTSTART;TZID=Australia/Sydney:20240514T060000
DTEND;TZID=Australia/Sydney:20240514T060000
DTSTAMP:20260423T212807
CREATED:20230609T020950Z
LAST-MODIFIED:20230609T020959Z
UID:40295-1715666400-1715666400@www.shellybeachgolfclub.com.au
SUMMARY:Medley Individual Stableford 4 Grades plus Medley 2BBB
DESCRIPTION:
URL:https://www.shellybeachgolfclub.com.au/golf-program/medley-individual-stableford-4-grades-plus-medley-2bbb-31/
LOCATION:SBGC
CATEGORIES:Mens / Mixed Club Events
END:VEVENT
BEGIN:VEVENT
DTSTART;TZID=Australia/Sydney:20240516T060000
DTEND;TZID=Australia/Sydney:20240516T060000
DTSTAMP:20260423T212807
CREATED:20230609T022940Z
LAST-MODIFIED:20230609T022951Z
UID:40342-1715839200-1715839200@www.shellybeachgolfclub.com.au
SUMMARY:Individual Stableford 4 Grades plus 2B Split 6's\, 1st 6 holes: 2BBB\, 2nd 6 holes: 2B Aggregate & 3rd 6 holes: 2B Multiplier
DESCRIPTION:
URL:https://www.shellybeachgolfclub.com.au/golf-program/individual-stableford-4-grades-plus-2b-split-6s-1st-6-holes-2bbb-2nd-6-holes-2b-aggregate-3rd-6-holes-2b-multiplier-8/
LOCATION:SBGC
CATEGORIES:Mens / Mixed Club Events
END:VEVENT
BEGIN:VEVENT
DTSTART;TZID=Australia/Sydney:20240517T130000
DTEND;TZID=Australia/Sydney:20240517T130000
DTSTAMP:20260423T212807
CREATED:20230609T021326Z
LAST-MODIFIED:20230609T021335Z
UID:40304-1715950800-1715950800@www.shellybeachgolfclub.com.au
SUMMARY:Social play and Chook Run
DESCRIPTION:
URL:https://www.shellybeachgolfclub.com.au/golf-program/social-play-and-chook-run/
LOCATION:SBGC
CATEGORIES:Mens / Mixed Club Events
END:VEVENT
BEGIN:VEVENT
DTSTART;TZID=Australia/Sydney:20240518T060000
DTEND;TZID=Australia/Sydney:20240518T060000
DTSTAMP:20260423T212807
CREATED:20230609T021401Z
LAST-MODIFIED:20230609T021410Z
UID:40306-1716012000-1716012000@www.shellybeachgolfclub.com.au
SUMMARY:Men & Women Individual Stableford plus Men & Medley 2B Aggregate
DESCRIPTION:
URL:https://www.shellybeachgolfclub.com.au/golf-program/men-women-individual-stableford-plus-men-medley-2b-aggregate/
LOCATION:SBGC
CATEGORIES:Mens / Mixed Club Events
END:VEVENT
BEGIN:VEVENT
DTSTART;TZID=Australia/Sydney:20240519T060000
DTEND;TZID=Australia/Sydney:20240519T060000
DTSTAMP:20260423T212807
CREATED:20230609T015211Z
LAST-MODIFIED:20240308T032739Z
UID:40263-1716098400-1716098400@www.shellybeachgolfclub.com.au
SUMMARY:Men's Monthly Medal. Individual Stroke. 3 Grades
DESCRIPTION:
URL:https://www.shellybeachgolfclub.com.au/golf-program/mens-monthly-medal-individual-stroke-3-grades/
LOCATION:SBGC
CATEGORIES:Mens / Mixed Club Events
END:VEVENT
BEGIN:VEVENT
DTSTART;TZID=Australia/Sydney:20240520T060000
DTEND;TZID=Australia/Sydney:20240520T060000
DTSTAMP:20260423T212807
CREATED:20230609T021540Z
LAST-MODIFIED:20230609T021548Z
UID:40310-1716184800-1716184800@www.shellybeachgolfclub.com.au
SUMMARY:Mad Monday. Men's & Women's Individual Stableford
DESCRIPTION:
URL:https://www.shellybeachgolfclub.com.au/golf-program/mad-monday-mens-womens-individual-stableford-51/
LOCATION:SBGC
CATEGORIES:Mens / Mixed Club Events
END:VEVENT
BEGIN:VEVENT
DTSTART;TZID=Australia/Sydney:20240521T060000
DTEND;TZID=Australia/Sydney:20240521T060000
DTSTAMP:20260423T212807
CREATED:20230609T021617Z
LAST-MODIFIED:20230609T021626Z
UID:40312-1716271200-1716271200@www.shellybeachgolfclub.com.au
SUMMARY:Medley Individual Stableford 4 Grades plus Medley 2B Aggregate
DESCRIPTION:
URL:https://www.shellybeachgolfclub.com.au/golf-program/medley-individual-stableford-4-grades-plus-medley-2b-aggregate-17/
LOCATION:SBGC
CATEGORIES:Mens / Mixed Club Events
END:VEVENT
BEGIN:VEVENT
DTSTART;TZID=Australia/Sydney:20240523T060000
DTEND;TZID=Australia/Sydney:20240523T060000
DTSTAMP:20260423T212807
CREATED:20230609T021944Z
LAST-MODIFIED:20230609T021955Z
UID:40316-1716444000-1716444000@www.shellybeachgolfclub.com.au
SUMMARY:Individual Stableford. Monthly Mug. 4 Grades 1st\, 2nd\, 3rd & 4th Nett plus Overall Scratch
DESCRIPTION:
URL:https://www.shellybeachgolfclub.com.au/golf-program/individual-stableford-monthly-mug-4-grades-1st-2nd-3rd-4th-nett-plus-overall-scratch-15/
LOCATION:SBGC
CATEGORIES:Mens / Mixed Club Events
END:VEVENT
BEGIN:VEVENT
DTSTART;TZID=Australia/Sydney:20240524T060000
DTEND;TZID=Australia/Sydney:20240524T060000
DTSTAMP:20260423T212807
CREATED:20230609T022038Z
LAST-MODIFIED:20230609T022047Z
UID:40318-1716530400-1716530400@www.shellybeachgolfclub.com.au
SUMMARY:Men & Women Individual Stableford
DESCRIPTION:
URL:https://www.shellybeachgolfclub.com.au/golf-program/men-women-individual-stableford-3/
LOCATION:SBGC
CATEGORIES:Mens / Mixed Club Events
END:VEVENT
BEGIN:VEVENT
DTSTART;TZID=Australia/Sydney:20240524T060000
DTEND;TZID=Australia/Sydney:20240524T060000
DTSTAMP:20260423T212807
CREATED:20230609T022122Z
LAST-MODIFIED:20230609T022130Z
UID:40320-1716530400-1716530400@www.shellybeachgolfclub.com.au
SUMMARY:Choose Your TEE Day
DESCRIPTION:
URL:https://www.shellybeachgolfclub.com.au/golf-program/choose-your-tee-day-18/
LOCATION:SBGC
CATEGORIES:Mens / Mixed Club Events
END:VEVENT
BEGIN:VEVENT
DTSTART;TZID=Australia/Sydney:20240524T110000
DTEND;TZID=Australia/Sydney:20240524T110000
DTSTAMP:20260423T212807
CREATED:20230609T022156Z
LAST-MODIFIED:20230609T022205Z
UID:40322-1716548400-1716548400@www.shellybeachgolfclub.com.au
SUMMARY:Chook Run
DESCRIPTION:
URL:https://www.shellybeachgolfclub.com.au/golf-program/chook-run-61/
LOCATION:SBGC
CATEGORIES:Mens / Mixed Club Events
END:VEVENT
BEGIN:VEVENT
DTSTART;TZID=Australia/Sydney:20240526T060000
DTEND;TZID=Australia/Sydney:20240526T060000
DTSTAMP:20260423T212807
CREATED:20230609T022405Z
LAST-MODIFIED:20230609T022530Z
UID:40328-1716703200-1716703200@www.shellybeachgolfclub.com.au
SUMMARY:Medley Individual Stableford plus Medley 2B Multiplier
DESCRIPTION:
URL:https://www.shellybeachgolfclub.com.au/golf-program/medley-individual-stableford-plus-medley-2b-multiplier-5/
LOCATION:SBGC
CATEGORIES:Mens / Mixed Club Events
END:VEVENT
BEGIN:VEVENT
DTSTART;TZID=Australia/Sydney:20240527T060000
DTEND;TZID=Australia/Sydney:20240527T060000
DTSTAMP:20260423T212807
CREATED:20230609T022455Z
LAST-MODIFIED:20230609T022516Z
UID:40330-1716789600-1716789600@www.shellybeachgolfclub.com.au
SUMMARY:Mad Monday. Men's & Women's Individual Stableford
DESCRIPTION:
URL:https://www.shellybeachgolfclub.com.au/golf-program/mad-monday-mens-womens-individual-stableford-52/
LOCATION:SBGC
CATEGORIES:Mens / Mixed Club Events
END:VEVENT
BEGIN:VEVENT
DTSTART;TZID=Australia/Sydney:20240528T060000
DTEND;TZID=Australia/Sydney:20240528T060000
DTSTAMP:20260423T212807
CREATED:20230609T022605Z
LAST-MODIFIED:20240313T051801Z
UID:40332-1716876000-1716876000@www.shellybeachgolfclub.com.au
SUMMARY:Medley Individual Stableford 4 Grades plus Medley 2BBB
DESCRIPTION:
URL:https://www.shellybeachgolfclub.com.au/golf-program/medley-individual-stableford-4-grades-plus-medley-2bbb-32/
LOCATION:SBGC
CATEGORIES:Mens / Mixed Club Events
END:VEVENT
BEGIN:VEVENT
DTSTART;TZID=Australia/Sydney:20240530T060000
DTEND;TZID=Australia/Sydney:20240530T060000
DTSTAMP:20260423T212807
CREATED:20230609T022723Z
LAST-MODIFIED:20230609T022731Z
UID:40336-1717048800-1717048800@www.shellybeachgolfclub.com.au
SUMMARY:Individual Stableford 4 Grades plus 2BBB
DESCRIPTION:
URL:https://www.shellybeachgolfclub.com.au/golf-program/individual-stableford-4-grades-plus-2bbb-25/
LOCATION:SBGC
CATEGORIES:Mens / Mixed Club Events
END:VEVENT
BEGIN:VEVENT
DTSTART;TZID=Australia/Sydney:20240531T060000
DTEND;TZID=Australia/Sydney:20240531T060000
DTSTAMP:20260423T212807
CREATED:20230609T022759Z
LAST-MODIFIED:20230609T022807Z
UID:40338-1717135200-1717135200@www.shellybeachgolfclub.com.au
SUMMARY:Men & Women Individual Stableford
DESCRIPTION:
URL:https://www.shellybeachgolfclub.com.au/golf-program/men-women-individual-stableford-4/
LOCATION:SBGC
CATEGORIES:Mens / Mixed Club Events
END:VEVENT
BEGIN:VEVENT
DTSTART;TZID=Australia/Sydney:20240531T110000
DTEND;TZID=Australia/Sydney:20240531T110000
DTSTAMP:20260423T212807
CREATED:20230609T022832Z
LAST-MODIFIED:20230609T022841Z
UID:40340-1717153200-1717153200@www.shellybeachgolfclub.com.au
SUMMARY:Chook Run
DESCRIPTION:
URL:https://www.shellybeachgolfclub.com.au/golf-program/chook-run-62/
LOCATION:SBGC
CATEGORIES:Mens / Mixed Club Events
END:VEVENT
END:VCALENDAR