BEGIN:VCALENDAR
VERSION:2.0
PRODID:-//Shelly Beach Golf Club - ECPv6.15.18//NONSGML v1.0//EN
CALSCALE:GREGORIAN
METHOD:PUBLISH
X-WR-CALNAME:Shelly Beach Golf Club
X-ORIGINAL-URL:https://www.shellybeachgolfclub.com.au
X-WR-CALDESC:Events for Shelly Beach Golf Club
REFRESH-INTERVAL;VALUE=DURATION:PT1H
X-Robots-Tag:noindex
X-PUBLISHED-TTL:PT1H
BEGIN:VTIMEZONE
TZID:Australia/Sydney
BEGIN:STANDARD
TZOFFSETFROM:+1100
TZOFFSETTO:+1000
TZNAME:AEST
DTSTART:20230401T160000
END:STANDARD
BEGIN:DAYLIGHT
TZOFFSETFROM:+1000
TZOFFSETTO:+1100
TZNAME:AEDT
DTSTART:20230930T160000
END:DAYLIGHT
BEGIN:STANDARD
TZOFFSETFROM:+1100
TZOFFSETTO:+1000
TZNAME:AEST
DTSTART:20240406T160000
END:STANDARD
BEGIN:DAYLIGHT
TZOFFSETFROM:+1000
TZOFFSETTO:+1100
TZNAME:AEDT
DTSTART:20241005T160000
END:DAYLIGHT
BEGIN:STANDARD
TZOFFSETFROM:+1100
TZOFFSETTO:+1000
TZNAME:AEST
DTSTART:20250405T160000
END:STANDARD
BEGIN:DAYLIGHT
TZOFFSETFROM:+1000
TZOFFSETTO:+1100
TZNAME:AEDT
DTSTART:20251004T160000
END:DAYLIGHT
END:VTIMEZONE
BEGIN:VEVENT
DTSTART;TZID=Australia/Sydney:20240301T070000
DTEND;TZID=Australia/Sydney:20240301T070000
DTSTAMP:20260424T005936
CREATED:20230324T041619Z
LAST-MODIFIED:20240202T034206Z
UID:37471-1709276400-1709276400@www.shellybeachgolfclub.com.au
SUMMARY:Hahn SBGC Open Pro Am
DESCRIPTION:7am & 12:15pm shotgun starts
URL:https://www.shellybeachgolfclub.com.au/golf-program/hahn-sbgc-open-pro-am/
LOCATION:SBGC
CATEGORIES:Mens / Mixed Club Events
END:VEVENT
BEGIN:VEVENT
DTSTART;TZID=Australia/Sydney:20240301T110000
DTEND;TZID=Australia/Sydney:20240301T110000
DTSTAMP:20260424T005936
CREATED:20230324T043233Z
LAST-MODIFIED:20230324T043245Z
UID:37473-1709290800-1709290800@www.shellybeachgolfclub.com.au
SUMMARY:Chook Run
DESCRIPTION:
URL:https://www.shellybeachgolfclub.com.au/golf-program/chook-run-50/
LOCATION:SBGC
CATEGORIES:Mens / Mixed Club Events
END:VEVENT
BEGIN:VEVENT
DTSTART;TZID=Australia/Sydney:20240302T060000
DTEND;TZID=Australia/Sydney:20240302T060000
DTSTAMP:20260424T005936
CREATED:20230324T043312Z
LAST-MODIFIED:20230324T043321Z
UID:37475-1709359200-1709359200@www.shellybeachgolfclub.com.au
SUMMARY:Individual Stableford Men & Women's plus Men/Medley 2BBB
DESCRIPTION:
URL:https://www.shellybeachgolfclub.com.au/golf-program/individual-stableford-men-womens-plus-men-medley-2bbb-24/
LOCATION:SBGC
CATEGORIES:Mens / Mixed Club Events
END:VEVENT
BEGIN:VEVENT
DTSTART;TZID=Australia/Sydney:20240303T060000
DTEND;TZID=Australia/Sydney:20240303T060000
DTSTAMP:20260424T005936
CREATED:20230324T044247Z
LAST-MODIFIED:20230324T044254Z
UID:37480-1709445600-1709445600@www.shellybeachgolfclub.com.au
SUMMARY:Individual Stroke. Men's Monthly Medal. 3 Grades
DESCRIPTION:
URL:https://www.shellybeachgolfclub.com.au/golf-program/individual-stroke-mens-monthly-medal-3-grades-10/
LOCATION:SBGC
CATEGORIES:Mens / Mixed Club Events
END:VEVENT
BEGIN:VEVENT
DTSTART;TZID=Australia/Sydney:20240304T060000
DTEND;TZID=Australia/Sydney:20240304T060000
DTSTAMP:20260424T005936
CREATED:20230324T045807Z
LAST-MODIFIED:20230418T071102Z
UID:37484-1709532000-1709532000@www.shellybeachgolfclub.com.au
SUMMARY:Mad Monday Men’s & Women’s Individual Stableford
DESCRIPTION:
URL:https://www.shellybeachgolfclub.com.au/golf-program/mad-monday-mens-womens-individual-stableford-41/
LOCATION:SBGC
CATEGORIES:Mens / Mixed Club Events
END:VEVENT
BEGIN:VEVENT
DTSTART;TZID=Australia/Sydney:20240305T060000
DTEND;TZID=Australia/Sydney:20240305T060000
DTSTAMP:20260424T005936
CREATED:20230324T045840Z
LAST-MODIFIED:20230324T053512Z
UID:37486-1709618400-1709618400@www.shellybeachgolfclub.com.au
SUMMARY:Medley Individual Stableford 4 Grades plus Medley 2BBB
DESCRIPTION:
URL:https://www.shellybeachgolfclub.com.au/golf-program/medley-individual-stableford-4-grades-plus-medley-2bbb-26/
LOCATION:SBGC
CATEGORIES:Mens / Mixed Club Events
END:VEVENT
BEGIN:VEVENT
DTSTART;TZID=Australia/Sydney:20240307T060000
DTEND;TZID=Australia/Sydney:20240307T060000
DTSTAMP:20260424T005936
CREATED:20230324T050748Z
LAST-MODIFIED:20230324T050755Z
UID:37490-1709791200-1709791200@www.shellybeachgolfclub.com.au
SUMMARY:Individual Stableford 4 Grades plus 2B Multiplier
DESCRIPTION:
URL:https://www.shellybeachgolfclub.com.au/golf-program/individual-stableford-4-grades-plus-2b-multiplier-6/
LOCATION:SBGC
CATEGORIES:Mens / Mixed Club Events
END:VEVENT
BEGIN:VEVENT
DTSTART;TZID=Australia/Sydney:20240308T060000
DTEND;TZID=Australia/Sydney:20240308T060000
DTSTAMP:20260424T005936
CREATED:20230324T050818Z
LAST-MODIFIED:20230324T050845Z
UID:37492-1709877600-1709877600@www.shellybeachgolfclub.com.au
SUMMARY:Men's & Women's Individual Stableford
DESCRIPTION:
URL:https://www.shellybeachgolfclub.com.au/golf-program/mens-womens-individual-stableford-50/
LOCATION:SBGC
CATEGORIES:Mens / Mixed Club Events
END:VEVENT
BEGIN:VEVENT
DTSTART;TZID=Australia/Sydney:20240308T110000
DTEND;TZID=Australia/Sydney:20240308T110000
DTSTAMP:20260424T005936
CREATED:20230324T050919Z
LAST-MODIFIED:20230324T051720Z
UID:37494-1709895600-1709895600@www.shellybeachgolfclub.com.au
SUMMARY:Chook Run
DESCRIPTION:
URL:https://www.shellybeachgolfclub.com.au/golf-program/chook-run-51/
LOCATION:SBGC
CATEGORIES:Mens / Mixed Club Events
END:VEVENT
BEGIN:VEVENT
DTSTART;TZID=Australia/Sydney:20240309T060000
DTEND;TZID=Australia/Sydney:20240309T060000
DTSTAMP:20260424T005936
CREATED:20230324T051750Z
LAST-MODIFIED:20230324T052550Z
UID:37496-1709964000-1709964000@www.shellybeachgolfclub.com.au
SUMMARY:Individual Stableford Men & Women's plus Men/Medley 2B Aggregate
DESCRIPTION:
URL:https://www.shellybeachgolfclub.com.au/golf-program/individual-stableford-men-womens-plus-men-medley-2b-aggregate-15/
LOCATION:SBGC
CATEGORIES:Mens / Mixed Club Events
END:VEVENT
BEGIN:VEVENT
DTSTART;TZID=Australia/Sydney:20240310T060000
DTEND;TZID=Australia/Sydney:20240310T060000
DTSTAMP:20260424T005936
CREATED:20230324T052702Z
LAST-MODIFIED:20230324T052711Z
UID:37500-1710050400-1710050400@www.shellybeachgolfclub.com.au
SUMMARY:Medley Individual Stableford plus Medley 2BBB + 2BBB Scratch
DESCRIPTION:
URL:https://www.shellybeachgolfclub.com.au/golf-program/medley-individual-stableford-plus-medley-2bbb-2bbb-scratch-13/
LOCATION:SBGC
CATEGORIES:Mens / Mixed Club Events
END:VEVENT
BEGIN:VEVENT
DTSTART;TZID=Australia/Sydney:20240311T060000
DTEND;TZID=Australia/Sydney:20240311T060000
DTSTAMP:20260424T005936
CREATED:20230324T052812Z
LAST-MODIFIED:20230418T071121Z
UID:37504-1710136800-1710136800@www.shellybeachgolfclub.com.au
SUMMARY:Mad Monday Men’s & Women’s Individual Stableford
DESCRIPTION:
URL:https://www.shellybeachgolfclub.com.au/golf-program/mad-monday-mens-womens-individual-stableford-42/
LOCATION:SBGC
CATEGORIES:Mens / Mixed Club Events
END:VEVENT
BEGIN:VEVENT
DTSTART;TZID=Australia/Sydney:20240312T060000
DTEND;TZID=Australia/Sydney:20240312T060000
DTSTAMP:20260424T005936
CREATED:20230324T052850Z
LAST-MODIFIED:20230324T052857Z
UID:37506-1710223200-1710223200@www.shellybeachgolfclub.com.au
SUMMARY:Medley Individual Stableford 4 Grades plus Medley 2B Aggregate
DESCRIPTION:
URL:https://www.shellybeachgolfclub.com.au/golf-program/medley-individual-stableford-4-grades-plus-medley-2b-aggregate-15/
LOCATION:SBGC
CATEGORIES:Mens / Mixed Club Events
END:VEVENT
BEGIN:VEVENT
DTSTART;TZID=Australia/Sydney:20240314T060000
DTEND;TZID=Australia/Sydney:20240314T060000
DTSTAMP:20260424T005936
CREATED:20230324T053000Z
LAST-MODIFIED:20230324T053009Z
UID:37510-1710396000-1710396000@www.shellybeachgolfclub.com.au
SUMMARY:Individual Stableford. Monthly Mug. 4 Grades 1st\, 2nd\, 3rd & 4th Nett plus Overall Scratch
DESCRIPTION:
URL:https://www.shellybeachgolfclub.com.au/golf-program/individual-stableford-monthly-mug-4-grades-1st-2nd-3rd-4th-nett-plus-overall-scratch-13/
LOCATION:SBGC
CATEGORIES:Mens / Mixed Club Events
END:VEVENT
BEGIN:VEVENT
DTSTART;TZID=Australia/Sydney:20240315T060000
DTEND;TZID=Australia/Sydney:20240315T060000
DTSTAMP:20260424T005936
CREATED:20230324T053057Z
LAST-MODIFIED:20230324T053108Z
UID:37512-1710482400-1710482400@www.shellybeachgolfclub.com.au
SUMMARY:Men's & Women's Individual Stableford
DESCRIPTION:
URL:https://www.shellybeachgolfclub.com.au/golf-program/mens-womens-individual-stableford-51/
LOCATION:SBGC
CATEGORIES:Mens / Mixed Club Events
END:VEVENT
BEGIN:VEVENT
DTSTART;TZID=Australia/Sydney:20240315T110000
DTEND;TZID=Australia/Sydney:20240315T110000
DTSTAMP:20260424T005936
CREATED:20230324T053128Z
LAST-MODIFIED:20230324T053135Z
UID:37514-1710500400-1710500400@www.shellybeachgolfclub.com.au
SUMMARY:Chook Run
DESCRIPTION:
URL:https://www.shellybeachgolfclub.com.au/golf-program/chook-run-52/
LOCATION:SBGC
CATEGORIES:Mens / Mixed Club Events
END:VEVENT
BEGIN:VEVENT
DTSTART;TZID=Australia/Sydney:20240316T060000
DTEND;TZID=Australia/Sydney:20240316T060000
DTSTAMP:20260424T005936
CREATED:20230324T053156Z
LAST-MODIFIED:20230324T053204Z
UID:37516-1710568800-1710568800@www.shellybeachgolfclub.com.au
SUMMARY:Individual Stableford Men & Women's plus Men/Medley 2BBB
DESCRIPTION:
URL:https://www.shellybeachgolfclub.com.au/golf-program/individual-stableford-men-womens-plus-men-medley-2bbb-25/
LOCATION:SBGC
CATEGORIES:Mens / Mixed Club Events
END:VEVENT
BEGIN:VEVENT
DTSTART;TZID=Australia/Sydney:20240317T070000
DTEND;TZID=Australia/Sydney:20240317T070000
DTSTAMP:20260424T005936
CREATED:20230324T053325Z
LAST-MODIFIED:20230324T053333Z
UID:37520-1710658800-1710658800@www.shellybeachgolfclub.com.au
SUMMARY:SBGC Scramble
DESCRIPTION:7am and Midday Shotgun Starts
URL:https://www.shellybeachgolfclub.com.au/golf-program/sbgc-scramble-2/
LOCATION:SBGC
CATEGORIES:Mens / Mixed Club Events
END:VEVENT
BEGIN:VEVENT
DTSTART;TZID=Australia/Sydney:20240318T060000
DTEND;TZID=Australia/Sydney:20240318T060000
DTSTAMP:20260424T005936
CREATED:20230324T053645Z
LAST-MODIFIED:20230324T053655Z
UID:37524-1710741600-1710741600@www.shellybeachgolfclub.com.au
SUMMARY:Medley Individual Stableford 9 holes
DESCRIPTION:
URL:https://www.shellybeachgolfclub.com.au/golf-program/medley-individual-stableford-9-holes-5/
LOCATION:SBGC
CATEGORIES:Mens / Mixed Club Events
END:VEVENT
BEGIN:VEVENT
DTSTART;TZID=Australia/Sydney:20240319T060000
DTEND;TZID=Australia/Sydney:20240319T060000
DTSTAMP:20260424T005936
CREATED:20230324T053853Z
LAST-MODIFIED:20230324T053859Z
UID:37528-1710828000-1710828000@www.shellybeachgolfclub.com.au
SUMMARY:Medley Individual Stableford 9 holes
DESCRIPTION:
URL:https://www.shellybeachgolfclub.com.au/golf-program/medley-individual-stableford-9-holes-6/
LOCATION:SBGC
CATEGORIES:Mens / Mixed Club Events
END:VEVENT
BEGIN:VEVENT
DTSTART;TZID=Australia/Sydney:20240321T060000
DTEND;TZID=Australia/Sydney:20240321T060000
DTSTAMP:20260424T005936
CREATED:20230324T054046Z
LAST-MODIFIED:20230324T054056Z
UID:37534-1711000800-1711000800@www.shellybeachgolfclub.com.au
SUMMARY:Individual Stableford 4 Grades plus 2B Split 6's\, 1st 6 holes: 2BBB\, 2nd 6 holes: 2B Aggregate & 3rd 6 holes: 2B Multiplier
DESCRIPTION:
URL:https://www.shellybeachgolfclub.com.au/golf-program/individual-stableford-4-grades-plus-2b-split-6s-1st-6-holes-2bbb-2nd-6-holes-2b-aggregate-3rd-6-holes-2b-multiplier-6/
LOCATION:SBGC
CATEGORIES:Mens / Mixed Club Events
END:VEVENT
BEGIN:VEVENT
DTSTART;TZID=Australia/Sydney:20240322T060000
DTEND;TZID=Australia/Sydney:20240322T060000
DTSTAMP:20260424T005936
CREATED:20240226T230238Z
LAST-MODIFIED:20240226T230247Z
UID:50380-1711087200-1711087200@www.shellybeachgolfclub.com.au
SUMMARY:Greenkeepers Revenge
DESCRIPTION:
URL:https://www.shellybeachgolfclub.com.au/golf-program/greenkeepers-revenge/
LOCATION:SBGC
CATEGORIES:Mens / Mixed Club Events
END:VEVENT
BEGIN:VEVENT
DTSTART;TZID=Australia/Sydney:20240322T110000
DTEND;TZID=Australia/Sydney:20240322T110000
DTSTAMP:20260424T005936
CREATED:20230324T054149Z
LAST-MODIFIED:20230324T054157Z
UID:37538-1711105200-1711105200@www.shellybeachgolfclub.com.au
SUMMARY:Chook Run
DESCRIPTION:
URL:https://www.shellybeachgolfclub.com.au/golf-program/chook-run-53/
LOCATION:SBGC
CATEGORIES:Mens / Mixed Club Events
END:VEVENT
BEGIN:VEVENT
DTSTART;TZID=Australia/Sydney:20240323T060000
DTEND;TZID=Australia/Sydney:20240323T060000
DTSTAMP:20260424T005936
CREATED:20230324T054340Z
LAST-MODIFIED:20230324T054349Z
UID:37544-1711173600-1711173600@www.shellybeachgolfclub.com.au
SUMMARY:Individual Stableford Men & Women's plus Men/Medley 2B Aggregate
DESCRIPTION:
URL:https://www.shellybeachgolfclub.com.au/golf-program/individual-stableford-men-womens-plus-men-medley-2b-aggregate-16/
LOCATION:SBGC
CATEGORIES:Mens / Mixed Club Events
END:VEVENT
BEGIN:VEVENT
DTSTART;TZID=Australia/Sydney:20240323T060000
DTEND;TZID=Australia/Sydney:20240323T060000
DTSTAMP:20260424T005936
CREATED:20240313T044249Z
LAST-MODIFIED:20240313T044326Z
UID:51228-1711173600-1711173600@www.shellybeachgolfclub.com.au
SUMMARY:Choose your TEE Day
DESCRIPTION:
URL:https://www.shellybeachgolfclub.com.au/golf-program/choose-your-tee-day-26/
CATEGORIES:Mens / Mixed Club Events
END:VEVENT
BEGIN:VEVENT
DTSTART;TZID=Australia/Sydney:20240324T060000
DTEND;TZID=Australia/Sydney:20240324T060000
DTSTAMP:20260424T005936
CREATED:20230324T054413Z
LAST-MODIFIED:20230324T054422Z
UID:37546-1711260000-1711260000@www.shellybeachgolfclub.com.au
SUMMARY:Medley Individual Par plus Medley 2BBB
DESCRIPTION:
URL:https://www.shellybeachgolfclub.com.au/golf-program/medley-individual-par-plus-medley-2bbb-2/
LOCATION:SBGC
CATEGORIES:Mens / Mixed Club Events
END:VEVENT
BEGIN:VEVENT
DTSTART;TZID=Australia/Sydney:20240325T060000
DTEND;TZID=Australia/Sydney:20240325T060000
DTSTAMP:20260424T005936
CREATED:20230324T054443Z
LAST-MODIFIED:20230418T071141Z
UID:37548-1711346400-1711346400@www.shellybeachgolfclub.com.au
SUMMARY:Mad Monday Men’s & Women’s Individual Stableford
DESCRIPTION:
URL:https://www.shellybeachgolfclub.com.au/golf-program/mad-monday-mens-womens-individual-stableford-43/
LOCATION:SBGC
CATEGORIES:Mens / Mixed Club Events
END:VEVENT
BEGIN:VEVENT
DTSTART;TZID=Australia/Sydney:20240326T060000
DTEND;TZID=Australia/Sydney:20240326T060000
DTSTAMP:20260424T005936
CREATED:20230324T054537Z
LAST-MODIFIED:20230324T054544Z
UID:37550-1711432800-1711432800@www.shellybeachgolfclub.com.au
SUMMARY:Medley Individual Stableford 4 Grades plus Medley 2BBB
DESCRIPTION:
URL:https://www.shellybeachgolfclub.com.au/golf-program/medley-individual-stableford-4-grades-plus-medley-2bbb-27/
LOCATION:SBGC
CATEGORIES:Mens / Mixed Club Events
END:VEVENT
BEGIN:VEVENT
DTSTART;TZID=Australia/Sydney:20240328T060000
DTEND;TZID=Australia/Sydney:20240328T060000
DTSTAMP:20260424T005936
CREATED:20230324T054745Z
LAST-MODIFIED:20230324T054753Z
UID:37554-1711605600-1711605600@www.shellybeachgolfclub.com.au
SUMMARY:Individual Stableford 4 Grades plus 2BBB
DESCRIPTION:
URL:https://www.shellybeachgolfclub.com.au/golf-program/individual-stableford-4-grades-plus-2bbb-22/
LOCATION:SBGC
CATEGORIES:Mens / Mixed Club Events
END:VEVENT
BEGIN:VEVENT
DTSTART;TZID=Australia/Sydney:20240329T060000
DTEND;TZID=Australia/Sydney:20240329T060000
DTSTAMP:20260424T005936
CREATED:20230324T054937Z
LAST-MODIFIED:20230324T062507Z
UID:37556-1711692000-1711692000@www.shellybeachgolfclub.com.au
SUMMARY:Men's & Women's Individual Stableford plus Medley 2BBB
DESCRIPTION:Good Friday
URL:https://www.shellybeachgolfclub.com.au/golf-program/mens-womens-individual-stableford-plus-medley-2bbb-2/
LOCATION:SBGC
CATEGORIES:Mens / Mixed Club Events
END:VEVENT
END:VCALENDAR