BEGIN:VCALENDAR
VERSION:2.0
PRODID:-//Shelly Beach Golf Club - ECPv6.15.18//NONSGML v1.0//EN
CALSCALE:GREGORIAN
METHOD:PUBLISH
X-WR-CALNAME:Shelly Beach Golf Club
X-ORIGINAL-URL:https://www.shellybeachgolfclub.com.au
X-WR-CALDESC:Events for Shelly Beach Golf Club
REFRESH-INTERVAL;VALUE=DURATION:PT1H
X-Robots-Tag:noindex
X-PUBLISHED-TTL:PT1H
BEGIN:VTIMEZONE
TZID:Australia/Sydney
BEGIN:STANDARD
TZOFFSETFROM:+1100
TZOFFSETTO:+1000
TZNAME:AEST
DTSTART:20220402T160000
END:STANDARD
BEGIN:DAYLIGHT
TZOFFSETFROM:+1000
TZOFFSETTO:+1100
TZNAME:AEDT
DTSTART:20221001T160000
END:DAYLIGHT
BEGIN:STANDARD
TZOFFSETFROM:+1100
TZOFFSETTO:+1000
TZNAME:AEST
DTSTART:20230401T160000
END:STANDARD
BEGIN:DAYLIGHT
TZOFFSETFROM:+1000
TZOFFSETTO:+1100
TZNAME:AEDT
DTSTART:20230930T160000
END:DAYLIGHT
BEGIN:STANDARD
TZOFFSETFROM:+1100
TZOFFSETTO:+1000
TZNAME:AEST
DTSTART:20240406T160000
END:STANDARD
BEGIN:DAYLIGHT
TZOFFSETFROM:+1000
TZOFFSETTO:+1100
TZNAME:AEDT
DTSTART:20241005T160000
END:DAYLIGHT
END:VTIMEZONE
BEGIN:VEVENT
DTSTART;TZID=Australia/Sydney:20231201T060000
DTEND;TZID=Australia/Sydney:20231201T060000
DTSTAMP:20260426T001110
CREATED:20230303T041127Z
LAST-MODIFIED:20230303T041134Z
UID:37147-1701410400-1701410400@www.shellybeachgolfclub.com.au
SUMMARY:Men’s & Women’s Individual Stableford
DESCRIPTION:
URL:https://www.shellybeachgolfclub.com.au/golf-program/mens-womens-individual-stableford-37/
LOCATION:SBGC
CATEGORIES:Mens / Mixed Club Events
END:VEVENT
BEGIN:VEVENT
DTSTART;TZID=Australia/Sydney:20231201T110000
DTEND;TZID=Australia/Sydney:20231201T110000
DTSTAMP:20260426T001110
CREATED:20230303T041205Z
LAST-MODIFIED:20230303T041212Z
UID:37149-1701428400-1701428400@www.shellybeachgolfclub.com.au
SUMMARY:Chook Run
DESCRIPTION:
URL:https://www.shellybeachgolfclub.com.au/golf-program/chook-run-38/
LOCATION:SBGC
CATEGORIES:Mens / Mixed Club Events
END:VEVENT
BEGIN:VEVENT
DTSTART;TZID=Australia/Sydney:20231202T060000
DTEND;TZID=Australia/Sydney:20231202T060000
DTSTAMP:20260426T001110
CREATED:20230303T041230Z
LAST-MODIFIED:20230303T041240Z
UID:37151-1701496800-1701496800@www.shellybeachgolfclub.com.au
SUMMARY:Individual Stableford Men & Women’s plus Men/Medley 2BBB
DESCRIPTION:
URL:https://www.shellybeachgolfclub.com.au/golf-program/individual-stableford-men-womens-plus-men-medley-2bbb-18/
LOCATION:SBGC
CATEGORIES:Mens / Mixed Club Events
END:VEVENT
BEGIN:VEVENT
DTSTART;TZID=Australia/Sydney:20231203T060000
DTEND;TZID=Australia/Sydney:20231203T060000
DTSTAMP:20260426T001110
CREATED:20230303T041334Z
LAST-MODIFIED:20230303T041342Z
UID:37155-1701583200-1701583200@www.shellybeachgolfclub.com.au
SUMMARY:Individual Stroke. Men’s Monthly Medal. 3 Grades
DESCRIPTION:
URL:https://www.shellybeachgolfclub.com.au/golf-program/individual-stroke-mens-monthly-medal-3-grades-7/
LOCATION:SBGC
CATEGORIES:Mens / Mixed Club Events
END:VEVENT
BEGIN:VEVENT
DTSTART;TZID=Australia/Sydney:20231205T060000
DTEND;TZID=Australia/Sydney:20231205T060000
DTSTAMP:20260426T001110
CREATED:20230303T041633Z
LAST-MODIFIED:20230303T041640Z
UID:37163-1701756000-1701756000@www.shellybeachgolfclub.com.au
SUMMARY:Medley Individual Stableford 4 Grades plus Medley 2B Multiplier
DESCRIPTION:
URL:https://www.shellybeachgolfclub.com.au/golf-program/medley-individual-stableford-4-grades-plus-medley-2b-multiplier-3/
LOCATION:SBGC
CATEGORIES:Mens / Mixed Club Events
END:VEVENT
BEGIN:VEVENT
DTSTART;TZID=Australia/Sydney:20231207T060000
DTEND;TZID=Australia/Sydney:20231207T060000
DTSTAMP:20260426T001110
CREATED:20230303T041816Z
LAST-MODIFIED:20230303T041823Z
UID:37167-1701928800-1701928800@www.shellybeachgolfclub.com.au
SUMMARY:Individual Par 4 Grades plus 2BBB
DESCRIPTION:
URL:https://www.shellybeachgolfclub.com.au/golf-program/individual-par-4-grades-plus-2bbb/
LOCATION:SBGC
CATEGORIES:Mens / Mixed Club Events
END:VEVENT
BEGIN:VEVENT
DTSTART;TZID=Australia/Sydney:20231208T060000
DTEND;TZID=Australia/Sydney:20231208T060000
DTSTAMP:20260426T001110
CREATED:20230303T041931Z
LAST-MODIFIED:20230303T041938Z
UID:37169-1702015200-1702015200@www.shellybeachgolfclub.com.au
SUMMARY:Men’s & Women’s Individual Stableford
DESCRIPTION:
URL:https://www.shellybeachgolfclub.com.au/golf-program/mens-womens-individual-stableford-38/
LOCATION:SBGC
CATEGORIES:Mens / Mixed Club Events
END:VEVENT
BEGIN:VEVENT
DTSTART;TZID=Australia/Sydney:20231208T110000
DTEND;TZID=Australia/Sydney:20231208T110000
DTSTAMP:20260426T001110
CREATED:20230303T042004Z
LAST-MODIFIED:20230303T042013Z
UID:37171-1702033200-1702033200@www.shellybeachgolfclub.com.au
SUMMARY:Chook Run
DESCRIPTION:
URL:https://www.shellybeachgolfclub.com.au/golf-program/chook-run-39/
LOCATION:SBGC
CATEGORIES:Mens / Mixed Club Events
END:VEVENT
BEGIN:VEVENT
DTSTART;TZID=Australia/Sydney:20231209T070000
DTEND;TZID=Australia/Sydney:20231209T070000
DTSTAMP:20260426T001110
CREATED:20230303T042124Z
LAST-MODIFIED:20230303T042145Z
UID:37173-1702105200-1702105200@www.shellybeachgolfclub.com.au
SUMMARY:XMAS HAM-BROSE GALA DAY
DESCRIPTION:Men & Medley.\n7:00am & 12:00pm Shotgun starts.\nDress for the occasion.
URL:https://www.shellybeachgolfclub.com.au/golf-program/xmas-ham-brose-gala-day/
LOCATION:SBGC
CATEGORIES:Mens / Mixed Club Events
END:VEVENT
BEGIN:VEVENT
DTSTART;TZID=Australia/Sydney:20231210T060000
DTEND;TZID=Australia/Sydney:20231210T060000
DTSTAMP:20260426T001110
CREATED:20230303T042225Z
LAST-MODIFIED:20230303T042235Z
UID:37175-1702188000-1702188000@www.shellybeachgolfclub.com.au
SUMMARY:Medley Individual Stableford plus Medley 2BBB + 2BBB Scratch
DESCRIPTION:
URL:https://www.shellybeachgolfclub.com.au/golf-program/medley-individual-stableford-plus-medley-2bbb-2bbb-scratch-10/
LOCATION:SBGC
CATEGORIES:Mens / Mixed Club Events
END:VEVENT
BEGIN:VEVENT
DTSTART;TZID=Australia/Sydney:20231211T060000
DTEND;TZID=Australia/Sydney:20231211T060000
DTSTAMP:20260426T001110
CREATED:20230303T042424Z
LAST-MODIFIED:20230418T063440Z
UID:37179-1702274400-1702274400@www.shellybeachgolfclub.com.au
SUMMARY:Mad Monday Men’s & Women’s Individual Stableford
DESCRIPTION:
URL:https://www.shellybeachgolfclub.com.au/golf-program/mad-monday-mens-womens-individual-stableford-30/
LOCATION:SBGC
CATEGORIES:Mens / Mixed Club Events
END:VEVENT
BEGIN:VEVENT
DTSTART;TZID=Australia/Sydney:20231212T060000
DTEND;TZID=Australia/Sydney:20231212T060000
DTSTAMP:20260426T001110
CREATED:20230303T042506Z
LAST-MODIFIED:20230303T042514Z
UID:37181-1702360800-1702360800@www.shellybeachgolfclub.com.au
SUMMARY:Medley Individual Stableford 4 Grades plus Medley 2BBB
DESCRIPTION:
URL:https://www.shellybeachgolfclub.com.au/golf-program/medley-individual-stableford-4-grades-plus-medley-2bbb-21/
LOCATION:SBGC
CATEGORIES:Mens / Mixed Club Events
END:VEVENT
BEGIN:VEVENT
DTSTART;TZID=Australia/Sydney:20231214T060000
DTEND;TZID=Australia/Sydney:20231214T060000
DTSTAMP:20260426T001110
CREATED:20230303T042632Z
LAST-MODIFIED:20230303T042642Z
UID:37185-1702533600-1702533600@www.shellybeachgolfclub.com.au
SUMMARY:Individual Stableford 4 Grades plus 2B Aggregate
DESCRIPTION:
URL:https://www.shellybeachgolfclub.com.au/golf-program/individual-stableford-4-grades-plus-2b-aggregate-8/
LOCATION:SBGC
CATEGORIES:Mens / Mixed Club Events
END:VEVENT
BEGIN:VEVENT
DTSTART;TZID=Australia/Sydney:20231215T060000
DTEND;TZID=Australia/Sydney:20231215T060000
DTSTAMP:20260426T001110
CREATED:20230303T042711Z
LAST-MODIFIED:20231201T030935Z
UID:37187-1702620000-1702620000@www.shellybeachgolfclub.com.au
SUMMARY:Green keepers Revenge Day
DESCRIPTION:
URL:https://www.shellybeachgolfclub.com.au/golf-program/greenkeepersrevengeday/
LOCATION:SBGC
CATEGORIES:Mens / Mixed Club Events
END:VEVENT
BEGIN:VEVENT
DTSTART;TZID=Australia/Sydney:20231215T110000
DTEND;TZID=Australia/Sydney:20231215T110000
DTSTAMP:20260426T001110
CREATED:20230303T042755Z
LAST-MODIFIED:20230303T042812Z
UID:37189-1702638000-1702638000@www.shellybeachgolfclub.com.au
SUMMARY:Chook Run
DESCRIPTION:
URL:https://www.shellybeachgolfclub.com.au/golf-program/chook-run-40/
LOCATION:SBGC
CATEGORIES:Mens / Mixed Club Events
END:VEVENT
BEGIN:VEVENT
DTSTART;TZID=Australia/Sydney:20231216T060000
DTEND;TZID=Australia/Sydney:20231216T060000
DTSTAMP:20260426T001110
CREATED:20230303T042838Z
LAST-MODIFIED:20230303T042848Z
UID:37191-1702706400-1702706400@www.shellybeachgolfclub.com.au
SUMMARY:Individual Stableford Men & Women’s plus Men/Medley 2B Multiplier
DESCRIPTION:
URL:https://www.shellybeachgolfclub.com.au/golf-program/individual-stableford-men-womens-plus-men-medley-2b-multiplier-5/
LOCATION:SBGC
CATEGORIES:Mens / Mixed Club Events
END:VEVENT
BEGIN:VEVENT
DTSTART;TZID=Australia/Sydney:20231217T060000
DTEND;TZID=Australia/Sydney:20231217T060000
DTSTAMP:20260426T001110
CREATED:20230303T042941Z
LAST-MODIFIED:20230303T042948Z
UID:37195-1702792800-1702792800@www.shellybeachgolfclub.com.au
SUMMARY:Medley Individual Stableford plus Medley 2B Aggregate
DESCRIPTION:
URL:https://www.shellybeachgolfclub.com.au/golf-program/medley-individual-stableford-plus-medley-2b-aggregate-6/
LOCATION:SBGC
CATEGORIES:Mens / Mixed Club Events
END:VEVENT
BEGIN:VEVENT
DTSTART;TZID=Australia/Sydney:20231218T060000
DTEND;TZID=Australia/Sydney:20231218T060000
DTSTAMP:20260426T001110
CREATED:20230303T043046Z
LAST-MODIFIED:20230418T063456Z
UID:37197-1702879200-1702879200@www.shellybeachgolfclub.com.au
SUMMARY:Mad Monday Men’s & Women’s Individual Stableford
DESCRIPTION:
URL:https://www.shellybeachgolfclub.com.au/golf-program/mad-monday-mens-womens-individual-stableford-31/
LOCATION:SBGC
CATEGORIES:Mens / Mixed Club Events
END:VEVENT
BEGIN:VEVENT
DTSTART;TZID=Australia/Sydney:20231219T060000
DTEND;TZID=Australia/Sydney:20231219T060000
DTSTAMP:20260426T001110
CREATED:20230303T043129Z
LAST-MODIFIED:20230303T043138Z
UID:37199-1702965600-1702965600@www.shellybeachgolfclub.com.au
SUMMARY:Medley Individual Stableford 4 Grades plus Medley 2B Split 6’s\, 1st 6 holes: 2BBB\, 2nd 6 holes: 2B Aggregate & 3rd 6 holes: 2B Multiplier
DESCRIPTION:
URL:https://www.shellybeachgolfclub.com.au/golf-program/medley-individual-stableford-4-grades-plus-medley-2b-split-6s-1st-6-holes-2bbb-2nd-6-holes-2b-aggregate-3rd-6-holes-2b-multiplier-3/
LOCATION:SBGC
CATEGORIES:Mens / Mixed Club Events
END:VEVENT
BEGIN:VEVENT
DTSTART;TZID=Australia/Sydney:20231221T060000
DTEND;TZID=Australia/Sydney:20231221T060000
DTSTAMP:20260426T001110
CREATED:20230303T043336Z
LAST-MODIFIED:20230303T043345Z
UID:37203-1703138400-1703138400@www.shellybeachgolfclub.com.au
SUMMARY:Individual Stableford. Monthly Mug. 4 Grades 1st\, 2nd\, 3rd & 4th Nett plus Overall Scratch
DESCRIPTION:
URL:https://www.shellybeachgolfclub.com.au/golf-program/individual-stableford-monthly-mug-4-grades-1st-2nd-3rd-4th-nett-plus-overall-scratch-10/
LOCATION:SBGC
CATEGORIES:Mens / Mixed Club Events
END:VEVENT
BEGIN:VEVENT
DTSTART;TZID=Australia/Sydney:20231222T060000
DTEND;TZID=Australia/Sydney:20231222T060000
DTSTAMP:20260426T001110
CREATED:20230303T043409Z
LAST-MODIFIED:20230303T043418Z
UID:37205-1703224800-1703224800@www.shellybeachgolfclub.com.au
SUMMARY:Men’s & Women’s Individual Stableford
DESCRIPTION:
URL:https://www.shellybeachgolfclub.com.au/golf-program/mens-womens-individual-stableford-40/
LOCATION:SBGC
CATEGORIES:Mens / Mixed Club Events
END:VEVENT
BEGIN:VEVENT
DTSTART;TZID=Australia/Sydney:20231222T110000
DTEND;TZID=Australia/Sydney:20231222T110000
DTSTAMP:20260426T001110
CREATED:20230303T043508Z
LAST-MODIFIED:20230303T043517Z
UID:37207-1703242800-1703242800@www.shellybeachgolfclub.com.au
SUMMARY:Chook Run
DESCRIPTION:
URL:https://www.shellybeachgolfclub.com.au/golf-program/chook-run-41/
LOCATION:SBGC
CATEGORIES:Mens / Mixed Club Events
END:VEVENT
BEGIN:VEVENT
DTSTART;TZID=Australia/Sydney:20231223T060000
DTEND;TZID=Australia/Sydney:20231223T060000
DTSTAMP:20260426T001110
CREATED:20230303T043550Z
LAST-MODIFIED:20230303T043558Z
UID:37209-1703311200-1703311200@www.shellybeachgolfclub.com.au
SUMMARY:Individual Stableford Men & Women’s plus Men/Medley 2B Split 6’s\, 1st 6 holes: 2BBB\, 2nd 6 holes: 2B Aggregate & 3rd 6 holes: 2B Multiplier
DESCRIPTION:
URL:https://www.shellybeachgolfclub.com.au/golf-program/individual-stableford-men-womens-plus-men-medley-2b-split-6s-1st-6-holes-2bbb-2nd-6-holes-2b-aggregate-3rd-6-holes-2b-multiplier/
LOCATION:SBGC
CATEGORIES:Mens / Mixed Club Events
END:VEVENT
BEGIN:VEVENT
DTSTART;TZID=Australia/Sydney:20231224T060000
DTEND;TZID=Australia/Sydney:20231224T060000
DTSTAMP:20260426T001110
CREATED:20230303T043625Z
LAST-MODIFIED:20230303T043632Z
UID:37211-1703397600-1703397600@www.shellybeachgolfclub.com.au
SUMMARY:Medley Individual Stableford plus Medley 2BBB
DESCRIPTION:
URL:https://www.shellybeachgolfclub.com.au/golf-program/medley-individual-stableford-plus-medley-2bbb-5/
LOCATION:SBGC
CATEGORIES:Mens / Mixed Club Events
END:VEVENT
BEGIN:VEVENT
DTSTART;TZID=Australia/Sydney:20231226T060000
DTEND;TZID=Australia/Sydney:20231226T060000
DTSTAMP:20260426T001110
CREATED:20230303T044359Z
LAST-MODIFIED:20230303T044406Z
UID:37215-1703570400-1703570400@www.shellybeachgolfclub.com.au
SUMMARY:Men’s & Women’s Individual Stableford plus Medley 2B Aggregate
DESCRIPTION:
URL:https://www.shellybeachgolfclub.com.au/golf-program/mens-womens-individual-stableford-plus-medley-2b-aggregate-2/
LOCATION:SBGC
CATEGORIES:Mens / Mixed Club Events
END:VEVENT
BEGIN:VEVENT
DTSTART;TZID=Australia/Sydney:20231228T060000
DTEND;TZID=Australia/Sydney:20231228T060000
DTSTAMP:20260426T001110
CREATED:20230303T044513Z
LAST-MODIFIED:20230303T044521Z
UID:37219-1703743200-1703743200@www.shellybeachgolfclub.com.au
SUMMARY:Individual Stableford 4 Grades plus 2BBB
DESCRIPTION:
URL:https://www.shellybeachgolfclub.com.au/golf-program/individual-stableford-4-grades-plus-2bbb-17/
LOCATION:SBGC
CATEGORIES:Mens / Mixed Club Events
END:VEVENT
BEGIN:VEVENT
DTSTART;TZID=Australia/Sydney:20231229T060000
DTEND;TZID=Australia/Sydney:20231229T060000
DTSTAMP:20260426T001110
CREATED:20230303T044556Z
LAST-MODIFIED:20230303T044603Z
UID:37221-1703829600-1703829600@www.shellybeachgolfclub.com.au
SUMMARY:Men’s & Women’s Individual Stableford
DESCRIPTION:
URL:https://www.shellybeachgolfclub.com.au/golf-program/mens-womens-individual-stableford-41/
LOCATION:SBGC
CATEGORIES:Mens / Mixed Club Events
END:VEVENT
BEGIN:VEVENT
DTSTART;TZID=Australia/Sydney:20231229T060000
DTEND;TZID=Australia/Sydney:20231229T060000
DTSTAMP:20260426T001110
CREATED:20230303T044714Z
LAST-MODIFIED:20230303T044723Z
UID:37225-1703829600-1703829600@www.shellybeachgolfclub.com.au
SUMMARY:Choose Your TEE Day
DESCRIPTION:
URL:https://www.shellybeachgolfclub.com.au/golf-program/choose-your-tee-day-12/
LOCATION:SBGC
CATEGORIES:Mens / Mixed Club Events
END:VEVENT
BEGIN:VEVENT
DTSTART;TZID=Australia/Sydney:20231229T110000
DTEND;TZID=Australia/Sydney:20231229T110000
DTSTAMP:20260426T001110
CREATED:20230303T044638Z
LAST-MODIFIED:20230303T044649Z
UID:37223-1703847600-1703847600@www.shellybeachgolfclub.com.au
SUMMARY:Chook Run
DESCRIPTION:
URL:https://www.shellybeachgolfclub.com.au/golf-program/chook-run-42/
LOCATION:SBGC
CATEGORIES:Mens / Mixed Club Events
END:VEVENT
BEGIN:VEVENT
DTSTART;TZID=Australia/Sydney:20231230T060000
DTEND;TZID=Australia/Sydney:20231230T060000
DTSTAMP:20260426T001110
CREATED:20230303T044751Z
LAST-MODIFIED:20230303T044820Z
UID:37227-1703916000-1703916000@www.shellybeachgolfclub.com.au
SUMMARY:Individual Stableford Men & Women’s plus Men/Medley 2BBB
DESCRIPTION:
URL:https://www.shellybeachgolfclub.com.au/golf-program/individual-stableford-men-womens-plus-men-medley-2bbb-19/
LOCATION:SBGC
CATEGORIES:Mens / Mixed Club Events
END:VEVENT
END:VCALENDAR