BEGIN:VCALENDAR
VERSION:2.0
PRODID:-//Shelly Beach Golf Club - ECPv6.15.18//NONSGML v1.0//EN
CALSCALE:GREGORIAN
METHOD:PUBLISH
X-WR-CALNAME:Shelly Beach Golf Club
X-ORIGINAL-URL:https://www.shellybeachgolfclub.com.au
X-WR-CALDESC:Events for Shelly Beach Golf Club
REFRESH-INTERVAL;VALUE=DURATION:PT1H
X-Robots-Tag:noindex
X-PUBLISHED-TTL:PT1H
BEGIN:VTIMEZONE
TZID:Australia/Sydney
BEGIN:STANDARD
TZOFFSETFROM:+1100
TZOFFSETTO:+1000
TZNAME:AEST
DTSTART:20220402T160000
END:STANDARD
BEGIN:DAYLIGHT
TZOFFSETFROM:+1000
TZOFFSETTO:+1100
TZNAME:AEDT
DTSTART:20221001T160000
END:DAYLIGHT
BEGIN:STANDARD
TZOFFSETFROM:+1100
TZOFFSETTO:+1000
TZNAME:AEST
DTSTART:20230401T160000
END:STANDARD
BEGIN:DAYLIGHT
TZOFFSETFROM:+1000
TZOFFSETTO:+1100
TZNAME:AEDT
DTSTART:20230930T160000
END:DAYLIGHT
BEGIN:STANDARD
TZOFFSETFROM:+1100
TZOFFSETTO:+1000
TZNAME:AEST
DTSTART:20240406T160000
END:STANDARD
BEGIN:DAYLIGHT
TZOFFSETFROM:+1000
TZOFFSETTO:+1100
TZNAME:AEDT
DTSTART:20241005T160000
END:DAYLIGHT
END:VTIMEZONE
BEGIN:VEVENT
DTSTART;TZID=Australia/Sydney:20230901T060000
DTEND;TZID=Australia/Sydney:20230901T060000
DTSTAMP:20260426T052420
CREATED:20230303T004854Z
LAST-MODIFIED:20230303T004903Z
UID:36862-1693548000-1693548000@www.shellybeachgolfclub.com.au
SUMMARY:Men’s & Women’s Individual Stableford
DESCRIPTION:
URL:https://www.shellybeachgolfclub.com.au/golf-program/mens-womens-individual-stableford-25/
LOCATION:SBGC
CATEGORIES:Mens / Mixed Club Events
END:VEVENT
BEGIN:VEVENT
DTSTART;TZID=Australia/Sydney:20230901T110000
DTEND;TZID=Australia/Sydney:20230901T110000
DTSTAMP:20260426T052420
CREATED:20230303T004930Z
LAST-MODIFIED:20230303T004939Z
UID:36864-1693566000-1693566000@www.shellybeachgolfclub.com.au
SUMMARY:Chook Run
DESCRIPTION:
URL:https://www.shellybeachgolfclub.com.au/golf-program/chook-run-26/
LOCATION:SBGC
CATEGORIES:Mens / Mixed Club Events
END:VEVENT
BEGIN:VEVENT
DTSTART;TZID=Australia/Sydney:20230902T060000
DTEND;TZID=Australia/Sydney:20230902T060000
DTSTAMP:20260426T052420
CREATED:20230303T005222Z
LAST-MODIFIED:20230303T005230Z
UID:36868-1693634400-1693634400@www.shellybeachgolfclub.com.au
SUMMARY:Individual Stableford Men & Women’s plus Men/Medley 2BBB
DESCRIPTION:
URL:https://www.shellybeachgolfclub.com.au/golf-program/individual-stableford-men-womens-plus-men-medley-2bbb-12/
LOCATION:SBGC
CATEGORIES:Mens / Mixed Club Events
END:VEVENT
BEGIN:VEVENT
DTSTART;TZID=Australia/Sydney:20230903T060000
DTEND;TZID=Australia/Sydney:20230903T060000
DTSTAMP:20260426T052420
CREATED:20230303T005438Z
LAST-MODIFIED:20230307T045121Z
UID:36872-1693720800-1693720800@www.shellybeachgolfclub.com.au
SUMMARY:Individual Stroke
DESCRIPTION:Men’s Monthly Medal. 3 Grades
URL:https://www.shellybeachgolfclub.com.au/golf-program/individual-stroke/
LOCATION:SBGC
CATEGORIES:Mens / Mixed Club Events
END:VEVENT
BEGIN:VEVENT
DTSTART;TZID=Australia/Sydney:20230904T060000
DTEND;TZID=Australia/Sydney:20230904T060000
DTSTAMP:20260426T052420
CREATED:20230303T005714Z
LAST-MODIFIED:20230418T063049Z
UID:36878-1693807200-1693807200@www.shellybeachgolfclub.com.au
SUMMARY:Mad Monday Men’s & Women’s Individual Stableford
DESCRIPTION:
URL:https://www.shellybeachgolfclub.com.au/golf-program/mad-monday-mens-womens-individual-stableford-18/
LOCATION:SBGC
CATEGORIES:Mens / Mixed Club Events
END:VEVENT
BEGIN:VEVENT
DTSTART;TZID=Australia/Sydney:20230905T060000
DTEND;TZID=Australia/Sydney:20230905T060000
DTSTAMP:20260426T052420
CREATED:20230303T005951Z
LAST-MODIFIED:20230303T005958Z
UID:36880-1693893600-1693893600@www.shellybeachgolfclub.com.au
SUMMARY:Medley Individual Stableford 4 Grades plus Medley 2B Aggregate
DESCRIPTION:
URL:https://www.shellybeachgolfclub.com.au/golf-program/medley-individual-stableford-4-grades-plus-medley-2b-aggregate-7/
LOCATION:SBGC
CATEGORIES:Mens / Mixed Club Events
END:VEVENT
BEGIN:VEVENT
DTSTART;TZID=Australia/Sydney:20230907T060000
DTEND;TZID=Australia/Sydney:20230907T060000
DTSTAMP:20260426T052420
CREATED:20230303T010112Z
LAST-MODIFIED:20230303T010125Z
UID:36884-1694066400-1694066400@www.shellybeachgolfclub.com.au
SUMMARY:Individual Stableford 4 Grades plus 2B Split 6’s\, 1st 6 holes: 2BBB\, 2nd 6 holes: 2B Aggregate & 3rd 6 holes: 2B Multiplier
DESCRIPTION:
URL:https://www.shellybeachgolfclub.com.au/golf-program/individual-stableford-4-grades-plus-2b-split-6s-1st-6-holes-2bbb-2nd-6-holes-2b-aggregate-3rd-6-holes-2b-multiplier-4/
LOCATION:SBGC
CATEGORIES:Mens / Mixed Club Events
END:VEVENT
BEGIN:VEVENT
DTSTART;TZID=Australia/Sydney:20230908T060000
DTEND;TZID=Australia/Sydney:20230908T060000
DTSTAMP:20260426T052420
CREATED:20230303T010156Z
LAST-MODIFIED:20230303T010204Z
UID:36886-1694152800-1694152800@www.shellybeachgolfclub.com.au
SUMMARY:Men’s & Women’s Individual Stableford
DESCRIPTION:
URL:https://www.shellybeachgolfclub.com.au/golf-program/mens-womens-individual-stableford-26/
LOCATION:SBGC
CATEGORIES:Mens / Mixed Club Events
END:VEVENT
BEGIN:VEVENT
DTSTART;TZID=Australia/Sydney:20230908T110000
DTEND;TZID=Australia/Sydney:20230908T110000
DTSTAMP:20260426T052420
CREATED:20231205T011934Z
LAST-MODIFIED:20231205T011956Z
UID:46993-1694170800-1694170800@www.shellybeachgolfclub.com.au
SUMMARY:Chook Run
DESCRIPTION:
URL:https://www.shellybeachgolfclub.com.au/golf-program/chook-run-76/
CATEGORIES:Mens / Mixed Club Events
END:VEVENT
BEGIN:VEVENT
DTSTART;TZID=Australia/Sydney:20230908T110000
DTEND;TZID=Australia/Sydney:20230908T110000
DTSTAMP:20260426T052420
CREATED:20230303T010238Z
LAST-MODIFIED:20230303T010246Z
UID:36888-1694170800-1694170800@www.shellybeachgolfclub.com.au
SUMMARY:Chook Run
DESCRIPTION:
URL:https://www.shellybeachgolfclub.com.au/golf-program/chook-run-27/
LOCATION:SBGC
CATEGORIES:Mens / Mixed Club Events
END:VEVENT
BEGIN:VEVENT
DTSTART;TZID=Australia/Sydney:20230909T060000
DTEND;TZID=Australia/Sydney:20230909T060000
DTSTAMP:20260426T052420
CREATED:20230303T010353Z
LAST-MODIFIED:20230303T010406Z
UID:36892-1694239200-1694239200@www.shellybeachgolfclub.com.au
SUMMARY:Individual Stableford Men & Women’s plus Men/ Medley 2B Aggregate
DESCRIPTION:
URL:https://www.shellybeachgolfclub.com.au/golf-program/individual-stableford-men-womens-plus-men-medley-2b-aggregate-10/
LOCATION:SBGC
CATEGORIES:Mens / Mixed Club Events
END:VEVENT
BEGIN:VEVENT
DTSTART;TZID=Australia/Sydney:20230910T060000
DTEND;TZID=Australia/Sydney:20230910T060000
DTSTAMP:20260426T052420
CREATED:20230303T010529Z
LAST-MODIFIED:20230303T010539Z
UID:36896-1694325600-1694325600@www.shellybeachgolfclub.com.au
SUMMARY:Medley Individual Stableford plus Medley 2BBB + 2BBB Scratch
DESCRIPTION:
URL:https://www.shellybeachgolfclub.com.au/golf-program/medley-individual-stableford-plus-medley-2bbb-2bbb-scratch-7/
LOCATION:SBGC
CATEGORIES:Mens / Mixed Club Events
END:VEVENT
BEGIN:VEVENT
DTSTART;TZID=Australia/Sydney:20230911T060000
DTEND;TZID=Australia/Sydney:20230911T060000
DTSTAMP:20260426T052420
CREATED:20230303T010607Z
LAST-MODIFIED:20230418T063042Z
UID:36898-1694412000-1694412000@www.shellybeachgolfclub.com.au
SUMMARY:Mad Monday Men’s & Women’s Individual Stableford
DESCRIPTION:
URL:https://www.shellybeachgolfclub.com.au/golf-program/mad-monday-mens-womens-individual-stableford-17/
LOCATION:SBGC
CATEGORIES:Mens / Mixed Club Events
END:VEVENT
BEGIN:VEVENT
DTSTART;TZID=Australia/Sydney:20230912T060000
DTEND;TZID=Australia/Sydney:20230912T060000
DTSTAMP:20260426T052420
CREATED:20230303T010658Z
LAST-MODIFIED:20230303T010705Z
UID:36900-1694498400-1694498400@www.shellybeachgolfclub.com.au
SUMMARY:Medley Individual Stableford 4 Grades plus Medley 2BBB
DESCRIPTION:
URL:https://www.shellybeachgolfclub.com.au/golf-program/medley-individual-stableford-4-grades-plus-medley-2bbb-14/
LOCATION:SBGC
CATEGORIES:Mens / Mixed Club Events
END:VEVENT
BEGIN:VEVENT
DTSTART;TZID=Australia/Sydney:20230914T060000
DTEND;TZID=Australia/Sydney:20230914T060000
DTSTAMP:20260426T052420
CREATED:20230303T010817Z
LAST-MODIFIED:20230303T010830Z
UID:36904-1694671200-1694671200@www.shellybeachgolfclub.com.au
SUMMARY:Individual Stableford 4 Grades plus 2BBB
DESCRIPTION:
URL:https://www.shellybeachgolfclub.com.au/golf-program/individual-stableford-4-grades-plus-2bbb-12/
LOCATION:SBGC
CATEGORIES:Mens / Mixed Club Events
END:VEVENT
BEGIN:VEVENT
DTSTART;TZID=Australia/Sydney:20230915T060000
DTEND;TZID=Australia/Sydney:20230915T060000
DTSTAMP:20260426T052420
CREATED:20230303T012007Z
LAST-MODIFIED:20230330T020815Z
UID:36930-1694757600-1694757600@www.shellybeachgolfclub.com.au
SUMMARY:Choose Your TEE Day
DESCRIPTION:
URL:https://www.shellybeachgolfclub.com.au/golf-program/choose-your-tee-day-9/
LOCATION:SBGC
CATEGORIES:Mens / Mixed Club Events
END:VEVENT
BEGIN:VEVENT
DTSTART;TZID=Australia/Sydney:20230915T060000
DTEND;TZID=Australia/Sydney:20230915T060000
DTSTAMP:20260426T052420
CREATED:20230303T010901Z
LAST-MODIFIED:20230303T010912Z
UID:36906-1694757600-1694757600@www.shellybeachgolfclub.com.au
SUMMARY:Men’s & Women’s Individual Stableford
DESCRIPTION:
URL:https://www.shellybeachgolfclub.com.au/golf-program/mens-womens-individual-stableford-27/
LOCATION:SBGC
CATEGORIES:Mens / Mixed Club Events
END:VEVENT
BEGIN:VEVENT
DTSTART;TZID=Australia/Sydney:20230915T110000
DTEND;TZID=Australia/Sydney:20230915T110000
DTSTAMP:20260426T052420
CREATED:20230303T010939Z
LAST-MODIFIED:20230303T010947Z
UID:36908-1694775600-1694775600@www.shellybeachgolfclub.com.au
SUMMARY:Chook Run
DESCRIPTION:
URL:https://www.shellybeachgolfclub.com.au/golf-program/chook-run-28/
LOCATION:SBGC
CATEGORIES:Mens / Mixed Club Events
END:VEVENT
BEGIN:VEVENT
DTSTART;TZID=Australia/Sydney:20230916T060000
DTEND;TZID=Australia/Sydney:20230916T060000
DTSTAMP:20260426T052420
CREATED:20230303T011348Z
LAST-MODIFIED:20230303T011358Z
UID:36910-1694844000-1694844000@www.shellybeachgolfclub.com.au
SUMMARY:Individual Stableford Men & Women’s plus Men/Medley 2BBB
DESCRIPTION:
URL:https://www.shellybeachgolfclub.com.au/golf-program/individual-stableford-men-womens-plus-men-medley-2bbb-13/
LOCATION:SBGC
CATEGORIES:Mens / Mixed Club Events
END:VEVENT
BEGIN:VEVENT
DTSTART;TZID=Australia/Sydney:20230917T060000
DTEND;TZID=Australia/Sydney:20230917T060000
DTSTAMP:20260426T052420
CREATED:20230303T011421Z
LAST-MODIFIED:20230303T011429Z
UID:36912-1694930400-1694930400@www.shellybeachgolfclub.com.au
SUMMARY:Medley Individual Stableford plus Medley 2B Aggregate
DESCRIPTION:
URL:https://www.shellybeachgolfclub.com.au/golf-program/medley-individual-stableford-plus-medley-2b-aggregate-3/
LOCATION:SBGC
CATEGORIES:Mens / Mixed Club Events
END:VEVENT
BEGIN:VEVENT
DTSTART;TZID=Australia/Sydney:20230918T060000
DTEND;TZID=Australia/Sydney:20230918T060000
DTSTAMP:20260426T052420
CREATED:20230303T011638Z
LAST-MODIFIED:20230418T063110Z
UID:36918-1695016800-1695016800@www.shellybeachgolfclub.com.au
SUMMARY:Mad Monday Men’s & Women’s Individual Stableford
DESCRIPTION:
URL:https://www.shellybeachgolfclub.com.au/golf-program/mad-monday-mens-womens-individual-stableford-19/
LOCATION:SBGC
CATEGORIES:Mens / Mixed Club Events
END:VEVENT
BEGIN:VEVENT
DTSTART;TZID=Australia/Sydney:20230919T060000
DTEND;TZID=Australia/Sydney:20230919T060000
DTSTAMP:20260426T052420
CREATED:20230303T011710Z
LAST-MODIFIED:20230303T011719Z
UID:36920-1695103200-1695103200@www.shellybeachgolfclub.com.au
SUMMARY:Medley Individual Stableford 4 Grades plus Medley 2B Aggregate
DESCRIPTION:
URL:https://www.shellybeachgolfclub.com.au/golf-program/medley-individual-stableford-4-grades-plus-medley-2b-aggregate-8/
LOCATION:SBGC
CATEGORIES:Mens / Mixed Club Events
END:VEVENT
BEGIN:VEVENT
DTSTART;TZID=Australia/Sydney:20230921T060000
DTEND;TZID=Australia/Sydney:20230921T060000
DTSTAMP:20260426T052420
CREATED:20230303T011821Z
LAST-MODIFIED:20230303T011830Z
UID:36924-1695276000-1695276000@www.shellybeachgolfclub.com.au
SUMMARY:Individual Stableford 4 Grades plus 2B Multiplier
DESCRIPTION:
URL:https://www.shellybeachgolfclub.com.au/golf-program/individual-stableford-4-grades-plus-2b-multiplier-4/
LOCATION:SBGC
CATEGORIES:Mens / Mixed Club Events
END:VEVENT
BEGIN:VEVENT
DTSTART;TZID=Australia/Sydney:20230922T130000
DTEND;TZID=Australia/Sydney:20230922T130000
DTSTAMP:20260426T052420
CREATED:20230303T011930Z
LAST-MODIFIED:20230330T021314Z
UID:36928-1695387600-1695387600@www.shellybeachgolfclub.com.au
SUMMARY:Chook Run
DESCRIPTION:
URL:https://www.shellybeachgolfclub.com.au/golf-program/chook-run-29/
LOCATION:SBGC
CATEGORIES:Mens / Mixed Club Events
END:VEVENT
BEGIN:VEVENT
DTSTART;TZID=Australia/Sydney:20230923T060000
DTEND;TZID=Australia/Sydney:20230923T060000
DTSTAMP:20260426T052420
CREATED:20230303T012050Z
LAST-MODIFIED:20230303T012058Z
UID:36932-1695448800-1695448800@www.shellybeachgolfclub.com.au
SUMMARY:Individual Stableford Men & Women’s plus Men/Medley 2B Aggregate
DESCRIPTION:
URL:https://www.shellybeachgolfclub.com.au/golf-program/individual-stableford-men-womens-plus-men-medley-2b-aggregate-11/
LOCATION:SBGC
CATEGORIES:Mens / Mixed Club Events
END:VEVENT
BEGIN:VEVENT
DTSTART;TZID=Australia/Sydney:20230923T060000
DTEND;TZID=Australia/Sydney:20230923T060000
DTSTAMP:20260426T052420
CREATED:20230303T012133Z
LAST-MODIFIED:20230303T012141Z
UID:36934-1695448800-1695448800@www.shellybeachgolfclub.com.au
SUMMARY:Medley Matchplay Quarter Final
DESCRIPTION:
URL:https://www.shellybeachgolfclub.com.au/golf-program/medley-matchplay-quarter-final/
LOCATION:SBGC
CATEGORIES:Mens / Mixed Club Events
END:VEVENT
BEGIN:VEVENT
DTSTART;TZID=Australia/Sydney:20230924T060000
DTEND;TZID=Australia/Sydney:20230924T060000
DTSTAMP:20260426T052420
CREATED:20230303T012201Z
LAST-MODIFIED:20230303T012208Z
UID:36936-1695535200-1695535200@www.shellybeachgolfclub.com.au
SUMMARY:Medley Individual Par plus Medley 2BBB
DESCRIPTION:
URL:https://www.shellybeachgolfclub.com.au/golf-program/medley-individual-par-plus-medley-2bbb/
LOCATION:SBGC
CATEGORIES:Mens / Mixed Club Events
END:VEVENT
BEGIN:VEVENT
DTSTART;TZID=Australia/Sydney:20230925T060000
DTEND;TZID=Australia/Sydney:20230925T060000
DTSTAMP:20260426T052420
CREATED:20230303T012243Z
LAST-MODIFIED:20230418T063128Z
UID:36938-1695621600-1695621600@www.shellybeachgolfclub.com.au
SUMMARY:Mad Monday Men’s & Women’s Individual Stableford
DESCRIPTION:
URL:https://www.shellybeachgolfclub.com.au/golf-program/mad-monday-mens-womens-individual-stableford-20/
LOCATION:SBGC
CATEGORIES:Mens / Mixed Club Events
END:VEVENT
BEGIN:VEVENT
DTSTART;TZID=Australia/Sydney:20230926T060000
DTEND;TZID=Australia/Sydney:20230926T060000
DTSTAMP:20260426T052420
CREATED:20230303T012328Z
LAST-MODIFIED:20230303T012336Z
UID:36940-1695708000-1695708000@www.shellybeachgolfclub.com.au
SUMMARY:Medley Individual Stableford 4 Grades plus Medley 2BBB
DESCRIPTION:
URL:https://www.shellybeachgolfclub.com.au/golf-program/medley-individual-stableford-4-grades-plus-medley-2bbb-15/
LOCATION:SBGC
CATEGORIES:Mens / Mixed Club Events
END:VEVENT
BEGIN:VEVENT
DTSTART;TZID=Australia/Sydney:20230928T060000
DTEND;TZID=Australia/Sydney:20230928T060000
DTSTAMP:20260426T052420
CREATED:20230303T013653Z
LAST-MODIFIED:20230303T013701Z
UID:36944-1695880800-1695880800@www.shellybeachgolfclub.com.au
SUMMARY:Individual Stableford. Monthly Mug. 4 Grades 1st\, 2nd\, 3rd & 4th Nett plus Overall Scratch
DESCRIPTION:
URL:https://www.shellybeachgolfclub.com.au/golf-program/individual-stableford-monthly-mug-4-grades-1st-2nd-3rd-4th-nett-plus-overall-scratch-7/
LOCATION:SBGC
CATEGORIES:Mens / Mixed Club Events
END:VEVENT
END:VCALENDAR