BEGIN:VCALENDAR
VERSION:2.0
PRODID:-//Shelly Beach Golf Club - ECPv6.15.18//NONSGML v1.0//EN
CALSCALE:GREGORIAN
METHOD:PUBLISH
X-WR-CALNAME:Shelly Beach Golf Club
X-ORIGINAL-URL:https://www.shellybeachgolfclub.com.au
X-WR-CALDESC:Events for Shelly Beach Golf Club
REFRESH-INTERVAL;VALUE=DURATION:PT1H
X-Robots-Tag:noindex
X-PUBLISHED-TTL:PT1H
BEGIN:VTIMEZONE
TZID:Australia/Sydney
BEGIN:STANDARD
TZOFFSETFROM:+1100
TZOFFSETTO:+1000
TZNAME:AEST
DTSTART:20220402T160000
END:STANDARD
BEGIN:DAYLIGHT
TZOFFSETFROM:+1000
TZOFFSETTO:+1100
TZNAME:AEDT
DTSTART:20221001T160000
END:DAYLIGHT
BEGIN:STANDARD
TZOFFSETFROM:+1100
TZOFFSETTO:+1000
TZNAME:AEST
DTSTART:20230401T160000
END:STANDARD
BEGIN:DAYLIGHT
TZOFFSETFROM:+1000
TZOFFSETTO:+1100
TZNAME:AEDT
DTSTART:20230930T160000
END:DAYLIGHT
BEGIN:STANDARD
TZOFFSETFROM:+1100
TZOFFSETTO:+1000
TZNAME:AEST
DTSTART:20240406T160000
END:STANDARD
BEGIN:DAYLIGHT
TZOFFSETFROM:+1000
TZOFFSETTO:+1100
TZNAME:AEDT
DTSTART:20241005T160000
END:DAYLIGHT
END:VTIMEZONE
BEGIN:VEVENT
DTSTART;TZID=Australia/Sydney:20230701T060000
DTEND;TZID=Australia/Sydney:20230701T060000
DTSTAMP:20260426T085437
CREATED:20230302T233208Z
LAST-MODIFIED:20230302T233217Z
UID:36678-1688191200-1688191200@www.shellybeachgolfclub.com.au
SUMMARY:Individual Stableford Men & Women’s plus Men/Medley 2BBB
DESCRIPTION:
URL:https://www.shellybeachgolfclub.com.au/golf-program/individual-stableford-men-womens-plus-men-medley-2bbb-8/
LOCATION:SBGC
CATEGORIES:Mens / Mixed Club Events
END:VEVENT
BEGIN:VEVENT
DTSTART;TZID=Australia/Sydney:20230702T060000
DTEND;TZID=Australia/Sydney:20230702T060000
DTSTAMP:20260426T085437
CREATED:20230302T233327Z
LAST-MODIFIED:20230302T233343Z
UID:36682-1688277600-1688277600@www.shellybeachgolfclub.com.au
SUMMARY:Individual Stroke. Men’s Monthly Medal. 3 Grades
DESCRIPTION:
URL:https://www.shellybeachgolfclub.com.au/golf-program/individual-stroke-mens-monthly-medal-3-grades-4/
LOCATION:SBGC
CATEGORIES:Mens / Mixed Club Events
END:VEVENT
BEGIN:VEVENT
DTSTART;TZID=Australia/Sydney:20230703T060000
DTEND;TZID=Australia/Sydney:20230703T060000
DTSTAMP:20260426T085437
CREATED:20230302T233445Z
LAST-MODIFIED:20230418T062824Z
UID:36686-1688364000-1688364000@www.shellybeachgolfclub.com.au
SUMMARY:Mad Monday Men’s & Women’s Individual Stableford
DESCRIPTION:
URL:https://www.shellybeachgolfclub.com.au/golf-program/mad-monday-mens-womens-individual-stableford-11/
LOCATION:SBGC
CATEGORIES:Mens / Mixed Club Events
END:VEVENT
BEGIN:VEVENT
DTSTART;TZID=Australia/Sydney:20230704T060000
DTEND;TZID=Australia/Sydney:20230704T060000
DTSTAMP:20260426T085437
CREATED:20230302T233534Z
LAST-MODIFIED:20230302T233542Z
UID:36688-1688450400-1688450400@www.shellybeachgolfclub.com.au
SUMMARY:Medley Individual Stableford 4 Grades plus Medley 2BBB
DESCRIPTION:
URL:https://www.shellybeachgolfclub.com.au/golf-program/medley-individual-stableford-4-grades-plus-medley-2bbb-10/
LOCATION:SBGC
CATEGORIES:Mens / Mixed Club Events
END:VEVENT
BEGIN:VEVENT
DTSTART;TZID=Australia/Sydney:20230706T060000
DTEND;TZID=Australia/Sydney:20230706T060000
DTSTAMP:20260426T085437
CREATED:20230302T233658Z
LAST-MODIFIED:20230302T233715Z
UID:36692-1688623200-1688623200@www.shellybeachgolfclub.com.au
SUMMARY:Individual Stableford 4 Grades plus 2B Multiplier
DESCRIPTION:
URL:https://www.shellybeachgolfclub.com.au/golf-program/individual-stableford-4-grades-plus-2b-multiplier-3/
LOCATION:SBGC
CATEGORIES:Mens / Mixed Club Events
END:VEVENT
BEGIN:VEVENT
DTSTART;TZID=Australia/Sydney:20230707T060000
DTEND;TZID=Australia/Sydney:20230707T060000
DTSTAMP:20260426T085437
CREATED:20230302T233747Z
LAST-MODIFIED:20230302T233801Z
UID:36694-1688709600-1688709600@www.shellybeachgolfclub.com.au
SUMMARY:Men’s & Women’s Individual Stableford
DESCRIPTION:
URL:https://www.shellybeachgolfclub.com.au/golf-program/mens-womens-individual-stableford-17/
LOCATION:SBGC
CATEGORIES:Mens / Mixed Club Events
END:VEVENT
BEGIN:VEVENT
DTSTART;TZID=Australia/Sydney:20230707T110000
DTEND;TZID=Australia/Sydney:20230707T110000
DTSTAMP:20260426T085437
CREATED:20230302T233826Z
LAST-MODIFIED:20230302T233835Z
UID:36696-1688727600-1688727600@www.shellybeachgolfclub.com.au
SUMMARY:Chook Run
DESCRIPTION:
URL:https://www.shellybeachgolfclub.com.au/golf-program/chook-run-18/
LOCATION:SBGC
CATEGORIES:Mens / Mixed Club Events
END:VEVENT
BEGIN:VEVENT
DTSTART;TZID=Australia/Sydney:20230708T060000
DTEND;TZID=Australia/Sydney:20230708T060000
DTSTAMP:20260426T085437
CREATED:20230302T233904Z
LAST-MODIFIED:20230302T233911Z
UID:36698-1688796000-1688796000@www.shellybeachgolfclub.com.au
SUMMARY:Individual Stableford Men & Women’s plus Men/Medley 2B Aggregate
DESCRIPTION:
URL:https://www.shellybeachgolfclub.com.au/golf-program/individual-stableford-men-womens-plus-men-medley-2b-aggregate-6/
LOCATION:SBGC
CATEGORIES:Mens / Mixed Club Events
END:VEVENT
BEGIN:VEVENT
DTSTART;TZID=Australia/Sydney:20230709T060000
DTEND;TZID=Australia/Sydney:20230709T060000
DTSTAMP:20260426T085437
CREATED:20230302T233937Z
LAST-MODIFIED:20230302T233945Z
UID:36700-1688882400-1688882400@www.shellybeachgolfclub.com.au
SUMMARY:Medley Individual Stableford plus Medley 2BBB + 2BBB Scratch
DESCRIPTION:
URL:https://www.shellybeachgolfclub.com.au/golf-program/medley-individual-stableford-plus-medley-2bbb-2bbb-scratch-5/
LOCATION:SBGC
CATEGORIES:Mens / Mixed Club Events
END:VEVENT
BEGIN:VEVENT
DTSTART;TZID=Australia/Sydney:20230710T060000
DTEND;TZID=Australia/Sydney:20230710T060000
DTSTAMP:20260426T085437
CREATED:20230302T234030Z
LAST-MODIFIED:20230418T062847Z
UID:36702-1688968800-1688968800@www.shellybeachgolfclub.com.au
SUMMARY:Mad Monday Men’s & Women’s Individual Stableford
DESCRIPTION:
URL:https://www.shellybeachgolfclub.com.au/golf-program/mad-monday-mens-womens-individual-stableford-12/
LOCATION:SBGC
CATEGORIES:Mens / Mixed Club Events
END:VEVENT
BEGIN:VEVENT
DTSTART;TZID=Australia/Sydney:20230711T060000
DTEND;TZID=Australia/Sydney:20230711T060000
DTSTAMP:20260426T085437
CREATED:20230302T234105Z
LAST-MODIFIED:20230302T234112Z
UID:36704-1689055200-1689055200@www.shellybeachgolfclub.com.au
SUMMARY:Medley Individual Stableford 4 Grades plus Medley 2B Aggregate
DESCRIPTION:
URL:https://www.shellybeachgolfclub.com.au/golf-program/medley-individual-stableford-4-grades-plus-medley-2b-aggregate-5/
LOCATION:SBGC
CATEGORIES:Mens / Mixed Club Events
END:VEVENT
BEGIN:VEVENT
DTSTART;TZID=Australia/Sydney:20230713T060000
DTEND;TZID=Australia/Sydney:20230713T060000
DTSTAMP:20260426T085437
CREATED:20230302T234217Z
LAST-MODIFIED:20230302T234224Z
UID:36708-1689228000-1689228000@www.shellybeachgolfclub.com.au
SUMMARY:Individual Stableford 4 Grades plus 2BBB
DESCRIPTION:
URL:https://www.shellybeachgolfclub.com.au/golf-program/individual-stableford-4-grades-plus-2bbb-8/
LOCATION:SBGC
CATEGORIES:Mens / Mixed Club Events
END:VEVENT
BEGIN:VEVENT
DTSTART;TZID=Australia/Sydney:20230714T060000
DTEND;TZID=Australia/Sydney:20230714T060000
DTSTAMP:20260426T085437
CREATED:20230302T234245Z
LAST-MODIFIED:20230302T234253Z
UID:36710-1689314400-1689314400@www.shellybeachgolfclub.com.au
SUMMARY:Men’s & Women’s Individual Stableford
DESCRIPTION:
URL:https://www.shellybeachgolfclub.com.au/golf-program/mens-womens-individual-stableford-18/
LOCATION:SBGC
CATEGORIES:Mens / Mixed Club Events
END:VEVENT
BEGIN:VEVENT
DTSTART;TZID=Australia/Sydney:20230714T110000
DTEND;TZID=Australia/Sydney:20230714T110000
DTSTAMP:20260426T085437
CREATED:20230302T234314Z
LAST-MODIFIED:20230302T234324Z
UID:36712-1689332400-1689332400@www.shellybeachgolfclub.com.au
SUMMARY:Chook Run
DESCRIPTION:
URL:https://www.shellybeachgolfclub.com.au/golf-program/chook-run-19/
LOCATION:SBGC
CATEGORIES:Mens / Mixed Club Events
END:VEVENT
BEGIN:VEVENT
DTSTART;TZID=Australia/Sydney:20230715T060000
DTEND;TZID=Australia/Sydney:20230715T060000
DTSTAMP:20260426T085437
CREATED:20230302T234347Z
LAST-MODIFIED:20230302T234353Z
UID:36714-1689400800-1689400800@www.shellybeachgolfclub.com.au
SUMMARY:Individual Stableford Men & Women’s plus Men/Medley 2BBB
DESCRIPTION:
URL:https://www.shellybeachgolfclub.com.au/golf-program/individual-stableford-men-womens-plus-men-medley-2bbb-9/
LOCATION:SBGC
CATEGORIES:Mens / Mixed Club Events
END:VEVENT
BEGIN:VEVENT
DTSTART;TZID=Australia/Sydney:20230716T060000
DTEND;TZID=Australia/Sydney:20230716T060000
DTSTAMP:20260426T085437
CREATED:20230302T234415Z
LAST-MODIFIED:20230302T234426Z
UID:36716-1689487200-1689487200@www.shellybeachgolfclub.com.au
SUMMARY:Medley Individual Stableford plus Medley 2B Aggregate
DESCRIPTION:
URL:https://www.shellybeachgolfclub.com.au/golf-program/medley-individual-stableford-plus-medley-2b-aggregate-2/
LOCATION:SBGC
CATEGORIES:Mens / Mixed Club Events
END:VEVENT
BEGIN:VEVENT
DTSTART;TZID=Australia/Sydney:20230717T060000
DTEND;TZID=Australia/Sydney:20230717T060000
DTSTAMP:20260426T085437
CREATED:20230302T234553Z
LAST-MODIFIED:20230418T062909Z
UID:36720-1689573600-1689573600@www.shellybeachgolfclub.com.au
SUMMARY:Mad Monday Men’s & Women’s Individual Stableford
DESCRIPTION:
URL:https://www.shellybeachgolfclub.com.au/golf-program/mad-monday-mens-womens-individual-stableford-13/
LOCATION:SBGC
CATEGORIES:Mens / Mixed Club Events
END:VEVENT
BEGIN:VEVENT
DTSTART;TZID=Australia/Sydney:20230718T060000
DTEND;TZID=Australia/Sydney:20230718T060000
DTSTAMP:20260426T085437
CREATED:20230302T234633Z
LAST-MODIFIED:20230302T234642Z
UID:36722-1689660000-1689660000@www.shellybeachgolfclub.com.au
SUMMARY:Medley Individual Stableford 4 Grades plus Medley 2BBB
DESCRIPTION:
URL:https://www.shellybeachgolfclub.com.au/golf-program/medley-individual-stableford-4-grades-plus-medley-2bbb-11/
LOCATION:SBGC
CATEGORIES:Mens / Mixed Club Events
END:VEVENT
BEGIN:VEVENT
DTSTART;TZID=Australia/Sydney:20230720T060000
DTEND;TZID=Australia/Sydney:20230720T060000
DTSTAMP:20260426T085437
CREATED:20230302T234758Z
LAST-MODIFIED:20230302T234806Z
UID:36726-1689832800-1689832800@www.shellybeachgolfclub.com.au
SUMMARY:Individual Stableford 4 Grades plus 2B Split 6’s\, 1st 6 holes: 2BBB\, 2nd 6 holes: 2B Aggregate & 3rd 6 holes: 2B Multiplier
DESCRIPTION:
URL:https://www.shellybeachgolfclub.com.au/golf-program/individual-stableford-4-grades-plus-2b-split-6s-1st-6-holes-2bbb-2nd-6-holes-2b-aggregate-3rd-6-holes-2b-multiplier-3/
LOCATION:SBGC
CATEGORIES:Mens / Mixed Club Events
END:VEVENT
BEGIN:VEVENT
DTSTART;TZID=Australia/Sydney:20230721T060000
DTEND;TZID=Australia/Sydney:20230721T060000
DTSTAMP:20260426T085437
CREATED:20230302T234829Z
LAST-MODIFIED:20230302T234841Z
UID:36728-1689919200-1689919200@www.shellybeachgolfclub.com.au
SUMMARY:Men’s & Women’s Individual Stableford
DESCRIPTION:
URL:https://www.shellybeachgolfclub.com.au/golf-program/mens-womens-individual-stableford-19/
LOCATION:SBGC
CATEGORIES:Mens / Mixed Club Events
END:VEVENT
BEGIN:VEVENT
DTSTART;TZID=Australia/Sydney:20230721T110000
DTEND;TZID=Australia/Sydney:20230721T110000
DTSTAMP:20260426T085437
CREATED:20230302T234908Z
LAST-MODIFIED:20230302T234918Z
UID:36730-1689937200-1689937200@www.shellybeachgolfclub.com.au
SUMMARY:Chook Run
DESCRIPTION:
URL:https://www.shellybeachgolfclub.com.au/golf-program/chook-run-20/
LOCATION:SBGC
CATEGORIES:Mens / Mixed Club Events
END:VEVENT
BEGIN:VEVENT
DTSTART;TZID=Australia/Sydney:20230722T060000
DTEND;TZID=Australia/Sydney:20230722T060000
DTSTAMP:20260426T085437
CREATED:20230302T235019Z
LAST-MODIFIED:20230302T235028Z
UID:36734-1690005600-1690005600@www.shellybeachgolfclub.com.au
SUMMARY:Individual Stableford Men & Women’s plus Men/Medley 2B Aggregate
DESCRIPTION:
URL:https://www.shellybeachgolfclub.com.au/golf-program/individual-stableford-men-womens-plus-men-medley-2b-aggregate-7/
LOCATION:SBGC
CATEGORIES:Mens / Mixed Club Events
END:VEVENT
BEGIN:VEVENT
DTSTART;TZID=Australia/Sydney:20230722T060000
DTEND;TZID=Australia/Sydney:20230722T060000
DTSTAMP:20260426T085437
CREATED:20230302T235054Z
LAST-MODIFIED:20230302T235157Z
UID:36736-1690005600-1690005600@www.shellybeachgolfclub.com.au
SUMMARY:Qualifying for Medley Match Play
DESCRIPTION:
URL:https://www.shellybeachgolfclub.com.au/golf-program/qualifying-for-medley-match-play/
LOCATION:SBGC
CATEGORIES:Mens / Mixed Club Events
END:VEVENT
BEGIN:VEVENT
DTSTART;TZID=Australia/Sydney:20230723T060000
DTEND;TZID=Australia/Sydney:20230723T060000
DTSTAMP:20260426T085437
CREATED:20230302T235223Z
LAST-MODIFIED:20230302T235236Z
UID:36738-1690092000-1690092000@www.shellybeachgolfclub.com.au
SUMMARY:Medley Individual Stableford plus Medley 2B Multiplier
DESCRIPTION:
URL:https://www.shellybeachgolfclub.com.au/golf-program/medley-individual-stableford-plus-medley-2b-multiplier-3/
LOCATION:SBGC
CATEGORIES:Mens / Mixed Club Events
END:VEVENT
BEGIN:VEVENT
DTSTART;TZID=Australia/Sydney:20230724T060000
DTEND;TZID=Australia/Sydney:20230724T060000
DTSTAMP:20260426T085437
CREATED:20230302T235304Z
LAST-MODIFIED:20230418T062931Z
UID:36740-1690178400-1690178400@www.shellybeachgolfclub.com.au
SUMMARY:Mad Monday Men’s & Women’s Individual Stableford
DESCRIPTION:
URL:https://www.shellybeachgolfclub.com.au/golf-program/mad-monday-mens-womens-individual-stableford-14/
LOCATION:SBGC
CATEGORIES:Mens / Mixed Club Events
END:VEVENT
BEGIN:VEVENT
DTSTART;TZID=Australia/Sydney:20230725T060000
DTEND;TZID=Australia/Sydney:20230725T060000
DTSTAMP:20260426T085437
CREATED:20230302T235341Z
LAST-MODIFIED:20230302T235349Z
UID:36742-1690264800-1690264800@www.shellybeachgolfclub.com.au
SUMMARY:Medley Individual Stableford 4 Grades plus Medley 2B Aggregate
DESCRIPTION:
URL:https://www.shellybeachgolfclub.com.au/golf-program/medley-individual-stableford-4-grades-plus-medley-2b-aggregate-6/
LOCATION:SBGC
CATEGORIES:Mens / Mixed Club Events
END:VEVENT
BEGIN:VEVENT
DTSTART;TZID=Australia/Sydney:20230727T060000
DTEND;TZID=Australia/Sydney:20230727T060000
DTSTAMP:20260426T085437
CREATED:20230302T235500Z
LAST-MODIFIED:20230302T235509Z
UID:36746-1690437600-1690437600@www.shellybeachgolfclub.com.au
SUMMARY:Individual Stableford. Monthly Mug. 4 Grades 1st\, 2nd\, 3rd & 4th Nett plus Overall Scratch
DESCRIPTION:
URL:https://www.shellybeachgolfclub.com.au/golf-program/individual-stableford-monthly-mug-4-grades-1st-2nd-3rd-4th-nett-plus-overall-scratch-5/
LOCATION:SBGC
CATEGORIES:Mens / Mixed Club Events
END:VEVENT
BEGIN:VEVENT
DTSTART;TZID=Australia/Sydney:20230728T060000
DTEND;TZID=Australia/Sydney:20230728T060000
DTSTAMP:20260426T085437
CREATED:20230302T235648Z
LAST-MODIFIED:20230302T235657Z
UID:36752-1690524000-1690524000@www.shellybeachgolfclub.com.au
SUMMARY:Choose Your TEE Day
DESCRIPTION:
URL:https://www.shellybeachgolfclub.com.au/golf-program/choose-your-tee-day-6/
LOCATION:SBGC
CATEGORIES:Mens / Mixed Club Events
END:VEVENT
BEGIN:VEVENT
DTSTART;TZID=Australia/Sydney:20230728T060000
DTEND;TZID=Australia/Sydney:20230728T060000
DTSTAMP:20260426T085437
CREATED:20230308T043153Z
LAST-MODIFIED:20230308T043202Z
UID:37241-1690524000-1690524000@www.shellybeachgolfclub.com.au
SUMMARY:Men's & Women's Individual Stableford
DESCRIPTION:
URL:https://www.shellybeachgolfclub.com.au/golf-program/mens-womens-individual-stableford-42/
LOCATION:SBGC
CATEGORIES:Mens / Mixed Club Events
END:VEVENT
BEGIN:VEVENT
DTSTART;TZID=Australia/Sydney:20230728T110000
DTEND;TZID=Australia/Sydney:20230728T110000
DTSTAMP:20260426T085437
CREATED:20230302T235612Z
LAST-MODIFIED:20230302T235622Z
UID:36750-1690542000-1690542000@www.shellybeachgolfclub.com.au
SUMMARY:Chook Run
DESCRIPTION:
URL:https://www.shellybeachgolfclub.com.au/golf-program/chook-run-21/
LOCATION:SBGC
CATEGORIES:Mens / Mixed Club Events
END:VEVENT
END:VCALENDAR