BEGIN:VCALENDAR
VERSION:2.0
PRODID:-//Shelly Beach Golf Club - ECPv6.15.18//NONSGML v1.0//EN
CALSCALE:GREGORIAN
METHOD:PUBLISH
X-WR-CALNAME:Shelly Beach Golf Club
X-ORIGINAL-URL:https://www.shellybeachgolfclub.com.au
X-WR-CALDESC:Events for Shelly Beach Golf Club
REFRESH-INTERVAL;VALUE=DURATION:PT1H
X-Robots-Tag:noindex
X-PUBLISHED-TTL:PT1H
BEGIN:VTIMEZONE
TZID:Australia/Sydney
BEGIN:STANDARD
TZOFFSETFROM:+1100
TZOFFSETTO:+1000
TZNAME:AEST
DTSTART:20220402T160000
END:STANDARD
BEGIN:DAYLIGHT
TZOFFSETFROM:+1000
TZOFFSETTO:+1100
TZNAME:AEDT
DTSTART:20221001T160000
END:DAYLIGHT
BEGIN:STANDARD
TZOFFSETFROM:+1100
TZOFFSETTO:+1000
TZNAME:AEST
DTSTART:20230401T160000
END:STANDARD
BEGIN:DAYLIGHT
TZOFFSETFROM:+1000
TZOFFSETTO:+1100
TZNAME:AEDT
DTSTART:20230930T160000
END:DAYLIGHT
BEGIN:STANDARD
TZOFFSETFROM:+1100
TZOFFSETTO:+1000
TZNAME:AEST
DTSTART:20240406T160000
END:STANDARD
BEGIN:DAYLIGHT
TZOFFSETFROM:+1000
TZOFFSETTO:+1100
TZNAME:AEDT
DTSTART:20241005T160000
END:DAYLIGHT
END:VTIMEZONE
BEGIN:VEVENT
DTSTART;TZID=Australia/Sydney:20230601T060000
DTEND;TZID=Australia/Sydney:20230601T060000
DTSTAMP:20260426T103517
CREATED:20230302T052009Z
LAST-MODIFIED:20230302T052018Z
UID:36579-1685599200-1685599200@www.shellybeachgolfclub.com.au
SUMMARY:Individual Stableford 4 Grades plus 2BBB
DESCRIPTION:
URL:https://www.shellybeachgolfclub.com.au/golf-program/individual-stableford-4-grades-plus-2bbb-5/
LOCATION:SBGC
CATEGORIES:Mens / Mixed Club Events
END:VEVENT
BEGIN:VEVENT
DTSTART;TZID=Australia/Sydney:20230602T060000
DTEND;TZID=Australia/Sydney:20230602T060000
DTSTAMP:20260426T103517
CREATED:20230302T052116Z
LAST-MODIFIED:20230302T052131Z
UID:36581-1685685600-1685685600@www.shellybeachgolfclub.com.au
SUMMARY:Men’s & Women’s Individual Stableford
DESCRIPTION:
URL:https://www.shellybeachgolfclub.com.au/golf-program/mens-womens-individual-stableford-12/
LOCATION:SBGC
CATEGORIES:Mens / Mixed Club Events
END:VEVENT
BEGIN:VEVENT
DTSTART;TZID=Australia/Sydney:20230602T110000
DTEND;TZID=Australia/Sydney:20230602T110000
DTSTAMP:20260426T103517
CREATED:20230302T052258Z
LAST-MODIFIED:20230302T052309Z
UID:36583-1685703600-1685703600@www.shellybeachgolfclub.com.au
SUMMARY:Chook Run
DESCRIPTION:
URL:https://www.shellybeachgolfclub.com.au/golf-program/chook-run-13/
LOCATION:SBGC
CATEGORIES:Mens / Mixed Club Events
END:VEVENT
BEGIN:VEVENT
DTSTART;TZID=Australia/Sydney:20230603T060000
DTEND;TZID=Australia/Sydney:20230603T060000
DTSTAMP:20260426T103517
CREATED:20230302T052346Z
LAST-MODIFIED:20230302T052354Z
UID:36585-1685772000-1685772000@www.shellybeachgolfclub.com.au
SUMMARY:Individual Stableford Men & Women’s plus Men/Medley 2BBB
DESCRIPTION:
URL:https://www.shellybeachgolfclub.com.au/golf-program/individual-stableford-men-womens-plus-men-medley-2bbb-7/
LOCATION:SBGC
CATEGORIES:Mens / Mixed Club Events
END:VEVENT
BEGIN:VEVENT
DTSTART;TZID=Australia/Sydney:20230604T060000
DTEND;TZID=Australia/Sydney:20230604T060000
DTSTAMP:20260426T103517
CREATED:20230302T053049Z
LAST-MODIFIED:20230302T053057Z
UID:36595-1685858400-1685858400@www.shellybeachgolfclub.com.au
SUMMARY:R.J. NICOL SALVER
DESCRIPTION:
URL:https://www.shellybeachgolfclub.com.au/golf-program/r-j-nicol-salver/
LOCATION:SBGC
CATEGORIES:Mens / Mixed Club Events
END:VEVENT
BEGIN:VEVENT
DTSTART;TZID=Australia/Sydney:20230604T060000
DTEND;TZID=Australia/Sydney:20230604T060000
DTSTAMP:20260426T103517
CREATED:20230302T053127Z
LAST-MODIFIED:20230302T053136Z
UID:36597-1685858400-1685858400@www.shellybeachgolfclub.com.au
SUMMARY:Individual Stroke. Men’s Monthly Medal. 3 Grades
DESCRIPTION:
URL:https://www.shellybeachgolfclub.com.au/golf-program/individual-stroke-mens-monthly-medal-3-grades-3/
LOCATION:SBGC
CATEGORIES:Mens / Mixed Club Events
END:VEVENT
BEGIN:VEVENT
DTSTART;TZID=Australia/Sydney:20230605T060000
DTEND;TZID=Australia/Sydney:20230605T060000
DTSTAMP:20260426T103517
CREATED:20230302T053217Z
LAST-MODIFIED:20230418T062659Z
UID:36599-1685944800-1685944800@www.shellybeachgolfclub.com.au
SUMMARY:Mad Monday Men’s & Women’s Individual Stableford
DESCRIPTION:
URL:https://www.shellybeachgolfclub.com.au/golf-program/mad-monday-mens-womens-individual-stableford-7/
LOCATION:SBGC
CATEGORIES:Mens / Mixed Club Events
END:VEVENT
BEGIN:VEVENT
DTSTART;TZID=Australia/Sydney:20230606T060000
DTEND;TZID=Australia/Sydney:20230606T060000
DTSTAMP:20260426T103517
CREATED:20230302T053327Z
LAST-MODIFIED:20230302T053336Z
UID:36601-1686031200-1686031200@www.shellybeachgolfclub.com.au
SUMMARY:Medley Individual Stableford 4 Grades plus Medley 2BBB
DESCRIPTION:
URL:https://www.shellybeachgolfclub.com.au/golf-program/medley-individual-stableford-4-grades-plus-medley-2bbb-8/
LOCATION:SBGC
CATEGORIES:Mens / Mixed Club Events
END:VEVENT
BEGIN:VEVENT
DTSTART;TZID=Australia/Sydney:20230608T060000
DTEND;TZID=Australia/Sydney:20230608T060000
DTSTAMP:20260426T103517
CREATED:20230302T053520Z
LAST-MODIFIED:20230302T053531Z
UID:36605-1686204000-1686204000@www.shellybeachgolfclub.com.au
SUMMARY:Individual Stableford 4 Grades plus 2B Aggregate
DESCRIPTION:
URL:https://www.shellybeachgolfclub.com.au/golf-program/individual-stableford-4-grades-plus-2b-aggregate-3/
LOCATION:SBGC
CATEGORIES:Mens / Mixed Club Events
END:VEVENT
BEGIN:VEVENT
DTSTART;TZID=Australia/Sydney:20230609T060000
DTEND;TZID=Australia/Sydney:20230609T060000
DTSTAMP:20260426T103517
CREATED:20230302T053557Z
LAST-MODIFIED:20230302T053606Z
UID:36607-1686290400-1686290400@www.shellybeachgolfclub.com.au
SUMMARY:Men’s & Women’s Individual Stableford
DESCRIPTION:
URL:https://www.shellybeachgolfclub.com.au/golf-program/mens-womens-individual-stableford-13/
LOCATION:SBGC
CATEGORIES:Mens / Mixed Club Events
END:VEVENT
BEGIN:VEVENT
DTSTART;TZID=Australia/Sydney:20230609T060000
DTEND;TZID=Australia/Sydney:20230609T060000
DTSTAMP:20260426T103517
CREATED:20230609T021141Z
LAST-MODIFIED:20230609T021150Z
UID:40299-1686290400-1686290400@www.shellybeachgolfclub.com.au
SUMMARY:Individual Stableford 4 Grades plus 2B Split 6's\, 1st 6 holes: 2BBB\, 2nd 6 holes: 2B Aggregate & 3rd 6 holes: 2B Multiplier
DESCRIPTION:
URL:https://www.shellybeachgolfclub.com.au/golf-program/individual-stableford-4-grades-plus-2b-split-6s-1st-6-holes-2bbb-2nd-6-holes-2b-aggregate-3rd-6-holes-2b-multiplier-7/
LOCATION:SBGC
CATEGORIES:Mens / Mixed Club Events
END:VEVENT
BEGIN:VEVENT
DTSTART;TZID=Australia/Sydney:20230609T110000
DTEND;TZID=Australia/Sydney:20230609T110000
DTSTAMP:20260426T103517
CREATED:20230302T053631Z
LAST-MODIFIED:20230302T053642Z
UID:36609-1686308400-1686308400@www.shellybeachgolfclub.com.au
SUMMARY:Chook Run
DESCRIPTION:
URL:https://www.shellybeachgolfclub.com.au/golf-program/chook-run-14/
LOCATION:SBGC
CATEGORIES:Mens / Mixed Club Events
END:VEVENT
BEGIN:VEVENT
DTSTART;TZID=Australia/Sydney:20230610T060000
DTEND;TZID=Australia/Sydney:20230610T060000
DTSTAMP:20260426T103517
CREATED:20230302T053711Z
LAST-MODIFIED:20230302T053727Z
UID:36611-1686376800-1686376800@www.shellybeachgolfclub.com.au
SUMMARY:Individual Stableford Men & Women’s plus Men/Medley 2B Aggregate
DESCRIPTION:
URL:https://www.shellybeachgolfclub.com.au/golf-program/individual-stableford-men-womens-plus-men-medley-2b-aggregate-5/
LOCATION:SBGC
CATEGORIES:Mens / Mixed Club Events
END:VEVENT
BEGIN:VEVENT
DTSTART;TZID=Australia/Sydney:20230611T060000
DTEND;TZID=Australia/Sydney:20230611T060000
DTSTAMP:20260426T103517
CREATED:20230302T055228Z
LAST-MODIFIED:20230302T055237Z
UID:36615-1686463200-1686463200@www.shellybeachgolfclub.com.au
SUMMARY:Medley Individual Stableford plus Medley 2BBB + 2BBB Scratch
DESCRIPTION:
URL:https://www.shellybeachgolfclub.com.au/golf-program/medley-individual-stableford-plus-medley-2bbb-2bbb-scratch-4/
LOCATION:SBGC
CATEGORIES:Mens / Mixed Club Events
END:VEVENT
BEGIN:VEVENT
DTSTART;TZID=Australia/Sydney:20230612T060000
DTEND;TZID=Australia/Sydney:20230612T060000
DTSTAMP:20260426T103517
CREATED:20230302T055502Z
LAST-MODIFIED:20230418T062717Z
UID:36622-1686549600-1686549600@www.shellybeachgolfclub.com.au
SUMMARY:Mad Monday Men’s & Women’s Individual Stableford
DESCRIPTION:
URL:https://www.shellybeachgolfclub.com.au/golf-program/mad-monday-mens-womens-individual-stableford-8/
LOCATION:SBGC
CATEGORIES:Mens / Mixed Club Events
END:VEVENT
BEGIN:VEVENT
DTSTART;TZID=Australia/Sydney:20230613T060000
DTEND;TZID=Australia/Sydney:20230613T060000
DTSTAMP:20260426T103517
CREATED:20230302T055542Z
LAST-MODIFIED:20230302T055551Z
UID:36624-1686636000-1686636000@www.shellybeachgolfclub.com.au
SUMMARY:Medley Individual Stableford 4 Grades plus Medley 2B Split 6’s\, 1st 6 holes: 2BBB\, 2nd 6 holes: 2B Aggregate & 3rd 6 holes: 2B Multiplier.
DESCRIPTION:
URL:https://www.shellybeachgolfclub.com.au/golf-program/medley-individual-stableford-4-grades-plus-medley-2b-split-6s-1st-6-holes-2bbb-2nd-6-holes-2b-aggregate-3rd-6-holes-2b-multiplier/
LOCATION:SBGC
CATEGORIES:Mens / Mixed Club Events
END:VEVENT
BEGIN:VEVENT
DTSTART;TZID=Australia/Sydney:20230615T060000
DTEND;TZID=Australia/Sydney:20230615T060000
DTSTAMP:20260426T103517
CREATED:20230302T060029Z
LAST-MODIFIED:20230302T060037Z
UID:36631-1686808800-1686808800@www.shellybeachgolfclub.com.au
SUMMARY:Individual Stableford 4 Grades plus 2BBB
DESCRIPTION:
URL:https://www.shellybeachgolfclub.com.au/golf-program/individual-stableford-4-grades-plus-2bbb-6/
LOCATION:SBGC
CATEGORIES:Mens / Mixed Club Events
END:VEVENT
BEGIN:VEVENT
DTSTART;TZID=Australia/Sydney:20230616T060000
DTEND;TZID=Australia/Sydney:20230616T060000
DTSTAMP:20260426T103517
CREATED:20230302T060058Z
LAST-MODIFIED:20230302T060106Z
UID:36633-1686895200-1686895200@www.shellybeachgolfclub.com.au
SUMMARY:Men’s & Women’s Individual Stableford
DESCRIPTION:
URL:https://www.shellybeachgolfclub.com.au/golf-program/mens-womens-individual-stableford-14/
LOCATION:SBGC
CATEGORIES:Mens / Mixed Club Events
END:VEVENT
BEGIN:VEVENT
DTSTART;TZID=Australia/Sydney:20230616T110000
DTEND;TZID=Australia/Sydney:20230616T110000
DTSTAMP:20260426T103517
CREATED:20230302T060130Z
LAST-MODIFIED:20230302T060138Z
UID:36635-1686913200-1686913200@www.shellybeachgolfclub.com.au
SUMMARY:Chook Run
DESCRIPTION:
URL:https://www.shellybeachgolfclub.com.au/golf-program/chook-run-15/
LOCATION:SBGC
CATEGORIES:Mens / Mixed Club Events
END:VEVENT
BEGIN:VEVENT
DTSTART;TZID=Australia/Sydney:20230617T060000
DTEND;TZID=Australia/Sydney:20230617T060000
DTSTAMP:20260426T103517
CREATED:20230302T060217Z
LAST-MODIFIED:20230302T060224Z
UID:36637-1686981600-1686981600@www.shellybeachgolfclub.com.au
SUMMARY:Individual Stableford Men & Women’s plus Men/Medley 2B Multiplier
DESCRIPTION:
URL:https://www.shellybeachgolfclub.com.au/golf-program/individual-stableford-men-womens-plus-men-medley-2b-multiplier-2/
LOCATION:SBGC
CATEGORIES:Mens / Mixed Club Events
END:VEVENT
BEGIN:VEVENT
DTSTART;TZID=Australia/Sydney:20230618T060000
DTEND;TZID=Australia/Sydney:20230618T060000
DTSTAMP:20260426T103517
CREATED:20230302T060246Z
LAST-MODIFIED:20230302T060255Z
UID:36639-1687068000-1687068000@www.shellybeachgolfclub.com.au
SUMMARY:Medley Individual Stableford plus Medley 2B Aggregate
DESCRIPTION:
URL:https://www.shellybeachgolfclub.com.au/golf-program/medley-individual-stableford-plus-medley-2b-aggregate/
LOCATION:SBGC
CATEGORIES:Mens / Mixed Club Events
END:VEVENT
BEGIN:VEVENT
DTSTART;TZID=Australia/Sydney:20230619T060000
DTEND;TZID=Australia/Sydney:20230619T060000
DTSTAMP:20260426T103517
CREATED:20230302T060322Z
LAST-MODIFIED:20230418T062737Z
UID:36641-1687154400-1687154400@www.shellybeachgolfclub.com.au
SUMMARY:Mad Monday Men’s & Women’s Individual Stableford
DESCRIPTION:
URL:https://www.shellybeachgolfclub.com.au/golf-program/mad-monday-mens-womens-individual-stableford-9/
LOCATION:SBGC
CATEGORIES:Mens / Mixed Club Events
END:VEVENT
BEGIN:VEVENT
DTSTART;TZID=Australia/Sydney:20230620T060000
DTEND;TZID=Australia/Sydney:20230620T060000
DTSTAMP:20260426T103517
CREATED:20230302T060359Z
LAST-MODIFIED:20230302T060411Z
UID:36643-1687240800-1687240800@www.shellybeachgolfclub.com.au
SUMMARY:Medley Individual Stableford 4 Grades plus Medley 2BBB
DESCRIPTION:
URL:https://www.shellybeachgolfclub.com.au/golf-program/medley-individual-stableford-4-grades-plus-medley-2bbb-9/
LOCATION:SBGC
CATEGORIES:Mens / Mixed Club Events
END:VEVENT
BEGIN:VEVENT
DTSTART;TZID=Australia/Sydney:20230622T060000
DTEND;TZID=Australia/Sydney:20230622T060000
DTSTAMP:20260426T103517
CREATED:20230302T060524Z
LAST-MODIFIED:20230302T060543Z
UID:36647-1687413600-1687413600@www.shellybeachgolfclub.com.au
SUMMARY:Individual Stableford. Monthly Mug. 4 Grades 1st\, 2nd\, 3rd & 4th Nett plus Overall Scratch
DESCRIPTION:
URL:https://www.shellybeachgolfclub.com.au/golf-program/individual-stableford-monthly-mug-4-grades-1st-2nd-3rd-4th-nett-plus-overall-scratch-4/
LOCATION:SBGC
CATEGORIES:Mens / Mixed Club Events
END:VEVENT
BEGIN:VEVENT
DTSTART;TZID=Australia/Sydney:20230623T060000
DTEND;TZID=Australia/Sydney:20230623T060000
DTSTAMP:20260426T103517
CREATED:20230302T060607Z
LAST-MODIFIED:20230302T060616Z
UID:36649-1687500000-1687500000@www.shellybeachgolfclub.com.au
SUMMARY:Men’s & Women’s Individual Stableford
DESCRIPTION:
URL:https://www.shellybeachgolfclub.com.au/golf-program/mens-womens-individual-stableford-15/
LOCATION:SBGC
CATEGORIES:Mens / Mixed Club Events
END:VEVENT
BEGIN:VEVENT
DTSTART;TZID=Australia/Sydney:20230623T110000
DTEND;TZID=Australia/Sydney:20230623T110000
DTSTAMP:20260426T103517
CREATED:20230302T060640Z
LAST-MODIFIED:20230302T060649Z
UID:36651-1687518000-1687518000@www.shellybeachgolfclub.com.au
SUMMARY:Chook Run
DESCRIPTION:
URL:https://www.shellybeachgolfclub.com.au/golf-program/chook-run-16/
LOCATION:SBGC
CATEGORIES:Mens / Mixed Club Events
END:VEVENT
BEGIN:VEVENT
DTSTART;TZID=Australia/Sydney:20230624T073000
DTEND;TZID=Australia/Sydney:20230624T073000
DTSTAMP:20260426T103517
CREATED:20230302T060743Z
LAST-MODIFIED:20230302T060820Z
UID:36653-1687591800-1687591800@www.shellybeachgolfclub.com.au
SUMMARY:Captain v President Gala Day
DESCRIPTION:7.30am & Midday shotgun starts.\nIndividual Stableford\nMen & Women’s plus\nMen/Medley 2BBB.
URL:https://www.shellybeachgolfclub.com.au/golf-program/captain-v-president-gala-day/
LOCATION:SBGC
CATEGORIES:Mens / Mixed Club Events
END:VEVENT
BEGIN:VEVENT
DTSTART;TZID=Australia/Sydney:20230625T060000
DTEND;TZID=Australia/Sydney:20230625T060000
DTSTAMP:20260426T103517
CREATED:20230302T060846Z
LAST-MODIFIED:20230302T060858Z
UID:36656-1687672800-1687672800@www.shellybeachgolfclub.com.au
SUMMARY:Medley Individual Stableford plus Medley 2BBB
DESCRIPTION:
URL:https://www.shellybeachgolfclub.com.au/golf-program/medley-individual-stableford-plus-medley-2bbb-3/
LOCATION:SBGC
CATEGORIES:Mens / Mixed Club Events
END:VEVENT
BEGIN:VEVENT
DTSTART;TZID=Australia/Sydney:20230626T060000
DTEND;TZID=Australia/Sydney:20230626T060000
DTSTAMP:20260426T103517
CREATED:20230302T060923Z
LAST-MODIFIED:20230418T062800Z
UID:36658-1687759200-1687759200@www.shellybeachgolfclub.com.au
SUMMARY:Mad Monday Men’s & Women’s Individual Stableford
DESCRIPTION:
URL:https://www.shellybeachgolfclub.com.au/golf-program/mad-monday-mens-womens-individual-stableford-10/
LOCATION:SBGC
CATEGORIES:Mens / Mixed Club Events
END:VEVENT
BEGIN:VEVENT
DTSTART;TZID=Australia/Sydney:20230627T060000
DTEND;TZID=Australia/Sydney:20230627T060000
DTSTAMP:20260426T103517
CREATED:20230302T060955Z
LAST-MODIFIED:20230302T061005Z
UID:36660-1687845600-1687845600@www.shellybeachgolfclub.com.au
SUMMARY:Medley Individual Stableford 4 Grades plus Medley 2B Aggregate
DESCRIPTION:
URL:https://www.shellybeachgolfclub.com.au/golf-program/medley-individual-stableford-4-grades-plus-medley-2b-aggregate-4/
LOCATION:SBGC
CATEGORIES:Mens / Mixed Club Events
END:VEVENT
END:VCALENDAR