BEGIN:VCALENDAR
VERSION:2.0
PRODID:-//Shelly Beach Golf Club - ECPv6.15.18//NONSGML v1.0//EN
CALSCALE:GREGORIAN
METHOD:PUBLISH
X-ORIGINAL-URL:https://www.shellybeachgolfclub.com.au
X-WR-CALDESC:Events for Shelly Beach Golf Club
REFRESH-INTERVAL;VALUE=DURATION:PT1H
X-Robots-Tag:noindex
X-PUBLISHED-TTL:PT1H
BEGIN:VTIMEZONE
TZID:Australia/Sydney
BEGIN:STANDARD
TZOFFSETFROM:+1100
TZOFFSETTO:+1000
TZNAME:AEST
DTSTART:20230401T160000
END:STANDARD
BEGIN:DAYLIGHT
TZOFFSETFROM:+1000
TZOFFSETTO:+1100
TZNAME:AEDT
DTSTART:20230930T160000
END:DAYLIGHT
BEGIN:STANDARD
TZOFFSETFROM:+1100
TZOFFSETTO:+1000
TZNAME:AEST
DTSTART:20240406T160000
END:STANDARD
BEGIN:DAYLIGHT
TZOFFSETFROM:+1000
TZOFFSETTO:+1100
TZNAME:AEDT
DTSTART:20241005T160000
END:DAYLIGHT
BEGIN:STANDARD
TZOFFSETFROM:+1100
TZOFFSETTO:+1000
TZNAME:AEST
DTSTART:20250405T160000
END:STANDARD
BEGIN:DAYLIGHT
TZOFFSETFROM:+1000
TZOFFSETTO:+1100
TZNAME:AEDT
DTSTART:20251004T160000
END:DAYLIGHT
END:VTIMEZONE
BEGIN:VEVENT
DTSTART;TZID=Australia/Sydney:20240601T060000
DTEND;TZID=Australia/Sydney:20240601T060000
DTSTAMP:20260422T003528
CREATED:20230609T023723Z
LAST-MODIFIED:20230609T023733Z
UID:40348-1717221600-1717221600@www.shellybeachgolfclub.com.au
SUMMARY:Women's Monthly Goblet & Medal
DESCRIPTION:(Red Tees)
URL:https://www.shellybeachgolfclub.com.au/golf-program/womens-monthly-goblet-medal-15/
LOCATION:SBGC
CATEGORIES:Ladies Events
END:VEVENT
BEGIN:VEVENT
DTSTART;TZID=Australia/Sydney:20240602T060000
DTEND;TZID=Australia/Sydney:20240602T060000
DTSTAMP:20260422T003528
CREATED:20230609T024007Z
LAST-MODIFIED:20230609T024015Z
UID:40354-1717308000-1717308000@www.shellybeachgolfclub.com.au
SUMMARY:Women's Individual Stableford
DESCRIPTION:
URL:https://www.shellybeachgolfclub.com.au/golf-program/womens-individual-stableford-22/
LOCATION:SBGC
CATEGORIES:Ladies Events
END:VEVENT
BEGIN:VEVENT
DTSTART;TZID=Australia/Sydney:20240603T060000
DTEND;TZID=Australia/Sydney:20240603T060000
DTSTAMP:20260422T003528
CREATED:20240314T040136Z
LAST-MODIFIED:20240314T040150Z
UID:51279-1717394400-1717394400@www.shellybeachgolfclub.com.au
SUMMARY:CCWGA Pennants at Toukley
DESCRIPTION:
URL:https://www.shellybeachgolfclub.com.au/golf-program/ccwga-pennants-at-toukley/
CATEGORIES:Ladies Events
END:VEVENT
BEGIN:VEVENT
DTSTART;TZID=Australia/Sydney:20240605T060000
DTEND;TZID=Australia/Sydney:20240605T060000
DTSTAMP:20260422T003528
CREATED:20230609T025805Z
LAST-MODIFIED:20230609T025819Z
UID:40360-1717567200-1717567200@www.shellybeachgolfclub.com.au
SUMMARY:Golf NSW Medal No 5. Golf NSW Goodwill Plate
DESCRIPTION:(Red Tees)
URL:https://www.shellybeachgolfclub.com.au/golf-program/golf-nsw-medal-no-5-golf-nsw-goodwill-plate-2/
LOCATION:SBGC
CATEGORIES:Ladies Events
END:VEVENT
BEGIN:VEVENT
DTSTART;TZID=Australia/Sydney:20240612T060000
DTEND;TZID=Australia/Sydney:20240612T060000
DTSTAMP:20260422T003528
CREATED:20230609T030415Z
LAST-MODIFIED:20230609T030459Z
UID:40385-1718172000-1718172000@www.shellybeachgolfclub.com.au
SUMMARY:Individual Stableford. District Brooch No 5
DESCRIPTION:(Pink Tees)
URL:https://www.shellybeachgolfclub.com.au/golf-program/individual-stableford-district-brooch-no-5-2/
LOCATION:SBGC
CATEGORIES:Ladies Events
END:VEVENT
BEGIN:VEVENT
DTSTART;TZID=Australia/Sydney:20240612T060000
DTEND;TZID=Australia/Sydney:20240612T060000
DTSTAMP:20260422T003528
CREATED:20230609T030435Z
LAST-MODIFIED:20230609T030444Z
UID:40387-1718172000-1718172000@www.shellybeachgolfclub.com.au
SUMMARY:Qualifying for District Charity Day
DESCRIPTION:
URL:https://www.shellybeachgolfclub.com.au/golf-program/qualifying-for-district-charity-day-2/
LOCATION:SBGC
CATEGORIES:Ladies Events
END:VEVENT
BEGIN:VEVENT
DTSTART;TZID=Australia/Sydney:20240617T060000
DTEND;TZID=Australia/Sydney:20240617T060000
DTSTAMP:20260422T003528
CREATED:20240314T035651Z
LAST-MODIFIED:20240314T035717Z
UID:51275-1718604000-1718604000@www.shellybeachgolfclub.com.au
SUMMARY:CCWGA Pennants at Gosford
DESCRIPTION:
URL:https://www.shellybeachgolfclub.com.au/golf-program/ccwga-pennants-at-gosford/
CATEGORIES:Ladies Events
END:VEVENT
BEGIN:VEVENT
DTSTART;TZID=Australia/Sydney:20240619T060000
DTEND;TZID=Australia/Sydney:20240619T060000
DTSTAMP:20260422T003528
CREATED:20230609T021907Z
LAST-MODIFIED:20240517T012416Z
UID:40314-1718776800-1718776800@www.shellybeachgolfclub.com.au
SUMMARY:Foursomes Championships
DESCRIPTION:27 holes (Red Tees)\nDiv 1 ( Daily 0 – 26) 10th tee.\nDiv 2 (Daily 27 +) 1st tee
URL:https://www.shellybeachgolfclub.com.au/golf-program/foursomes-championships-2/
LOCATION:SBGC
CATEGORIES:Ladies Events
END:VEVENT
BEGIN:VEVENT
DTSTART;TZID=Australia/Sydney:20240626T060000
DTEND;TZID=Australia/Sydney:20240626T060000
DTSTAMP:20260422T003528
CREATED:20230609T035301Z
LAST-MODIFIED:20230609T035312Z
UID:40431-1719381600-1719381600@www.shellybeachgolfclub.com.au
SUMMARY:4BBB Stableford Progressive No. 2 plus Qualifying for 4BBB Knockout
DESCRIPTION:(Pink Tees)
URL:https://www.shellybeachgolfclub.com.au/golf-program/4bbb-stableford-progressive-no-2-plus-qualifying-for-4bbb-knockout-2/
LOCATION:SBGC
CATEGORIES:Ladies Events
END:VEVENT
END:VCALENDAR