BEGIN:VCALENDAR
VERSION:2.0
PRODID:-//Shelly Beach Golf Club - ECPv6.15.18//NONSGML v1.0//EN
CALSCALE:GREGORIAN
METHOD:PUBLISH
X-WR-CALNAME:Shelly Beach Golf Club
X-ORIGINAL-URL:https://www.shellybeachgolfclub.com.au
X-WR-CALDESC:Events for Shelly Beach Golf Club
REFRESH-INTERVAL;VALUE=DURATION:PT1H
X-Robots-Tag:noindex
X-PUBLISHED-TTL:PT1H
BEGIN:VTIMEZONE
TZID:Australia/Sydney
BEGIN:STANDARD
TZOFFSETFROM:+1100
TZOFFSETTO:+1000
TZNAME:AEST
DTSTART:20230401T160000
END:STANDARD
BEGIN:DAYLIGHT
TZOFFSETFROM:+1000
TZOFFSETTO:+1100
TZNAME:AEDT
DTSTART:20230930T160000
END:DAYLIGHT
BEGIN:STANDARD
TZOFFSETFROM:+1100
TZOFFSETTO:+1000
TZNAME:AEST
DTSTART:20240406T160000
END:STANDARD
BEGIN:DAYLIGHT
TZOFFSETFROM:+1000
TZOFFSETTO:+1100
TZNAME:AEDT
DTSTART:20241005T160000
END:DAYLIGHT
BEGIN:STANDARD
TZOFFSETFROM:+1100
TZOFFSETTO:+1000
TZNAME:AEST
DTSTART:20250405T160000
END:STANDARD
BEGIN:DAYLIGHT
TZOFFSETFROM:+1000
TZOFFSETTO:+1100
TZNAME:AEDT
DTSTART:20251004T160000
END:DAYLIGHT
END:VTIMEZONE
BEGIN:VEVENT
DTSTART;TZID=Australia/Sydney:20240501T060000
DTEND;TZID=Australia/Sydney:20240501T060000
DTSTAMP:20260422T021016
CREATED:20230609T014446Z
LAST-MODIFIED:20230609T015421Z
UID:40251-1714543200-1714543200@www.shellybeachgolfclub.com.au
SUMMARY:Golf NSW Medal No 4. Mabel Mackenzie Brooch
DESCRIPTION:(Red Tees)
URL:https://www.shellybeachgolfclub.com.au/golf-program/golf-nsw-medal-no-4-mabel-mackenzie-brooch-2/
LOCATION:SBGC
CATEGORIES:Ladies Events
END:VEVENT
BEGIN:VEVENT
DTSTART;TZID=Australia/Sydney:20240504T060000
DTEND;TZID=Australia/Sydney:20240504T060000
DTSTAMP:20260422T021016
CREATED:20230609T015133Z
LAST-MODIFIED:20230609T015540Z
UID:40261-1714802400-1714802400@www.shellybeachgolfclub.com.au
SUMMARY:Women's Monthly Goblet & Medal
DESCRIPTION:(Red Tees)
URL:https://www.shellybeachgolfclub.com.au/golf-program/womens-monthly-goblet-medal-14/
LOCATION:SBGC
CATEGORIES:Ladies Events
END:VEVENT
BEGIN:VEVENT
DTSTART;TZID=Australia/Sydney:20240506T060000
DTEND;TZID=Australia/Sydney:20240506T060000
DTSTAMP:20260422T021016
CREATED:20240313T050358Z
LAST-MODIFIED:20240313T050412Z
UID:51237-1714975200-1714975200@www.shellybeachgolfclub.com.au
SUMMARY:CCWGA Pennants at Wyong
DESCRIPTION:
URL:https://www.shellybeachgolfclub.com.au/golf-program/ccwga-pennants-at-wyong/
CATEGORIES:Ladies Events
END:VEVENT
BEGIN:VEVENT
DTSTART;TZID=Australia/Sydney:20240508T060000
DTEND;TZID=Australia/Sydney:20240508T060000
DTSTAMP:20260422T021016
CREATED:20230609T015806Z
LAST-MODIFIED:20230609T015815Z
UID:40272-1715148000-1715148000@www.shellybeachgolfclub.com.au
SUMMARY:Women's Individual Stableford
DESCRIPTION:(Pink Tees)
URL:https://www.shellybeachgolfclub.com.au/golf-program/womens-individual-stableford-21/
LOCATION:SBGC
CATEGORIES:Ladies Events
END:VEVENT
BEGIN:VEVENT
DTSTART;TZID=Australia/Sydney:20240513T060000
DTEND;TZID=Australia/Sydney:20240513T060000
DTSTAMP:20260422T021016
CREATED:20240313T050502Z
LAST-MODIFIED:20240313T050530Z
UID:51239-1715580000-1715580000@www.shellybeachgolfclub.com.au
SUMMARY:CCWGA Pennants at Everglades
DESCRIPTION:
URL:https://www.shellybeachgolfclub.com.au/golf-program/ccwga-pennants-at-everglades/
CATEGORIES:Ladies Events
END:VEVENT
BEGIN:VEVENT
DTSTART;TZID=Australia/Sydney:20240515T060000
DTEND;TZID=Australia/Sydney:20240515T060000
DTSTAMP:20260422T021016
CREATED:20230609T021056Z
LAST-MODIFIED:20230609T021114Z
UID:40297-1715752800-1715752800@www.shellybeachgolfclub.com.au
SUMMARY:Individual Stableford. District Brooch No 4
DESCRIPTION:(Pink Tees)
URL:https://www.shellybeachgolfclub.com.au/golf-program/individual-stableford-district-brooch-no-4-2/
LOCATION:SBGC
CATEGORIES:Ladies Events
END:VEVENT
BEGIN:VEVENT
DTSTART;TZID=Australia/Sydney:20240515T060000
DTEND;TZID=Australia/Sydney:20240515T060000
DTSTAMP:20260422T021016
CREATED:20240313T051059Z
LAST-MODIFIED:20240313T051113Z
UID:51245-1715752800-1715752800@www.shellybeachgolfclub.com.au
SUMMARY:Entries open for Women's PGA Scramble
DESCRIPTION:
URL:https://www.shellybeachgolfclub.com.au/golf-program/entries-open-for-womens-pga-scramble/
CATEGORIES:Ladies Events
END:VEVENT
BEGIN:VEVENT
DTSTART;TZID=Australia/Sydney:20240519T060000
DTEND;TZID=Australia/Sydney:20240519T060000
DTSTAMP:20260422T021016
CREATED:20230609T015244Z
LAST-MODIFIED:20240308T032828Z
UID:40265-1716098400-1716098400@www.shellybeachgolfclub.com.au
SUMMARY:Women's Individual Stableford
DESCRIPTION:
URL:https://www.shellybeachgolfclub.com.au/golf-program/womens-individual-stableford-20/
LOCATION:SBGC
CATEGORIES:Ladies Events
END:VEVENT
BEGIN:VEVENT
DTSTART;TZID=Australia/Sydney:20240522T060000
DTEND;TZID=Australia/Sydney:20240522T060000
DTSTAMP:20260422T021016
CREATED:20230609T032340Z
LAST-MODIFIED:20240517T012954Z
UID:40408-1716357600-1716357600@www.shellybeachgolfclub.com.au
SUMMARY:Individual Stableford
DESCRIPTION:(Pink Tees)
URL:https://www.shellybeachgolfclub.com.au/golf-program/individual-stableford/
LOCATION:SBGC
CATEGORIES:Ladies Events
END:VEVENT
BEGIN:VEVENT
DTSTART;TZID=Australia/Sydney:20240527T060000
DTEND;TZID=Australia/Sydney:20240527T060000
DTSTAMP:20260422T021016
CREATED:20240313T050731Z
LAST-MODIFIED:20240313T050748Z
UID:51243-1716789600-1716789600@www.shellybeachgolfclub.com.au
SUMMARY:CCWGA Pennants at Magenta
DESCRIPTION:
URL:https://www.shellybeachgolfclub.com.au/golf-program/ccwga-pennants-at-magenta/
CATEGORIES:Ladies Events
END:VEVENT
BEGIN:VEVENT
DTSTART;TZID=Australia/Sydney:20240529T080000
DTEND;TZID=Australia/Sydney:20240529T080000
DTSTAMP:20260422T021016
CREATED:20230609T022653Z
LAST-MODIFIED:20230609T022701Z
UID:40334-1716969600-1716969600@www.shellybeachgolfclub.com.au
SUMMARY:Women's Charity Day
DESCRIPTION:4 Person Team Event.\nshotgun start 7.30 for 8:00am.\n(Pink Tees).
URL:https://www.shellybeachgolfclub.com.au/golf-program/womens-charity-day/
LOCATION:SBGC
CATEGORIES:Ladies Events
END:VEVENT
END:VCALENDAR