BEGIN:VCALENDAR
VERSION:2.0
PRODID:-//Shelly Beach Golf Club - ECPv6.15.18//NONSGML v1.0//EN
CALSCALE:GREGORIAN
METHOD:PUBLISH
X-ORIGINAL-URL:https://www.shellybeachgolfclub.com.au
X-WR-CALDESC:Events for Shelly Beach Golf Club
REFRESH-INTERVAL;VALUE=DURATION:PT1H
X-Robots-Tag:noindex
X-PUBLISHED-TTL:PT1H
BEGIN:VTIMEZONE
TZID:Australia/Sydney
BEGIN:STANDARD
TZOFFSETFROM:+1100
TZOFFSETTO:+1000
TZNAME:AEST
DTSTART:20220402T160000
END:STANDARD
BEGIN:DAYLIGHT
TZOFFSETFROM:+1000
TZOFFSETTO:+1100
TZNAME:AEDT
DTSTART:20221001T160000
END:DAYLIGHT
BEGIN:STANDARD
TZOFFSETFROM:+1100
TZOFFSETTO:+1000
TZNAME:AEST
DTSTART:20230401T160000
END:STANDARD
BEGIN:DAYLIGHT
TZOFFSETFROM:+1000
TZOFFSETTO:+1100
TZNAME:AEDT
DTSTART:20230930T160000
END:DAYLIGHT
BEGIN:STANDARD
TZOFFSETFROM:+1100
TZOFFSETTO:+1000
TZNAME:AEST
DTSTART:20240406T160000
END:STANDARD
BEGIN:DAYLIGHT
TZOFFSETFROM:+1000
TZOFFSETTO:+1100
TZNAME:AEDT
DTSTART:20241005T160000
END:DAYLIGHT
END:VTIMEZONE
BEGIN:VEVENT
DTSTART;TZID=Australia/Sydney:20230902T060000
DTEND;TZID=Australia/Sydney:20230902T060000
DTSTAMP:20260422T165003
CREATED:20230303T005305Z
LAST-MODIFIED:20230303T005313Z
UID:36870-1693634400-1693634400@www.shellybeachgolfclub.com.au
SUMMARY:Women’s Monthly Goblet & Medal
DESCRIPTION:(Red Tees)
URL:https://www.shellybeachgolfclub.com.au/golf-program/womens-monthly-goblet-medal-7/
LOCATION:SBGC
CATEGORIES:Ladies Events
END:VEVENT
BEGIN:VEVENT
DTSTART;TZID=Australia/Sydney:20230903T060000
DTEND;TZID=Australia/Sydney:20230903T060000
DTSTAMP:20260422T165003
CREATED:20230303T005611Z
LAST-MODIFIED:20230303T005631Z
UID:36876-1693720800-1693720800@www.shellybeachgolfclub.com.au
SUMMARY:Women’s Individual Stableford
DESCRIPTION:
URL:https://www.shellybeachgolfclub.com.au/golf-program/womens-individual-stableford-9/
LOCATION:SBGC
CATEGORIES:Ladies Events
END:VEVENT
BEGIN:VEVENT
DTSTART;TZID=Australia/Sydney:20230906T060000
DTEND;TZID=Australia/Sydney:20230906T060000
DTSTAMP:20260422T165003
CREATED:20230303T010032Z
LAST-MODIFIED:20230303T010040Z
UID:36882-1693980000-1693980000@www.shellybeachgolfclub.com.au
SUMMARY:Monthly Medal
DESCRIPTION:(Red tees)
URL:https://www.shellybeachgolfclub.com.au/golf-program/monthly-medal-2/
LOCATION:SBGC
CATEGORIES:Ladies Events
END:VEVENT
BEGIN:VEVENT
DTSTART;TZID=Australia/Sydney:20230913T060000
DTEND;TZID=Australia/Sydney:20230913T060000
DTSTAMP:20260422T165003
CREATED:20230303T010739Z
LAST-MODIFIED:20230303T010747Z
UID:36902-1694584800-1694584800@www.shellybeachgolfclub.com.au
SUMMARY:Individual Par
DESCRIPTION:(Pink Tees)
URL:https://www.shellybeachgolfclub.com.au/golf-program/individual-par-3/
LOCATION:SBGC
CATEGORIES:Ladies Events
END:VEVENT
BEGIN:VEVENT
DTSTART;TZID=Australia/Sydney:20230920T060000
DTEND;TZID=Australia/Sydney:20230920T060000
DTSTAMP:20260422T165003
CREATED:20230303T011749Z
LAST-MODIFIED:20230303T011756Z
UID:36922-1695189600-1695189600@www.shellybeachgolfclub.com.au
SUMMARY:Individual Stableford
DESCRIPTION:(Pink Tees)
URL:https://www.shellybeachgolfclub.com.au/golf-program/individual-stableford-5/
LOCATION:SBGC
CATEGORIES:Ladies Events
END:VEVENT
BEGIN:VEVENT
DTSTART;TZID=Australia/Sydney:20230927T060000
DTEND;TZID=Australia/Sydney:20230927T060000
DTSTAMP:20260422T165003
CREATED:20230303T012414Z
LAST-MODIFIED:20230303T012423Z
UID:36942-1695794400-1695794400@www.shellybeachgolfclub.com.au
SUMMARY:Women’s Club & Seniors Championships Round 1
DESCRIPTION:(Red Tees)
URL:https://www.shellybeachgolfclub.com.au/golf-program/womens-club-seniors-championships-round-1/
LOCATION:SBGC
CATEGORIES:Ladies Events
END:VEVENT
BEGIN:VEVENT
DTSTART;TZID=Australia/Sydney:20230930T060000
DTEND;TZID=Australia/Sydney:20230930T060000
DTSTAMP:20260422T165003
CREATED:20230303T013915Z
LAST-MODIFIED:20230303T013923Z
UID:36952-1696053600-1696053600@www.shellybeachgolfclub.com.au
SUMMARY:Women’s Monthly Goblet & Medal
DESCRIPTION:(Red Tees)
URL:https://www.shellybeachgolfclub.com.au/golf-program/womens-monthly-goblet-medal-8/
LOCATION:SBGC
CATEGORIES:Ladies Events
END:VEVENT
END:VCALENDAR