BEGIN:VCALENDAR
VERSION:2.0
PRODID:-//Shelly Beach Golf Club - ECPv6.15.18//NONSGML v1.0//EN
CALSCALE:GREGORIAN
METHOD:PUBLISH
X-WR-CALNAME:Shelly Beach Golf Club
X-ORIGINAL-URL:https://www.shellybeachgolfclub.com.au
X-WR-CALDESC:Events for Shelly Beach Golf Club
REFRESH-INTERVAL;VALUE=DURATION:PT1H
X-Robots-Tag:noindex
X-PUBLISHED-TTL:PT1H
BEGIN:VTIMEZONE
TZID:Australia/Sydney
BEGIN:STANDARD
TZOFFSETFROM:+1100
TZOFFSETTO:+1000
TZNAME:AEST
DTSTART:20220402T160000
END:STANDARD
BEGIN:DAYLIGHT
TZOFFSETFROM:+1000
TZOFFSETTO:+1100
TZNAME:AEDT
DTSTART:20221001T160000
END:DAYLIGHT
BEGIN:STANDARD
TZOFFSETFROM:+1100
TZOFFSETTO:+1000
TZNAME:AEST
DTSTART:20230401T160000
END:STANDARD
BEGIN:DAYLIGHT
TZOFFSETFROM:+1000
TZOFFSETTO:+1100
TZNAME:AEDT
DTSTART:20230930T160000
END:DAYLIGHT
BEGIN:STANDARD
TZOFFSETFROM:+1100
TZOFFSETTO:+1000
TZNAME:AEST
DTSTART:20240406T160000
END:STANDARD
BEGIN:DAYLIGHT
TZOFFSETFROM:+1000
TZOFFSETTO:+1100
TZNAME:AEDT
DTSTART:20241005T160000
END:DAYLIGHT
END:VTIMEZONE
BEGIN:VEVENT
DTSTART;TZID=Australia/Sydney:20230802T060000
DTEND;TZID=Australia/Sydney:20230802T060000
DTSTAMP:20260422T183214
CREATED:20230303T001141Z
LAST-MODIFIED:20230303T001157Z
UID:36770-1690956000-1690956000@www.shellybeachgolfclub.com.au
SUMMARY:Monthly Medal
DESCRIPTION:(Red Tees)
URL:https://www.shellybeachgolfclub.com.au/golf-program/monthly-medal/
LOCATION:SBGC
CATEGORIES:Ladies Events
END:VEVENT
BEGIN:VEVENT
DTSTART;TZID=Australia/Sydney:20230802T060000
DTEND;TZID=Australia/Sydney:20230802T060000
DTSTAMP:20260422T183214
CREATED:20230303T001233Z
LAST-MODIFIED:20230303T001244Z
UID:36772-1690956000-1690956000@www.shellybeachgolfclub.com.au
SUMMARY:Top Gal qualifying commences
DESCRIPTION:
URL:https://www.shellybeachgolfclub.com.au/golf-program/top-gal-qualifying-commences/
LOCATION:SBGC
CATEGORIES:Ladies Events
END:VEVENT
BEGIN:VEVENT
DTSTART;TZID=Australia/Sydney:20230805T060000
DTEND;TZID=Australia/Sydney:20230805T060000
DTSTAMP:20260422T183214
CREATED:20230303T001711Z
LAST-MODIFIED:20230303T001718Z
UID:36784-1691215200-1691215200@www.shellybeachgolfclub.com.au
SUMMARY:Women’s Monthly Goblet & Medal
DESCRIPTION:(Red Tees)
URL:https://www.shellybeachgolfclub.com.au/golf-program/womens-monthly-goblet-medal-6/
LOCATION:SBGC
CATEGORIES:Ladies Events
END:VEVENT
BEGIN:VEVENT
DTSTART;TZID=Australia/Sydney:20230806T060000
DTEND;TZID=Australia/Sydney:20230806T060000
DTSTAMP:20260422T183214
CREATED:20230303T001814Z
LAST-MODIFIED:20230303T001823Z
UID:36788-1691301600-1691301600@www.shellybeachgolfclub.com.au
SUMMARY:Women’s Individual Stableford
DESCRIPTION:
URL:https://www.shellybeachgolfclub.com.au/golf-program/womens-individual-stableford-8/
LOCATION:SBGC
CATEGORIES:Ladies Events
END:VEVENT
BEGIN:VEVENT
DTSTART;TZID=Australia/Sydney:20230807T060000
DTEND;TZID=Australia/Sydney:20230807T060000
DTSTAMP:20260422T183214
CREATED:20230303T001907Z
LAST-MODIFIED:20230303T001915Z
UID:36790-1691388000-1691388000@www.shellybeachgolfclub.com.au
SUMMARY:Blue Water Classic\, Blue Water Bowl and Long Markers Cup
DESCRIPTION:2 tee start from\n8:00am. (Red Tees)
URL:https://www.shellybeachgolfclub.com.au/golf-program/blue-water-classic-blue-water-bowl-and-long-markers-cup/
LOCATION:SBGC
CATEGORIES:Ladies Events
END:VEVENT
BEGIN:VEVENT
DTSTART;TZID=Australia/Sydney:20230809T060000
DTEND;TZID=Australia/Sydney:20230809T060000
DTSTAMP:20260422T183214
CREATED:20230303T002025Z
LAST-MODIFIED:20230303T002032Z
UID:36794-1691560800-1691560800@www.shellybeachgolfclub.com.au
SUMMARY:Individual Stableford
DESCRIPTION:(Pink Tees)
URL:https://www.shellybeachgolfclub.com.au/golf-program/individual-stableford-3/
LOCATION:SBGC
CATEGORIES:Ladies Events
END:VEVENT
BEGIN:VEVENT
DTSTART;TZID=Australia/Sydney:20230814T080000
DTEND;TZID=Australia/Sydney:20230814T080000
DTSTAMP:20260422T183214
CREATED:20230303T002407Z
LAST-MODIFIED:20230303T002420Z
UID:36806-1692000000-1692000000@www.shellybeachgolfclub.com.au
SUMMARY:CCWGA Charity Day
DESCRIPTION:2 tee start
URL:https://www.shellybeachgolfclub.com.au/golf-program/ccwga-charity-day/
LOCATION:SBGC
CATEGORIES:Ladies Events
END:VEVENT
BEGIN:VEVENT
DTSTART;TZID=Australia/Sydney:20230816T060000
DTEND;TZID=Australia/Sydney:20230816T060000
DTSTAMP:20260422T183214
CREATED:20230303T002600Z
LAST-MODIFIED:20230303T002607Z
UID:36810-1692165600-1692165600@www.shellybeachgolfclub.com.au
SUMMARY:Individual Par. Grand Mother’s Trophy
DESCRIPTION:(Pink Tees)
URL:https://www.shellybeachgolfclub.com.au/golf-program/individual-par-grand-mothers-trophy/
LOCATION:SBGC
CATEGORIES:Ladies Events
END:VEVENT
BEGIN:VEVENT
DTSTART;TZID=Australia/Sydney:20230823T060000
DTEND;TZID=Australia/Sydney:20230823T060000
DTSTAMP:20260422T183214
CREATED:20230303T003547Z
LAST-MODIFIED:20230303T003558Z
UID:36836-1692770400-1692770400@www.shellybeachgolfclub.com.au
SUMMARY:Women’s Individual Stableford 9 holes
DESCRIPTION:(Pink Tees)
URL:https://www.shellybeachgolfclub.com.au/golf-program/womens-individual-stableford-9-holes-2/
LOCATION:SBGC
CATEGORIES:Ladies Events
END:VEVENT
BEGIN:VEVENT
DTSTART;TZID=Australia/Sydney:20230830T060000
DTEND;TZID=Australia/Sydney:20230830T060000
DTSTAMP:20260422T183214
CREATED:20230303T004321Z
LAST-MODIFIED:20230303T004331Z
UID:36858-1693375200-1693375200@www.shellybeachgolfclub.com.au
SUMMARY:Individual Stableford
DESCRIPTION:
URL:https://www.shellybeachgolfclub.com.au/golf-program/individual-stableford-4/
LOCATION:SBGC
CATEGORIES:Ladies Events
END:VEVENT
BEGIN:VEVENT
DTSTART;TZID=Australia/Sydney:20230830T060000
DTEND;TZID=Australia/Sydney:20230830T060000
DTSTAMP:20260422T183214
CREATED:20230303T004352Z
LAST-MODIFIED:20230303T004401Z
UID:36860-1693375200-1693375200@www.shellybeachgolfclub.com.au
SUMMARY:Choose Your Tee Day
DESCRIPTION:
URL:https://www.shellybeachgolfclub.com.au/golf-program/choose-your-tee-day-8/
LOCATION:SBGC
CATEGORIES:Ladies Events
END:VEVENT
END:VCALENDAR