BEGIN:VCALENDAR
VERSION:2.0
PRODID:-//Shelly Beach Golf Club - ECPv6.15.18//NONSGML v1.0//EN
CALSCALE:GREGORIAN
METHOD:PUBLISH
X-ORIGINAL-URL:https://www.shellybeachgolfclub.com.au
X-WR-CALDESC:Events for Shelly Beach Golf Club
REFRESH-INTERVAL;VALUE=DURATION:PT1H
X-Robots-Tag:noindex
X-PUBLISHED-TTL:PT1H
BEGIN:VTIMEZONE
TZID:Australia/Sydney
BEGIN:STANDARD
TZOFFSETFROM:+1100
TZOFFSETTO:+1000
TZNAME:AEST
DTSTART:20220402T160000
END:STANDARD
BEGIN:DAYLIGHT
TZOFFSETFROM:+1000
TZOFFSETTO:+1100
TZNAME:AEDT
DTSTART:20221001T160000
END:DAYLIGHT
BEGIN:STANDARD
TZOFFSETFROM:+1100
TZOFFSETTO:+1000
TZNAME:AEST
DTSTART:20230401T160000
END:STANDARD
BEGIN:DAYLIGHT
TZOFFSETFROM:+1000
TZOFFSETTO:+1100
TZNAME:AEDT
DTSTART:20230930T160000
END:DAYLIGHT
BEGIN:STANDARD
TZOFFSETFROM:+1100
TZOFFSETTO:+1000
TZNAME:AEST
DTSTART:20240406T160000
END:STANDARD
BEGIN:DAYLIGHT
TZOFFSETFROM:+1000
TZOFFSETTO:+1100
TZNAME:AEDT
DTSTART:20241005T160000
END:DAYLIGHT
END:VTIMEZONE
BEGIN:VEVENT
DTSTART;TZID=Australia/Sydney:20230401T060000
DTEND;TZID=Australia/Sydney:20230401T060000
DTSTAMP:20260425T004214
CREATED:20230302T034734Z
LAST-MODIFIED:20230302T034748Z
UID:36407-1680328800-1680328800@www.shellybeachgolfclub.com.au
SUMMARY:Women’s Monthly Goblet & Medal
DESCRIPTION:(Red Tees)
URL:https://www.shellybeachgolfclub.com.au/golf-program/womens-monthly-goblet-medal-2/
LOCATION:SBGC
CATEGORIES:Ladies Events
END:VEVENT
BEGIN:VEVENT
DTSTART;TZID=Australia/Sydney:20230402T060000
DTEND;TZID=Australia/Sydney:20230402T060000
DTSTAMP:20260425T004214
CREATED:20230302T034922Z
LAST-MODIFIED:20230302T034931Z
UID:36411-1680415200-1680415200@www.shellybeachgolfclub.com.au
SUMMARY:Women’s Individual Stableford
DESCRIPTION:
URL:https://www.shellybeachgolfclub.com.au/golf-program/womens-individual-stableford-2/
LOCATION:SBGC
CATEGORIES:Ladies Events
END:VEVENT
BEGIN:VEVENT
DTSTART;TZID=Australia/Sydney:20230405T060000
DTEND;TZID=Australia/Sydney:20230405T060000
DTSTAMP:20260425T004214
CREATED:20230302T035157Z
LAST-MODIFIED:20230302T035207Z
UID:36418-1680674400-1680674400@www.shellybeachgolfclub.com.au
SUMMARY:Golf NSW Medal No 3. VGA Challenge Brooch
DESCRIPTION:(Red Tees)
URL:https://www.shellybeachgolfclub.com.au/golf-program/golf-nsw-medal-no-3-vga-challenge-brooch/
LOCATION:SBGC
CATEGORIES:Ladies Events
END:VEVENT
BEGIN:VEVENT
DTSTART;TZID=Australia/Sydney:20230412T060000
DTEND;TZID=Australia/Sydney:20230412T060000
DTSTAMP:20260425T004214
CREATED:20230302T035750Z
LAST-MODIFIED:20230302T035807Z
UID:36434-1681279200-1681279200@www.shellybeachgolfclub.com.au
SUMMARY:Individual Stableford. District Brooch No 3
DESCRIPTION:(Pink Tees)
URL:https://www.shellybeachgolfclub.com.au/golf-program/individual-stableford-district-brooch-no-3/
LOCATION:SBGC
CATEGORIES:Ladies Events
END:VEVENT
BEGIN:VEVENT
DTSTART;TZID=Australia/Sydney:20230419T060000
DTEND;TZID=Australia/Sydney:20230419T060000
DTSTAMP:20260425T004214
CREATED:20230302T040517Z
LAST-MODIFIED:20230302T040527Z
UID:36457-1681884000-1681884000@www.shellybeachgolfclub.com.au
SUMMARY:Women’s Individual Par
DESCRIPTION:(Pink Tees)
URL:https://www.shellybeachgolfclub.com.au/golf-program/womens-individual-par/
LOCATION:SBGC
CATEGORIES:Ladies Events
END:VEVENT
BEGIN:VEVENT
DTSTART;TZID=Australia/Sydney:20230426T060000
DTEND;TZID=Australia/Sydney:20230426T060000
DTSTAMP:20260425T004214
CREATED:20230302T041704Z
LAST-MODIFIED:20230329T055025Z
UID:36479-1682488800-1682488800@www.shellybeachgolfclub.com.au
SUMMARY:Choose Your TEE Day
DESCRIPTION:Gold\, Pink and White Courses.\nGrades to be even.
URL:https://www.shellybeachgolfclub.com.au/golf-program/choose-your-tee-day-2/
LOCATION:SBGC
CATEGORIES:Ladies Events
END:VEVENT
BEGIN:VEVENT
DTSTART;TZID=Australia/Sydney:20230426T060000
DTEND;TZID=Australia/Sydney:20230426T060000
DTSTAMP:20260425T004214
CREATED:20230302T041634Z
LAST-MODIFIED:20230302T041642Z
UID:36477-1682488800-1682488800@www.shellybeachgolfclub.com.au
SUMMARY:Women’s Individual Stableford
DESCRIPTION:
URL:https://www.shellybeachgolfclub.com.au/golf-program/womens-individual-stableford-3/
LOCATION:SBGC
CATEGORIES:Ladies Events
END:VEVENT
END:VCALENDAR